BEGIN:VCALENDAR
VERSION:2.0
PRODID:-//134.96.226.213//NONSGML kigkonsult.se iCalcreator 2.41.92//
CALSCALE:GREGORIAN
METHOD:PUBLISH
UID:66663134-3937-4334-a266-363433383734
X-WR-CALNAME:Mathematik für Informatiker*innen I / Mathematics for Computer
  Scientists I Calendar
X-WR-CALDESC:Events of the lecture Mathematik für Informatiker*innen I / Ma
 thematics for Computer Scientists I
X-WR-TIMEZONE:Europe/Berlin
BEGIN:VEVENT
UID:61313430-3162-4231-a662-306636383162
DTSTAMP:20260425T154055Z
DESCRIPTION:Nähere Informationen finden Sie auf der Seite 'Übungen / Tutori
 als' im Abschnitt 'Fragestunde / Repetitorium'.\n-------------------------
 \nFurther information can be found on the page 'Übungen / Tutorials' in th
 e section 'Question time / Revision course'.
DTSTART:20251024T121500Z
DTEND:20251024T134500Z
LOCATION:Hörsaal III\, Gebäude E2 5 / Lecture hall III\, building E2 5
SUMMARY:Fragestunde / Question time
END:VEVENT
BEGIN:VEVENT
UID:36393633-3161-4538-a364-363734373330
DTSTAMP:20260425T154055Z
DESCRIPTION:Nähere Informationen finden Sie auf der Seite 'Übungen / Tutori
 als' im Abschnitt 'Fragestunde / Repetitorium'.\n-------------------------
 \nFurther information can be found on the page 'Übungen / Tutorials' in th
 e section 'Question time / Revision course'.
DTSTART:20251031T131500Z
DTEND:20251031T144500Z
LOCATION:Hörsaal III\, Gebäude E2 5 / Lecture hall III\, building E2 5
SUMMARY:Fragestunde / Question time
END:VEVENT
BEGIN:VEVENT
UID:32616236-6135-4462-a634-363032313062
DTSTAMP:20260425T154055Z
DESCRIPTION:Nähere Informationen finden Sie auf der Seite 'Übungen / Tutori
 als' im Abschnitt 'Fragestunde / Repetitorium'.\n-------------------------
 \nFurther information can be found on the page 'Übungen / Tutorials' in th
 e section 'Question time / Revision course'.
DTSTART:20251107T131500Z
DTEND:20251107T144500Z
LOCATION:Hörsaal III\, Gebäude E2 5 / Lecture hall III\, building E2 5
SUMMARY:Fragestunde / Question time
END:VEVENT
BEGIN:VEVENT
UID:39306466-3465-4139-b434-346339353563
DTSTAMP:20260425T154055Z
DESCRIPTION:Nähere Informationen finden Sie auf der Seite 'Übungen / Tutori
 als' im Abschnitt 'Fragestunde / Repetitorium'.\n-------------------------
 \nFurther information can be found on the page 'Übungen / Tutorials' in th
 e section 'Question time / Revision course'.
DTSTART:20251114T131500Z
DTEND:20251114T144500Z
LOCATION:Hörsaal III\, Gebäude E2 5 / Lecture hall III\, building E2 5
SUMMARY:Fragestunde / Question time
END:VEVENT
BEGIN:VEVENT
UID:33383361-6338-4436-b035-303431313033
DTSTAMP:20260425T154055Z
DESCRIPTION:Nähere Informationen finden Sie auf der Seite 'Übungen / Tutori
 als' im Abschnitt 'Fragestunde / Repetitorium'.\n-------------------------
 \nFurther information can be found on the page 'Übungen / Tutorials' in th
 e section 'Question time / Revision course'.
DTSTART:20251121T131500Z
DTEND:20251121T144500Z
LOCATION:Hörsaal III\, Gebäude E2 5 / Lecture hall III\, building E2 5
SUMMARY:Fragestunde / Question time
END:VEVENT
BEGIN:VEVENT
UID:31316365-3033-4463-b433-646165663033
DTSTAMP:20260425T154055Z
DESCRIPTION:Nähere Informationen finden Sie auf der Seite 'Übungen / Tutori
 als' im Abschnitt 'Fragestunde / Repetitorium'.\n-------------------------
 \nFurther information can be found on the page 'Übungen / Tutorials' in th
 e section 'Question time / Revision course'.
DTSTART:20251128T131500Z
DTEND:20251128T144500Z
LOCATION:Hörsaal III\, Gebäude E2 5 / Lecture hall III\, building E2 5
SUMMARY:Fragestunde / Question time
END:VEVENT
BEGIN:VEVENT
UID:64326130-3263-4465-a562-333765613731
DTSTAMP:20260425T154055Z
DESCRIPTION:Nähere Informationen finden Sie auf der Seite 'Übungen / Tutori
 als' im Abschnitt 'Fragestunde / Repetitorium'.\n-------------------------
 \nFurther information can be found on the page 'Übungen / Tutorials' in th
 e section 'Question time / Revision course'.
DTSTART:20251205T131500Z
DTEND:20251205T144500Z
LOCATION:Hörsaal III\, Gebäude E2 5 / Lecture hall III\, building E2 5
SUMMARY:Fragestunde / Question time
END:VEVENT
BEGIN:VEVENT
UID:62663534-3538-4931-b132-393236333164
DTSTAMP:20260425T154055Z
DESCRIPTION:
DTSTART:20251212T131500Z
DTEND:20251212T144500Z
LOCATION:Hörsaal III\, Gebäude E2 5 / Lecture hall III\, building E2 5
SUMMARY:Sprechstunde Prof. Groves / Question-and-answer session with Prof. 
 Groves
END:VEVENT
BEGIN:VEVENT
UID:35613134-3839-4736-a339-363436366664
DTSTAMP:20260425T154055Z
DESCRIPTION:Wenn Sie Ihre Klausur einsehen möchten\, melden Sie sich bitte 
 auf Ihrer persönlichen Statusseite für den von Ihnen gewünschten Termin ve
 rbindlich an. / In case that you want to inspect your exam\, please regist
 er bindingly on your personal status page for one of the slots at your pre
 ferred time.
DTSTART:20251219T130000Z
DTEND:20251219T143000Z
LOCATION:Hörsaal II\, Gebäude E2 5 / Lecture hall II\, building E2 5
SUMMARY:Einsicht Zwischenklausur Haupttermin / Inspection mid-term main exa
 m
END:VEVENT
BEGIN:VEVENT
UID:33326433-6139-4763-a164-633836313166
DTSTAMP:20260425T154055Z
DESCRIPTION:Nähere Informationen finden Sie auf der Seite 'Übungen / Tutori
 als' im Abschnitt 'Fragestunde / Repetitorium'.\n-------------------------
 \nFurther information can be found on the page 'Übungen / Tutorials' in th
 e section 'Question time / Revision course'.
DTSTART:20260109T131500Z
DTEND:20260109T144500Z
LOCATION:Hörsaal III\, Gebäude E2 5 / Lecture hall III\, building E2 5
SUMMARY:Fragestunde / Question time
END:VEVENT
BEGIN:VEVENT
UID:37326563-3932-4761-a662-623031356534
DTSTAMP:20260425T154055Z
DESCRIPTION:Wenn Sie Ihre Klausur einsehen möchten\, melden Sie sich bitte 
 auf Ihrer persönlichen Statusseite für den von Ihnen gewünschten Termin ve
 rbindlich an. / In case that you want to inspect your exam\, please regist
 er bindingly on your personal status page for one of the slots at your pre
 ferred time.
DTSTART:20260116T130000Z
DTEND:20260116T150000Z
LOCATION:Hörsaal II\, Gebäude E2 5 / Lecture hall II\, building E2 5
SUMMARY:Einsicht Zwischenklausur Nachtermin / Inspection mid-term retake ex
 am
END:VEVENT
BEGIN:VEVENT
UID:64653736-3264-4238-a632-646535383466
DTSTAMP:20260425T154055Z
DESCRIPTION:Nähere Informationen finden Sie auf der Seite 'Übungen / Tutori
 als' im Abschnitt 'Fragestunde / Repetitorium'.\n-------------------------
 \nFurther information can be found on the page 'Übungen / Tutorials' in th
 e section 'Question time / Revision course'.
DTSTART:20260123T131500Z
DTEND:20260123T144500Z
LOCATION:Hörsaal III\, Gebäude E2 5 / Lecture hall III\, building E2 5
SUMMARY:Fragestunde / Question time
END:VEVENT
BEGIN:VEVENT
UID:35633136-3533-4532-a632-323530653266
DTSTAMP:20260425T154055Z
DESCRIPTION:Nähere Informationen finden Sie auf der Seite 'Übungen / Tutori
 als' im Abschnitt 'Fragestunde / Repetitorium'.\n-------------------------
 \nFurther information can be found on the page 'Übungen / Tutorials' in th
 e section 'Question time / Revision course'.
DTSTART:20260130T131500Z
DTEND:20260130T144500Z
LOCATION:Hörsaal III\, Gebäude E2 5 / Lecture hall III\, building E2 5
SUMMARY:Fragestunde / Question time
END:VEVENT
BEGIN:VEVENT
UID:61313366-6662-4532-b263-366136376438
DTSTAMP:20260425T154055Z
DESCRIPTION:Nähere Informationen finden Sie auf der Seite 'Übungen / Tutori
 als' im Abschnitt 'Fragestunde / Repetitorium'.\n-------------------------
 \nFurther information can be found on the page 'Übungen / Tutorials' in th
 e section 'Question time / Revision course'.
DTSTART:20260206T131500Z
DTEND:20260206T144500Z
LOCATION:Hörsaal III\, Gebäude E2 5 / Lecture hall III\, building E2 5
SUMMARY:Fragestunde / Question time
END:VEVENT
BEGIN:VEVENT
UID:35366131-6665-4237-a538-363362646330
DTSTAMP:20260425T154055Z
DESCRIPTION:Wenn Sie Ihre Klausur einsehen möchten\, melden Sie sich bitte 
 auf Ihrer persönlichen Statusseite für den von Ihnen gewünschten Termin ve
 rbindlich an. / In case that you want to inspect your exam\, please regist
 er bindingly on your personal status page for one of the slots at your pre
 ferred time.
DTSTART:20260304T130000Z
DTEND:20260304T150000Z
LOCATION:Hörsaal 003\, Gebäude E1 3 / Lecture hall 003\, building E1 3
SUMMARY:Einsicht Abschlussklausur Haupttermin / Inspection end-term main ex
 am
END:VEVENT
BEGIN:VEVENT
UID:64333433-6562-4834-b963-633863306531
DTSTAMP:20260425T154055Z
DESCRIPTION:Wenn Sie Ihre Klausur einsehen möchten\, melden Sie sich bitte 
 auf Ihrer persönlichen Statusseite für den von Ihnen gewünschten Termin ve
 rbindlich an. / In case that you want to inspect your exam\, please regist
 er bindingly on your personal status page for one of the slots at your pre
 ferred time.
DTSTART:20260325T130000Z
DTEND:20260325T140000Z
LOCATION:Hörsaal III\, Gebäude E2 5 / Lecture hall III\, building E2 5
SUMMARY:Einsicht Abschlussklausur Nachtermin / Inspection end-term retake e
 xam
END:VEVENT
END:VCALENDAR
