BEGIN:VCALENDAR
VERSION:2.0
PRODID:-//134.96.226.213//NONSGML kigkonsult.se iCalcreator 2.41.92//
CALSCALE:GREGORIAN
METHOD:PUBLISH
UID:30653165-3839-4365-b234-633862333634
X-WR-CALNAME:Mathematik für Informatiker*innen I / Mathematics for Computer
  Scientists I Calendar
X-WR-CALDESC:Events of the lecture Mathematik für Informatiker*innen I / Ma
 thematics for Computer Scientists I
X-WR-TIMEZONE:Europe/Berlin
BEGIN:VEVENT
UID:64623930-3937-4334-a335-373562373933
DTSTAMP:20260425T154051Z
DESCRIPTION:
DTSTART;VALUE=DATE:20251003
DTEND;VALUE=DATE:20251004
SUMMARY:Mfi1: Feiertag / Public Holiday
END:VEVENT
BEGIN:VEVENT
UID:32343262-6136-4638-a162-396561376166
DTSTAMP:20260425T154051Z
DESCRIPTION:
DTSTART;VALUE=DATE:20251101
DTEND;VALUE=DATE:20251102
SUMMARY:Mfi1: Feiertag / Public Holiday
END:VEVENT
BEGIN:VEVENT
UID:30323463-3634-4163-b831-396336386639
DTSTAMP:20260425T154051Z
DESCRIPTION:
DTSTART;VALUE=DATE:20251222
DTEND;VALUE=DATE:20260103
SUMMARY:Mfi1: Vorlesungsfreie Zeit (Jahreswechsel) / Non-teaching period (e
 nd-of-year break)
END:VEVENT
END:VCALENDAR
