BEGIN:VCALENDAR
VERSION:2.0
PRODID:-//134.96.226.213//NONSGML kigkonsult.se iCalcreator 2.41.92//
CALSCALE:GREGORIAN
METHOD:PUBLISH
UID:33323936-6466-4665-a238-313431336631
X-WR-CALNAME:Mathematik für Informatiker*innen I / Mathematics for Computer
  Scientists I Calendar
X-WR-CALDESC:Events of the lecture Mathematik für Informatiker*innen I / Ma
 thematics for Computer Scientists I
X-WR-TIMEZONE:Europe/Berlin
BEGIN:VEVENT
UID:64336436-6230-4834-a232-663830313633
DTSTAMP:20260425T153907Z
DESCRIPTION:
DTSTART;VALUE=DATE:20251003
DTEND;VALUE=DATE:20251004
SUMMARY:Feiertag / Public Holiday
END:VEVENT
BEGIN:VEVENT
UID:36373338-6264-4066-b564-336636373363
DTSTAMP:20260425T153907Z
DESCRIPTION:
DTSTART;VALUE=DATE:20251101
DTEND;VALUE=DATE:20251102
SUMMARY:Feiertag / Public Holiday
END:VEVENT
BEGIN:VEVENT
UID:62623333-3464-4265-a537-646132393934
DTSTAMP:20260425T153907Z
DESCRIPTION:
DTSTART;VALUE=DATE:20251222
DTEND;VALUE=DATE:20260103
SUMMARY:Vorlesungsfreie Zeit (Jahreswechsel) / Non-teaching period (end-of-
 year break)
END:VEVENT
END:VCALENDAR
