BEGIN:VCALENDAR
VERSION:2.0
PRODID:-//134.96.226.213//NONSGML kigkonsult.se iCalcreator 2.41.92//
CALSCALE:GREGORIAN
METHOD:PUBLISH
UID:39333931-3538-4432-a564-636661653061
X-WR-CALNAME:Mathematik für Informatiker*innen I / Mathematics for Computer
  Scientists I Calendar
X-WR-CALDESC:Events of the lecture Mathematik für Informatiker*innen I / Ma
 thematics for Computer Scientists I
X-WR-TIMEZONE:Europe/Berlin
BEGIN:VEVENT
UID:61376635-3163-4064-a265-353338626466
DTSTAMP:20260425T154051Z
DESCRIPTION:
DTSTART:20251213T093000Z
DTEND:20251213T113000Z
SUMMARY:Mfi1: Zwischenklausur Haupttermin / Mid-term main exam
END:VEVENT
BEGIN:VEVENT
UID:66643534-6566-4765-a233-343964386239
DTSTAMP:20260425T154051Z
DESCRIPTION:
DTSTART:20260110T093000Z
DTEND:20260110T113000Z
SUMMARY:Mfi1: Zwischenklausur Nachtermin / Mid-term retake exam
END:VEVENT
BEGIN:VEVENT
UID:65333764-3566-4239-b363-653037633939
DTSTAMP:20260425T154051Z
DESCRIPTION:
DTSTART:20260226T093000Z
DTEND:20260226T113000Z
SUMMARY:Mfi1: Abschlussklausur Haupttermin / End-term main exam
END:VEVENT
BEGIN:VEVENT
UID:37353036-3437-4337-a132-303963336564
DTSTAMP:20260425T154051Z
DESCRIPTION:
DTSTART:20260320T093000Z
DTEND:20260320T113000Z
SUMMARY:Mfi1: Abschlussklausur Nachtermin / End-term retake exam
END:VEVENT
END:VCALENDAR
