BEGIN:VCALENDAR
VERSION:2.0
PRODID:-//134.96.226.213//NONSGML kigkonsult.se iCalcreator 2.41.92//
CALSCALE:GREGORIAN
METHOD:PUBLISH
UID:66366338-3530-4233-b732-666537326535
X-WR-CALNAME:Mathematik für Informatiker*innen I / Mathematics for Computer
  Scientists I Calendar
X-WR-CALDESC:Events of the lecture Mathematik für Informatiker*innen I / Ma
 thematics for Computer Scientists I
X-WR-TIMEZONE:Europe/Berlin
BEGIN:VEVENT
UID:63386361-6563-4733-b031-653865653931
DTSTAMP:20260425T170024Z
DESCRIPTION:
DTSTART:20251213T093000Z
DTEND:20251213T113000Z
SUMMARY:Zwischenklausur Haupttermin / Mid-term main exam
END:VEVENT
BEGIN:VEVENT
UID:65323564-3836-4563-b464-373138633131
DTSTAMP:20260425T170024Z
DESCRIPTION:
DTSTART:20260110T093000Z
DTEND:20260110T113000Z
SUMMARY:Zwischenklausur Nachtermin / Mid-term retake exam
END:VEVENT
BEGIN:VEVENT
UID:66326161-6535-4734-a361-633531333833
DTSTAMP:20260425T170024Z
DESCRIPTION:
DTSTART:20260226T093000Z
DTEND:20260226T113000Z
SUMMARY:Abschlussklausur Haupttermin / End-term main exam
END:VEVENT
BEGIN:VEVENT
UID:39616132-3935-4436-a161-383862396133
DTSTAMP:20260425T170024Z
DESCRIPTION:
DTSTART:20260320T093000Z
DTEND:20260320T113000Z
SUMMARY:Abschlussklausur Nachtermin / End-term retake exam
END:VEVENT
END:VCALENDAR
