BEGIN:VCALENDAR
VERSION:2.0
PRODID:-//134.96.226.213//NONSGML kigkonsult.se iCalcreator 2.41.92//
CALSCALE:GREGORIAN
METHOD:PUBLISH
UID:34646363-6433-4166-b639-323162336637
X-WR-CALNAME:Mathematik für Informatiker*innen I / Mathematics for Computer
  Scientists I Calendar
X-WR-CALDESC:Events of the lecture Mathematik für Informatiker*innen I / Ma
 thematics for Computer Scientists I
X-WR-TIMEZONE:Europe/Berlin
BEGIN:VEVENT
UID:39626161-6330-4733-b839-353436396232
DTSTAMP:20260425T170057Z
DESCRIPTION:
DTSTART:20251015T081500Z
DTEND:20251015T094500Z
SUMMARY:Mfi1: Vorlesung / Lecture
END:VEVENT
BEGIN:VEVENT
UID:30643133-3163-4431-b961-386664666237
DTSTAMP:20260425T170057Z
DESCRIPTION:
DTSTART:20251017T081500Z
DTEND:20251017T094500Z
SUMMARY:Mfi1: Vorlesung / Lecture
END:VEVENT
BEGIN:VEVENT
UID:62663431-3336-4431-b038-303866393765
DTSTAMP:20260425T170057Z
DESCRIPTION:
DTSTART:20251022T081500Z
DTEND:20251022T094500Z
SUMMARY:Mfi1: Vorlesung / Lecture
END:VEVENT
BEGIN:VEVENT
UID:31633736-6630-4438-b732-343463336430
DTSTAMP:20260425T170057Z
DESCRIPTION:
DTSTART:20251024T081500Z
DTEND:20251024T094500Z
SUMMARY:Mfi1: Vorlesung / Lecture
END:VEVENT
BEGIN:VEVENT
UID:63663366-3865-4661-a335-626633643736
DTSTAMP:20260425T170057Z
DESCRIPTION:
DTSTART:20251029T091500Z
DTEND:20251029T104500Z
SUMMARY:Mfi1: Vorlesung / Lecture
END:VEVENT
BEGIN:VEVENT
UID:37353439-3331-4062-b037-313436336538
DTSTAMP:20260425T170057Z
DESCRIPTION:
DTSTART:20251031T091500Z
DTEND:20251031T104500Z
SUMMARY:Mfi1: Vorlesung / Lecture
END:VEVENT
BEGIN:VEVENT
UID:61663961-6665-4837-a539-326565636132
DTSTAMP:20260425T170057Z
DESCRIPTION:
DTSTART:20251105T091500Z
DTEND:20251105T104500Z
SUMMARY:Mfi1: Vorlesung / Lecture
END:VEVENT
BEGIN:VEVENT
UID:65653430-3138-4034-b538-323566616365
DTSTAMP:20260425T170057Z
DESCRIPTION:
DTSTART:20251107T091500Z
DTEND:20251107T104500Z
SUMMARY:Mfi1: Vorlesung / Lecture
END:VEVENT
BEGIN:VEVENT
UID:38643036-3236-4439-b263-383137356233
DTSTAMP:20260425T170057Z
DESCRIPTION:
DTSTART:20251112T091500Z
DTEND:20251112T104500Z
SUMMARY:Mfi1: Vorlesung / Lecture
END:VEVENT
BEGIN:VEVENT
UID:39346632-3139-4634-b762-383561366234
DTSTAMP:20260425T170057Z
DESCRIPTION:
DTSTART:20251114T091500Z
DTEND:20251114T104500Z
SUMMARY:Mfi1: Vorlesung / Lecture
END:VEVENT
BEGIN:VEVENT
UID:37356135-6134-4133-b261-656665666234
DTSTAMP:20260425T170057Z
DESCRIPTION:
DTSTART:20251119T091500Z
DTEND:20251119T104500Z
SUMMARY:Mfi1: Vorlesung / Lecture
END:VEVENT
BEGIN:VEVENT
UID:32313538-3763-4066-b263-623233353330
DTSTAMP:20260425T170057Z
DESCRIPTION:
DTSTART:20251121T091500Z
DTEND:20251121T104500Z
SUMMARY:Mfi1: Vorlesung / Lecture
END:VEVENT
BEGIN:VEVENT
UID:64663933-6130-4239-b630-623733656539
DTSTAMP:20260425T170057Z
DESCRIPTION:
DTSTART:20251126T091500Z
DTEND:20251126T104500Z
SUMMARY:Mfi1: Vorlesung / Lecture
END:VEVENT
BEGIN:VEVENT
UID:63346139-3161-4432-b730-613966303030
DTSTAMP:20260425T170057Z
DESCRIPTION:
DTSTART:20251128T091500Z
DTEND:20251128T104500Z
SUMMARY:Mfi1: Vorlesung / Lecture
END:VEVENT
BEGIN:VEVENT
UID:32383964-3633-4236-b638-376337336331
DTSTAMP:20260425T170057Z
DESCRIPTION:
DTSTART:20251203T091500Z
DTEND:20251203T104500Z
SUMMARY:Mfi1: Vorlesung / Lecture
END:VEVENT
BEGIN:VEVENT
UID:63363036-6237-4134-a237-663463366532
DTSTAMP:20260425T170057Z
DESCRIPTION:
DTSTART:20251205T091500Z
DTEND:20251205T104500Z
SUMMARY:Mfi1: Vorlesung / Lecture
END:VEVENT
BEGIN:VEVENT
UID:61363933-3634-4335-a532-663962623131
DTSTAMP:20260425T170057Z
DESCRIPTION:
DTSTART:20251210T091500Z
DTEND:20251210T104500Z
SUMMARY:Mfi1: Vorlesung / Lecture
END:VEVENT
BEGIN:VEVENT
UID:64653333-6163-4466-b064-366338323463
DTSTAMP:20260425T170057Z
DESCRIPTION:
DTSTART:20251217T091500Z
DTEND:20251217T104500Z
SUMMARY:Mfi1: Vorlesung / Lecture
END:VEVENT
BEGIN:VEVENT
UID:66376535-3835-4866-b064-653761646462
DTSTAMP:20260425T170057Z
DESCRIPTION:
DTSTART:20260107T091500Z
DTEND:20260107T104500Z
SUMMARY:Mfi1: Vorlesung / Lecture
END:VEVENT
BEGIN:VEVENT
UID:34346435-3661-4663-b234-343766653437
DTSTAMP:20260425T170057Z
DESCRIPTION:
DTSTART:20260109T091500Z
DTEND:20260109T104500Z
SUMMARY:Mfi1: Vorlesung / Lecture
END:VEVENT
BEGIN:VEVENT
UID:34303638-3436-4135-b264-613764353936
DTSTAMP:20260425T170057Z
DESCRIPTION:
DTSTART:20260114T091500Z
DTEND:20260114T104500Z
SUMMARY:Mfi1: Vorlesung / Lecture
END:VEVENT
BEGIN:VEVENT
UID:34636339-3234-4030-a231-366431373561
DTSTAMP:20260425T170057Z
DESCRIPTION:
DTSTART:20260116T091500Z
DTEND:20260116T104500Z
SUMMARY:Mfi1: Vorlesung / Lecture
END:VEVENT
BEGIN:VEVENT
UID:65663432-6137-4864-a462-363861663638
DTSTAMP:20260425T170057Z
DESCRIPTION:
DTSTART:20260121T091500Z
DTEND:20260121T104500Z
SUMMARY:Mfi1: Vorlesung / Lecture
END:VEVENT
BEGIN:VEVENT
UID:65323535-3637-4633-b666-623630396332
DTSTAMP:20260425T170057Z
DESCRIPTION:
DTSTART:20260123T091500Z
DTEND:20260123T104500Z
SUMMARY:Mfi1: Vorlesung / Lecture
END:VEVENT
BEGIN:VEVENT
UID:30623431-6266-4438-b365-383431373034
DTSTAMP:20260425T170057Z
DESCRIPTION:
DTSTART:20260128T091500Z
DTEND:20260128T104500Z
SUMMARY:Mfi1: Vorlesung / Lecture
END:VEVENT
BEGIN:VEVENT
UID:31363630-3661-4038-b230-346131363830
DTSTAMP:20260425T170057Z
DESCRIPTION:
DTSTART:20260130T091500Z
DTEND:20260130T104500Z
LOCATION:Hörsaal II\, Gebäude E2 5 / Lecture hall II\, building E2 5
SUMMARY:Mfi1: Lecture (Dr. Mai)
END:VEVENT
BEGIN:VEVENT
UID:34393365-3039-4462-b966-623931336164
DTSTAMP:20260425T170057Z
DESCRIPTION:
DTSTART:20260204T091500Z
DTEND:20260204T104500Z
LOCATION:Günter-Hotz-Hörsaal\, Gebäude E2 2 / Günter-Hotz Lecture Theatre\,
  building E2 2
SUMMARY:Mfi1: Masterclass über Integralrechnung (Prof. Groves) / Master cla
 ss in integration (Prof. Groves)
END:VEVENT
BEGIN:VEVENT
UID:33636133-6338-4537-a331-326331353831
DTSTAMP:20260425T170057Z
DESCRIPTION:
DTSTART:20260206T091500Z
DTEND:20260206T104500Z
LOCATION:Günter-Hotz-Hörsaal\, Gebäude E2 2 / Günter-Hotz Lecture Theatre\,
  building E2 2
SUMMARY:Mfi1: Besprechung von Altklausuren (Dr. Mai) / Discussion of past e
 xamination papers (Dr. Mai)
END:VEVENT
END:VCALENDAR
