BEGIN:VCALENDAR
VERSION:2.0
PRODID:-//134.96.226.213//NONSGML kigkonsult.se iCalcreator 2.41.92//
CALSCALE:GREGORIAN
METHOD:PUBLISH
UID:31666433-6634-4463-a563-373538393633
X-WR-CALNAME:Mathematik für Informatiker*innen I / Mathematics for Computer
  Scientists I Calendar
X-WR-CALDESC:Events of the lecture Mathematik für Informatiker*innen I / Ma
 thematics for Computer Scientists I
X-WR-TIMEZONE:Europe/Berlin
BEGIN:VEVENT
UID:62646133-6539-4235-b533-633239336635
DTSTAMP:20260425T170141Z
DESCRIPTION:
DTSTART:20251015T081500Z
DTEND:20251015T094500Z
SUMMARY:Vorlesung / Lecture
END:VEVENT
BEGIN:VEVENT
UID:31306538-6636-4136-b965-366338646334
DTSTAMP:20260425T170141Z
DESCRIPTION:
DTSTART:20251017T081500Z
DTEND:20251017T094500Z
SUMMARY:Vorlesung / Lecture
END:VEVENT
BEGIN:VEVENT
UID:39396636-6138-4231-b336-323163366533
DTSTAMP:20260425T170141Z
DESCRIPTION:
DTSTART:20251022T081500Z
DTEND:20251022T094500Z
SUMMARY:Vorlesung / Lecture
END:VEVENT
BEGIN:VEVENT
UID:64383735-6137-4335-b039-393965356439
DTSTAMP:20260425T170141Z
DESCRIPTION:
DTSTART:20251024T081500Z
DTEND:20251024T094500Z
SUMMARY:Vorlesung / Lecture
END:VEVENT
BEGIN:VEVENT
UID:64653462-3035-4439-b238-656466653631
DTSTAMP:20260425T170141Z
DESCRIPTION:
DTSTART:20251029T091500Z
DTEND:20251029T104500Z
SUMMARY:Vorlesung / Lecture
END:VEVENT
BEGIN:VEVENT
UID:65393731-3264-4435-a439-386263643363
DTSTAMP:20260425T170141Z
DESCRIPTION:
DTSTART:20251031T091500Z
DTEND:20251031T104500Z
SUMMARY:Vorlesung / Lecture
END:VEVENT
BEGIN:VEVENT
UID:66303632-3934-4161-a131-656462363836
DTSTAMP:20260425T170141Z
DESCRIPTION:
DTSTART:20251105T091500Z
DTEND:20251105T104500Z
SUMMARY:Vorlesung / Lecture
END:VEVENT
BEGIN:VEVENT
UID:34306636-6135-4036-a161-363466613332
DTSTAMP:20260425T170141Z
DESCRIPTION:
DTSTART:20251107T091500Z
DTEND:20251107T104500Z
SUMMARY:Vorlesung / Lecture
END:VEVENT
BEGIN:VEVENT
UID:33646230-6630-4437-a162-613037346636
DTSTAMP:20260425T170141Z
DESCRIPTION:
DTSTART:20251112T091500Z
DTEND:20251112T104500Z
SUMMARY:Vorlesung / Lecture
END:VEVENT
BEGIN:VEVENT
UID:39353633-3166-4832-b530-623663343763
DTSTAMP:20260425T170141Z
DESCRIPTION:
DTSTART:20251114T091500Z
DTEND:20251114T104500Z
SUMMARY:Vorlesung / Lecture
END:VEVENT
BEGIN:VEVENT
UID:38313237-6439-4561-a361-366562643732
DTSTAMP:20260425T170141Z
DESCRIPTION:
DTSTART:20251119T091500Z
DTEND:20251119T104500Z
SUMMARY:Vorlesung / Lecture
END:VEVENT
BEGIN:VEVENT
UID:37313162-3039-4464-b462-643830663633
DTSTAMP:20260425T170141Z
DESCRIPTION:
DTSTART:20251121T091500Z
DTEND:20251121T104500Z
SUMMARY:Vorlesung / Lecture
END:VEVENT
BEGIN:VEVENT
UID:34323330-6563-4462-a535-623366333930
DTSTAMP:20260425T170141Z
DESCRIPTION:
DTSTART:20251126T091500Z
DTEND:20251126T104500Z
SUMMARY:Vorlesung / Lecture
END:VEVENT
BEGIN:VEVENT
UID:30303230-6663-4237-a166-626531333839
DTSTAMP:20260425T170141Z
DESCRIPTION:
DTSTART:20251128T091500Z
DTEND:20251128T104500Z
SUMMARY:Vorlesung / Lecture
END:VEVENT
BEGIN:VEVENT
UID:34343636-3739-4238-b136-343633306163
DTSTAMP:20260425T170141Z
DESCRIPTION:
DTSTART:20251203T091500Z
DTEND:20251203T104500Z
SUMMARY:Vorlesung / Lecture
END:VEVENT
BEGIN:VEVENT
UID:63313734-3962-4630-a462-356136343837
DTSTAMP:20260425T170141Z
DESCRIPTION:
DTSTART:20251205T091500Z
DTEND:20251205T104500Z
SUMMARY:Vorlesung / Lecture
END:VEVENT
BEGIN:VEVENT
UID:35626337-6532-4439-b833-396133643838
DTSTAMP:20260425T170141Z
DESCRIPTION:
DTSTART:20251210T091500Z
DTEND:20251210T104500Z
SUMMARY:Vorlesung / Lecture
END:VEVENT
BEGIN:VEVENT
UID:66343063-6230-4966-b934-613234663035
DTSTAMP:20260425T170141Z
DESCRIPTION:
DTSTART:20251217T091500Z
DTEND:20251217T104500Z
SUMMARY:Vorlesung / Lecture
END:VEVENT
BEGIN:VEVENT
UID:62636630-6163-4239-a335-663336646465
DTSTAMP:20260425T170141Z
DESCRIPTION:
DTSTART:20260107T091500Z
DTEND:20260107T104500Z
SUMMARY:Vorlesung / Lecture
END:VEVENT
BEGIN:VEVENT
UID:31386339-6162-4261-a132-363166323230
DTSTAMP:20260425T170141Z
DESCRIPTION:
DTSTART:20260109T091500Z
DTEND:20260109T104500Z
SUMMARY:Vorlesung / Lecture
END:VEVENT
BEGIN:VEVENT
UID:31616264-6338-4562-a433-303864396461
DTSTAMP:20260425T170141Z
DESCRIPTION:
DTSTART:20260114T091500Z
DTEND:20260114T104500Z
SUMMARY:Vorlesung / Lecture
END:VEVENT
BEGIN:VEVENT
UID:30393830-6235-4164-b535-366531353338
DTSTAMP:20260425T170141Z
DESCRIPTION:
DTSTART:20260116T091500Z
DTEND:20260116T104500Z
SUMMARY:Vorlesung / Lecture
END:VEVENT
BEGIN:VEVENT
UID:36373634-3764-4734-a333-326635363461
DTSTAMP:20260425T170141Z
DESCRIPTION:
DTSTART:20260121T091500Z
DTEND:20260121T104500Z
SUMMARY:Vorlesung / Lecture
END:VEVENT
BEGIN:VEVENT
UID:65383437-3965-4663-b563-653036386331
DTSTAMP:20260425T170141Z
DESCRIPTION:
DTSTART:20260123T091500Z
DTEND:20260123T104500Z
SUMMARY:Vorlesung / Lecture
END:VEVENT
BEGIN:VEVENT
UID:39613364-6532-4565-b963-646665376536
DTSTAMP:20260425T170141Z
DESCRIPTION:
DTSTART:20260128T091500Z
DTEND:20260128T104500Z
SUMMARY:Vorlesung / Lecture
END:VEVENT
BEGIN:VEVENT
UID:32303634-3133-4534-b766-636364313533
DTSTAMP:20260425T170141Z
DESCRIPTION:
DTSTART:20260130T091500Z
DTEND:20260130T104500Z
LOCATION:Hörsaal II\, Gebäude E2 5 / Lecture hall II\, building E2 5
SUMMARY:Lecture (Dr. Mai)
END:VEVENT
BEGIN:VEVENT
UID:66306564-3933-4535-b933-306533613363
DTSTAMP:20260425T170141Z
DESCRIPTION:
DTSTART:20260204T091500Z
DTEND:20260204T104500Z
LOCATION:Günter-Hotz-Hörsaal\, Gebäude E2 2 / Günter-Hotz Lecture Theatre\,
  building E2 2
SUMMARY:Masterclass über Integralrechnung (Prof. Groves) / Master class in 
 integration (Prof. Groves)
END:VEVENT
BEGIN:VEVENT
UID:61646539-3966-4436-a234-323732353338
DTSTAMP:20260425T170141Z
DESCRIPTION:
DTSTART:20260206T091500Z
DTEND:20260206T104500Z
LOCATION:Günter-Hotz-Hörsaal\, Gebäude E2 2 / Günter-Hotz Lecture Theatre\,
  building E2 2
SUMMARY:Besprechung von Altklausuren (Dr. Mai) / Discussion of past examina
 tion papers (Dr. Mai)
END:VEVENT
END:VCALENDAR
