BEGIN:VCALENDAR
VERSION:2.0
PRODID:-//134.96.226.213//NONSGML kigkonsult.se iCalcreator 2.41.92//
CALSCALE:GREGORIAN
METHOD:PUBLISH
UID:62393939-3534-4163-a139-663766353162
X-WR-CALNAME:Mathematics for Computer Scientists III Calendar
X-WR-CALDESC:Events of the lecture Mathematics for Computer Scientists III
X-WR-TIMEZONE:Europe/Berlin
BEGIN:VEVENT
UID:65623836-6665-4536-b265-383335666665
DTSTAMP:20260422T131434Z
DESCRIPTION:
DTSTART:20251015T063000Z
DTEND:20251015T080000Z
LOCATION:Günter Hotz Hörsaal (E2 2)
SUMMARY:Mfcs3: Lecture MfCS 3
END:VEVENT
BEGIN:VEVENT
UID:33373861-3031-4361-a234-303835326335
DTSTAMP:20260422T131434Z
DESCRIPTION:
DTSTART:20251017T101500Z
DTEND:20251017T114500Z
LOCATION:Günter Hotz Hörsaal (E2 2)
SUMMARY:Mfcs3: Lecture MfCS 3
END:VEVENT
BEGIN:VEVENT
UID:34353163-3735-4130-b639-646438373334
DTSTAMP:20260422T131434Z
DESCRIPTION:
DTSTART:20251022T063000Z
DTEND:20251022T080000Z
LOCATION:Günter Hotz Hörsaal (E2 2)
SUMMARY:Mfcs3: Lecture MfCS 3
END:VEVENT
BEGIN:VEVENT
UID:38333161-3932-4436-b265-356465383364
DTSTAMP:20260422T131434Z
DESCRIPTION:
DTSTART:20251024T101500Z
DTEND:20251024T114500Z
LOCATION:Günter Hotz Hörsaal (E2 2)
SUMMARY:Mfcs3: Lecture MfCS 3
END:VEVENT
BEGIN:VEVENT
UID:30353839-3961-4430-b437-666166626164
DTSTAMP:20260422T131434Z
DESCRIPTION:
DTSTART:20251029T073000Z
DTEND:20251029T090000Z
LOCATION:Günter Hotz Hörsaal (E2 2)
SUMMARY:Mfcs3: Lecture MfCS 3
END:VEVENT
BEGIN:VEVENT
UID:61373865-6337-4536-b236-613464373534
DTSTAMP:20260422T131434Z
DESCRIPTION:
DTSTART:20251031T111500Z
DTEND:20251031T124500Z
LOCATION:Günter Hotz Hörsaal (E2 2)
SUMMARY:Mfcs3: Lecture MfCS 3
END:VEVENT
BEGIN:VEVENT
UID:39373462-3634-4638-b533-316465373163
DTSTAMP:20260422T131434Z
DESCRIPTION:
DTSTART:20251105T073000Z
DTEND:20251105T090000Z
LOCATION:Günter Hotz Hörsaal (E2 2)
SUMMARY:Mfcs3: Lecture MfCS 3
END:VEVENT
BEGIN:VEVENT
UID:39653134-6464-4636-b531-383665303630
DTSTAMP:20260422T131434Z
DESCRIPTION:
DTSTART:20251107T111500Z
DTEND:20251107T124500Z
LOCATION:Günter Hotz Hörsaal (E2 2)
SUMMARY:Mfcs3: Lecture MfCS 3
END:VEVENT
BEGIN:VEVENT
UID:65383464-3064-4264-b136-363232656362
DTSTAMP:20260422T131434Z
DESCRIPTION:
DTSTART:20251112T073000Z
DTEND:20251112T090000Z
LOCATION:Günter Hotz Hörsaal (E2 2)
SUMMARY:Mfcs3: Lecture MfCS 3
END:VEVENT
BEGIN:VEVENT
UID:39613930-3261-4165-b138-633638613036
DTSTAMP:20260422T131434Z
DESCRIPTION:
DTSTART:20251114T111500Z
DTEND:20251114T124500Z
LOCATION:Günter Hotz Hörsaal (E2 2)
SUMMARY:Mfcs3: Lecture MfCS 3
END:VEVENT
BEGIN:VEVENT
UID:61376433-6132-4232-a165-323532363061
DTSTAMP:20260422T131434Z
DESCRIPTION:
DTSTART:20251119T073000Z
DTEND:20251119T090000Z
LOCATION:Günter Hotz Hörsaal (E2 2)
SUMMARY:Mfcs3: Lecture MfCS 3
END:VEVENT
BEGIN:VEVENT
UID:66336639-3930-4436-b364-633530666139
DTSTAMP:20260422T131434Z
DESCRIPTION:
DTSTART:20251121T111500Z
DTEND:20251121T124500Z
LOCATION:Günter Hotz Hörsaal (E2 2)
SUMMARY:Mfcs3: Lecture MfCS 3
END:VEVENT
BEGIN:VEVENT
UID:62393635-6234-4162-a664-303038366532
DTSTAMP:20260422T131434Z
DESCRIPTION:
DTSTART:20251126T073000Z
DTEND:20251126T090000Z
LOCATION:Günter Hotz Hörsaal (E2 2)
SUMMARY:Mfcs3: Lecture MfCS 3
END:VEVENT
BEGIN:VEVENT
UID:32396330-6365-4965-b463-633237663137
DTSTAMP:20260422T131434Z
DESCRIPTION:
DTSTART:20251128T111500Z
DTEND:20251128T124500Z
LOCATION:Günter Hotz Hörsaal (E2 2)
SUMMARY:Mfcs3: Lecture MfCS 3
END:VEVENT
BEGIN:VEVENT
UID:61313662-3462-4737-b566-353863356530
DTSTAMP:20260422T131434Z
DESCRIPTION:
DTSTART:20251203T073000Z
DTEND:20251203T090000Z
LOCATION:Günter Hotz Hörsaal (E2 2)
SUMMARY:Mfcs3: Lecture MfCS 3
END:VEVENT
BEGIN:VEVENT
UID:65636131-3734-4765-a161-623862343433
DTSTAMP:20260422T131434Z
DESCRIPTION:
DTSTART:20251205T111500Z
DTEND:20251205T124500Z
LOCATION:Günter Hotz Hörsaal (E2 2)
SUMMARY:Mfcs3: Lecture MfCS 3
END:VEVENT
BEGIN:VEVENT
UID:33633337-3364-4337-b030-623737396439
DTSTAMP:20260422T131434Z
DESCRIPTION:
DTSTART:20251210T073000Z
DTEND:20251210T090000Z
LOCATION:Günter Hotz Hörsaal (E2 2)
SUMMARY:Mfcs3: Lecture MfCS 3
END:VEVENT
BEGIN:VEVENT
UID:62306131-6335-4131-a639-323162363863
DTSTAMP:20260422T131434Z
DESCRIPTION:
DTSTART:20251212T111500Z
DTEND:20251212T124500Z
LOCATION:Günter Hotz Hörsaal (E2 2)
SUMMARY:Mfcs3: Lecture MfCS 3
END:VEVENT
BEGIN:VEVENT
UID:63363836-3366-4666-a637-373832343339
DTSTAMP:20260422T131434Z
DESCRIPTION:
DTSTART:20251217T073000Z
DTEND:20251217T090000Z
LOCATION:Günter Hotz Hörsaal (E2 2)
SUMMARY:Mfcs3: Lecture MfCS 3
END:VEVENT
BEGIN:VEVENT
UID:36333838-3433-4130-a532-313335656238
DTSTAMP:20260422T131434Z
DESCRIPTION:
DTSTART:20251219T111500Z
DTEND:20251219T124500Z
LOCATION:Günter Hotz Hörsaal (E2 2)
SUMMARY:Mfcs3: Lecture MfCS 3
END:VEVENT
BEGIN:VEVENT
UID:37346130-3438-4135-a138-393435323464
DTSTAMP:20260422T131434Z
DESCRIPTION:
DTSTART:20260107T073000Z
DTEND:20260107T090000Z
LOCATION:Günter Hotz Hörsaal (E2 2)
SUMMARY:Mfcs3: Lecture MfCS 3
END:VEVENT
BEGIN:VEVENT
UID:62313935-6631-4332-a563-316361313131
DTSTAMP:20260422T131434Z
DESCRIPTION:
DTSTART:20260109T111500Z
DTEND:20260109T124500Z
LOCATION:Günter Hotz Hörsaal (E2 2)
SUMMARY:Mfcs3: Lecture MfCS 3
END:VEVENT
BEGIN:VEVENT
UID:63346635-6536-4031-b061-636161623832
DTSTAMP:20260422T131434Z
DESCRIPTION:
DTSTART:20260114T073000Z
DTEND:20260114T090000Z
LOCATION:Günter Hotz Hörsaal (E2 2)
SUMMARY:Mfcs3: Lecture MfCS 3
END:VEVENT
BEGIN:VEVENT
UID:61363166-3037-4636-b231-613966316434
DTSTAMP:20260422T131434Z
DESCRIPTION:
DTSTART:20260116T111500Z
DTEND:20260116T124500Z
LOCATION:Günter Hotz Hörsaal (E2 2)
SUMMARY:Mfcs3: Lecture MfCS 3
END:VEVENT
BEGIN:VEVENT
UID:31646634-3431-4562-b931-616164343764
DTSTAMP:20260422T131434Z
DESCRIPTION:
DTSTART:20260121T073000Z
DTEND:20260121T090000Z
LOCATION:Günter Hotz Hörsaal (E2 2)
SUMMARY:Mfcs3: Lecture MfCS 3
END:VEVENT
BEGIN:VEVENT
UID:32653136-3064-4830-b930-653936373566
DTSTAMP:20260422T131434Z
DESCRIPTION:
DTSTART:20260123T111500Z
DTEND:20260123T124500Z
LOCATION:Günter Hotz Hörsaal (E2 2)
SUMMARY:Mfcs3: Lecture MfCS 3
END:VEVENT
BEGIN:VEVENT
UID:62346462-3434-4736-b736-613530623430
DTSTAMP:20260422T131434Z
DESCRIPTION:
DTSTART:20260128T073000Z
DTEND:20260128T090000Z
LOCATION:Günter Hotz Hörsaal (E2 2)
SUMMARY:Mfcs3: Lecture MfCS 3
END:VEVENT
BEGIN:VEVENT
UID:64666334-6438-4539-b337-306137306461
DTSTAMP:20260422T131434Z
DESCRIPTION:
DTSTART:20260130T111500Z
DTEND:20260130T124500Z
LOCATION:Günter Hotz Hörsaal (E2 2)
SUMMARY:Mfcs3: Lecture MfCS 3
END:VEVENT
BEGIN:VEVENT
UID:66666161-3530-4737-b166-663734336136
DTSTAMP:20260422T131434Z
DESCRIPTION:
DTSTART:20260204T073000Z
DTEND:20260204T090000Z
LOCATION:Günter Hotz Hörsaal (E2 2)
SUMMARY:Mfcs3: Lecture MfCS 3
END:VEVENT
BEGIN:VEVENT
UID:37616263-6230-4733-b637-393031306638
DTSTAMP:20260422T131434Z
DESCRIPTION:
DTSTART:20260206T111500Z
DTEND:20260206T124500Z
LOCATION:Günter Hotz Hörsaal (E2 2)
SUMMARY:Mfcs3: Lecture MfCS 3
END:VEVENT
END:VCALENDAR
