BEGIN:VCALENDAR
VERSION:2.0
PRODID:-//134.96.226.213//NONSGML kigkonsult.se iCalcreator 2.41.92//
CALSCALE:GREGORIAN
METHOD:PUBLISH
UID:34613561-3736-4739-b731-313638323363
X-WR-CALNAME:Mathematics for Computer Scientists III Calendar
X-WR-CALDESC:Events of the lecture Mathematics for Computer Scientists III
X-WR-TIMEZONE:Europe/Berlin
BEGIN:VEVENT
UID:62303030-3730-4461-a535-316333383261
DTSTAMP:20260422T131408Z
DESCRIPTION:
DTSTART:20251015T063000Z
DTEND:20251015T080000Z
LOCATION:Günter Hotz Hörsaal (E2 2)
SUMMARY:Lecture MfCS 3
END:VEVENT
BEGIN:VEVENT
UID:62333439-3766-4566-b135-653862326161
DTSTAMP:20260422T131408Z
DESCRIPTION:
DTSTART:20251017T101500Z
DTEND:20251017T114500Z
LOCATION:Günter Hotz Hörsaal (E2 2)
SUMMARY:Lecture MfCS 3
END:VEVENT
BEGIN:VEVENT
UID:36373163-3030-4561-a331-666533363633
DTSTAMP:20260422T131408Z
DESCRIPTION:
DTSTART:20251022T063000Z
DTEND:20251022T080000Z
LOCATION:Günter Hotz Hörsaal (E2 2)
SUMMARY:Lecture MfCS 3
END:VEVENT
BEGIN:VEVENT
UID:64386161-6433-4436-a336-363931356664
DTSTAMP:20260422T131408Z
DESCRIPTION:
DTSTART:20251024T101500Z
DTEND:20251024T114500Z
LOCATION:Günter Hotz Hörsaal (E2 2)
SUMMARY:Lecture MfCS 3
END:VEVENT
BEGIN:VEVENT
UID:37326230-3461-4130-b262-343862333238
DTSTAMP:20260422T131408Z
DESCRIPTION:
DTSTART:20251029T073000Z
DTEND:20251029T090000Z
LOCATION:Günter Hotz Hörsaal (E2 2)
SUMMARY:Lecture MfCS 3
END:VEVENT
BEGIN:VEVENT
UID:37333265-3065-4033-a631-373035646663
DTSTAMP:20260422T131408Z
DESCRIPTION:
DTSTART:20251031T111500Z
DTEND:20251031T124500Z
LOCATION:Günter Hotz Hörsaal (E2 2)
SUMMARY:Lecture MfCS 3
END:VEVENT
BEGIN:VEVENT
UID:64336361-3461-4164-a235-373732346634
DTSTAMP:20260422T131408Z
DESCRIPTION:
DTSTART:20251105T073000Z
DTEND:20251105T090000Z
LOCATION:Günter Hotz Hörsaal (E2 2)
SUMMARY:Lecture MfCS 3
END:VEVENT
BEGIN:VEVENT
UID:38356533-3035-4133-b838-353339343565
DTSTAMP:20260422T131408Z
DESCRIPTION:
DTSTART:20251107T111500Z
DTEND:20251107T124500Z
LOCATION:Günter Hotz Hörsaal (E2 2)
SUMMARY:Lecture MfCS 3
END:VEVENT
BEGIN:VEVENT
UID:31366233-3964-4331-a239-313430363735
DTSTAMP:20260422T131408Z
DESCRIPTION:
DTSTART:20251112T073000Z
DTEND:20251112T090000Z
LOCATION:Günter Hotz Hörsaal (E2 2)
SUMMARY:Lecture MfCS 3
END:VEVENT
BEGIN:VEVENT
UID:64373339-3436-4434-b934-366463646239
DTSTAMP:20260422T131408Z
DESCRIPTION:
DTSTART:20251114T111500Z
DTEND:20251114T124500Z
LOCATION:Günter Hotz Hörsaal (E2 2)
SUMMARY:Lecture MfCS 3
END:VEVENT
BEGIN:VEVENT
UID:35653165-3430-4064-a539-356461386337
DTSTAMP:20260422T131408Z
DESCRIPTION:
DTSTART:20251119T073000Z
DTEND:20251119T090000Z
LOCATION:Günter Hotz Hörsaal (E2 2)
SUMMARY:Lecture MfCS 3
END:VEVENT
BEGIN:VEVENT
UID:64383731-3132-4566-a562-643837356637
DTSTAMP:20260422T131408Z
DESCRIPTION:
DTSTART:20251121T111500Z
DTEND:20251121T124500Z
LOCATION:Günter Hotz Hörsaal (E2 2)
SUMMARY:Lecture MfCS 3
END:VEVENT
BEGIN:VEVENT
UID:37396364-3036-4266-a433-333537386261
DTSTAMP:20260422T131408Z
DESCRIPTION:
DTSTART:20251126T073000Z
DTEND:20251126T090000Z
LOCATION:Günter Hotz Hörsaal (E2 2)
SUMMARY:Lecture MfCS 3
END:VEVENT
BEGIN:VEVENT
UID:35333539-3564-4338-a165-316537653963
DTSTAMP:20260422T131408Z
DESCRIPTION:
DTSTART:20251128T111500Z
DTEND:20251128T124500Z
LOCATION:Günter Hotz Hörsaal (E2 2)
SUMMARY:Lecture MfCS 3
END:VEVENT
BEGIN:VEVENT
UID:33366463-3761-4436-b530-356132653833
DTSTAMP:20260422T131408Z
DESCRIPTION:
DTSTART:20251203T073000Z
DTEND:20251203T090000Z
LOCATION:Günter Hotz Hörsaal (E2 2)
SUMMARY:Lecture MfCS 3
END:VEVENT
BEGIN:VEVENT
UID:30366634-6133-4936-b036-383633643637
DTSTAMP:20260422T131408Z
DESCRIPTION:
DTSTART:20251205T111500Z
DTEND:20251205T124500Z
LOCATION:Günter Hotz Hörsaal (E2 2)
SUMMARY:Lecture MfCS 3
END:VEVENT
BEGIN:VEVENT
UID:62626262-6435-4834-b832-643332663166
DTSTAMP:20260422T131408Z
DESCRIPTION:
DTSTART:20251210T073000Z
DTEND:20251210T090000Z
LOCATION:Günter Hotz Hörsaal (E2 2)
SUMMARY:Lecture MfCS 3
END:VEVENT
BEGIN:VEVENT
UID:64363163-3461-4134-b332-636363666332
DTSTAMP:20260422T131408Z
DESCRIPTION:
DTSTART:20251212T111500Z
DTEND:20251212T124500Z
LOCATION:Günter Hotz Hörsaal (E2 2)
SUMMARY:Lecture MfCS 3
END:VEVENT
BEGIN:VEVENT
UID:34313963-3738-4065-a234-356265313261
DTSTAMP:20260422T131408Z
DESCRIPTION:
DTSTART:20251217T073000Z
DTEND:20251217T090000Z
LOCATION:Günter Hotz Hörsaal (E2 2)
SUMMARY:Lecture MfCS 3
END:VEVENT
BEGIN:VEVENT
UID:63663335-3764-4738-a232-646338343034
DTSTAMP:20260422T131408Z
DESCRIPTION:
DTSTART:20251219T111500Z
DTEND:20251219T124500Z
LOCATION:Günter Hotz Hörsaal (E2 2)
SUMMARY:Lecture MfCS 3
END:VEVENT
BEGIN:VEVENT
UID:36353134-3334-4164-b839-376630656139
DTSTAMP:20260422T131408Z
DESCRIPTION:
DTSTART:20260107T073000Z
DTEND:20260107T090000Z
LOCATION:Günter Hotz Hörsaal (E2 2)
SUMMARY:Lecture MfCS 3
END:VEVENT
BEGIN:VEVENT
UID:34653538-6562-4163-b366-376163613830
DTSTAMP:20260422T131408Z
DESCRIPTION:
DTSTART:20260109T111500Z
DTEND:20260109T124500Z
LOCATION:Günter Hotz Hörsaal (E2 2)
SUMMARY:Lecture MfCS 3
END:VEVENT
BEGIN:VEVENT
UID:64383238-3939-4266-a537-646165343335
DTSTAMP:20260422T131408Z
DESCRIPTION:
DTSTART:20260114T073000Z
DTEND:20260114T090000Z
LOCATION:Günter Hotz Hörsaal (E2 2)
SUMMARY:Lecture MfCS 3
END:VEVENT
BEGIN:VEVENT
UID:66616439-3132-4166-b365-636532396632
DTSTAMP:20260422T131408Z
DESCRIPTION:
DTSTART:20260116T111500Z
DTEND:20260116T124500Z
LOCATION:Günter Hotz Hörsaal (E2 2)
SUMMARY:Lecture MfCS 3
END:VEVENT
BEGIN:VEVENT
UID:39656130-3330-4661-b265-643432633665
DTSTAMP:20260422T131408Z
DESCRIPTION:
DTSTART:20260121T073000Z
DTEND:20260121T090000Z
LOCATION:Günter Hotz Hörsaal (E2 2)
SUMMARY:Lecture MfCS 3
END:VEVENT
BEGIN:VEVENT
UID:62373537-6533-4736-b661-363562356662
DTSTAMP:20260422T131408Z
DESCRIPTION:
DTSTART:20260123T111500Z
DTEND:20260123T124500Z
LOCATION:Günter Hotz Hörsaal (E2 2)
SUMMARY:Lecture MfCS 3
END:VEVENT
BEGIN:VEVENT
UID:30626635-3164-4436-b566-656633633633
DTSTAMP:20260422T131408Z
DESCRIPTION:
DTSTART:20260128T073000Z
DTEND:20260128T090000Z
LOCATION:Günter Hotz Hörsaal (E2 2)
SUMMARY:Lecture MfCS 3
END:VEVENT
BEGIN:VEVENT
UID:34356438-6534-4562-b037-343032616435
DTSTAMP:20260422T131408Z
DESCRIPTION:
DTSTART:20260130T111500Z
DTEND:20260130T124500Z
LOCATION:Günter Hotz Hörsaal (E2 2)
SUMMARY:Lecture MfCS 3
END:VEVENT
BEGIN:VEVENT
UID:65666635-6263-4434-b461-383538663035
DTSTAMP:20260422T131408Z
DESCRIPTION:
DTSTART:20260204T073000Z
DTEND:20260204T090000Z
LOCATION:Günter Hotz Hörsaal (E2 2)
SUMMARY:Lecture MfCS 3
END:VEVENT
BEGIN:VEVENT
UID:38373763-3433-4632-b064-363633626338
DTSTAMP:20260422T131408Z
DESCRIPTION:
DTSTART:20260206T111500Z
DTEND:20260206T124500Z
LOCATION:Günter Hotz Hörsaal (E2 2)
SUMMARY:Lecture MfCS 3
END:VEVENT
END:VCALENDAR
