BEGIN:VCALENDAR
VERSION:2.0
PRODID:-//134.96.226.213//NONSGML kigkonsult.se iCalcreator 2.41.71//
CALSCALE:GREGORIAN
METHOD:PUBLISH
UID:31336639-3030-4535-a539-653163623739
X-WR-CALNAME:Lineare Algebra 1 Calendar
X-WR-CALDESC:Termine der Vorlesung Lineare Algebra 1
X-WR-TIMEZONE:Europe/Berlin
BEGIN:VEVENT
UID:30653863-6339-4134-b737-333439396434
DTSTAMP:20260422T114936Z
DESCRIPTION:
DTSTART:20220225T080000Z
DTEND:20220225T110000Z
SUMMARY:Linalg1: Hauptklausur
END:VEVENT
BEGIN:VEVENT
UID:63393165-6566-4435-a431-626434343163
DTSTAMP:20260422T114936Z
DESCRIPTION:
DTSTART:20220407T120000Z
DTEND:20220407T150000Z
SUMMARY:Linalg1: Nachklausur
END:VEVENT
END:VCALENDAR
