BEGIN:VCALENDAR
VERSION:2.0
PRODID:-//134.96.226.213//NONSGML kigkonsult.se iCalcreator 2.41.71//
CALSCALE:GREGORIAN
METHOD:PUBLISH
UID:38313433-3832-4131-b064-326664343430
X-WR-CALNAME:Lineare Algebra 1 Calendar
X-WR-CALDESC:Termine der Vorlesung Lineare Algebra 1
X-WR-TIMEZONE:Europe/Berlin
BEGIN:VEVENT
UID:37303130-3136-4236-a638-343266386234
DTSTAMP:20260422T114935Z
DESCRIPTION:
DTSTART:20211019T081500Z
DTEND:20211019T100000Z
SUMMARY:Linalg1: Hauptvorlesung
END:VEVENT
BEGIN:VEVENT
UID:31623734-3661-4166-b166-323864393163
DTSTAMP:20260422T114935Z
DESCRIPTION:
DTSTART:20211022T081500Z
DTEND:20211022T100000Z
SUMMARY:Linalg1: Hauptvorlesung
END:VEVENT
BEGIN:VEVENT
UID:63316537-6431-4336-a632-386539336334
DTSTAMP:20260422T114935Z
DESCRIPTION:
DTSTART:20211026T081500Z
DTEND:20211026T100000Z
SUMMARY:Linalg1: Hauptvorlesung
END:VEVENT
BEGIN:VEVENT
UID:33303934-6531-4635-a337-336662656338
DTSTAMP:20260422T114935Z
DESCRIPTION:
DTSTART:20211029T081500Z
DTEND:20211029T100000Z
SUMMARY:Linalg1: Hauptvorlesung
END:VEVENT
BEGIN:VEVENT
UID:63623539-6163-4534-b366-373565613161
DTSTAMP:20260422T114935Z
DESCRIPTION:
DTSTART:20211102T091500Z
DTEND:20211102T110000Z
SUMMARY:Linalg1: Hauptvorlesung
END:VEVENT
BEGIN:VEVENT
UID:35646463-3363-4332-a636-303663343065
DTSTAMP:20260422T114935Z
DESCRIPTION:
DTSTART:20211105T091500Z
DTEND:20211105T110000Z
SUMMARY:Linalg1: Hauptvorlesung
END:VEVENT
BEGIN:VEVENT
UID:66343931-3837-4164-b332-653935623763
DTSTAMP:20260422T114935Z
DESCRIPTION:
DTSTART:20211109T091500Z
DTEND:20211109T110000Z
SUMMARY:Linalg1: Hauptvorlesung
END:VEVENT
BEGIN:VEVENT
UID:39323534-3332-4863-b638-623839376263
DTSTAMP:20260422T114935Z
DESCRIPTION:
DTSTART:20211112T091500Z
DTEND:20211112T110000Z
SUMMARY:Linalg1: Hauptvorlesung
END:VEVENT
BEGIN:VEVENT
UID:32343266-3436-4763-b063-306431383431
DTSTAMP:20260422T114935Z
DESCRIPTION:
DTSTART:20211116T091500Z
DTEND:20211116T110000Z
SUMMARY:Linalg1: Hauptvorlesung
END:VEVENT
BEGIN:VEVENT
UID:39313966-6633-4732-b233-323432346136
DTSTAMP:20260422T114935Z
DESCRIPTION:
DTSTART:20211119T091500Z
DTEND:20211119T110000Z
SUMMARY:Linalg1: Hauptvorlesung
END:VEVENT
BEGIN:VEVENT
UID:38346636-6639-4034-b366-346564303132
DTSTAMP:20260422T114935Z
DESCRIPTION:
DTSTART:20211123T091500Z
DTEND:20211123T110000Z
SUMMARY:Linalg1: Hauptvorlesung
END:VEVENT
BEGIN:VEVENT
UID:61383433-3937-4232-a461-613439626563
DTSTAMP:20260422T114935Z
DESCRIPTION:
DTSTART:20211126T091500Z
DTEND:20211126T110000Z
SUMMARY:Linalg1: Hauptvorlesung
END:VEVENT
BEGIN:VEVENT
UID:33303834-3261-4632-b862-306330363461
DTSTAMP:20260422T114935Z
DESCRIPTION:
DTSTART:20211130T091500Z
DTEND:20211130T110000Z
SUMMARY:Linalg1: Hauptvorlesung
END:VEVENT
BEGIN:VEVENT
UID:36373531-6666-4039-a239-623461396664
DTSTAMP:20260422T114935Z
DESCRIPTION:
DTSTART:20211203T091500Z
DTEND:20211203T110000Z
SUMMARY:Linalg1: Hauptvorlesung
END:VEVENT
BEGIN:VEVENT
UID:36633433-6364-4731-a134-306265373930
DTSTAMP:20260422T114935Z
DESCRIPTION:
DTSTART:20211207T091500Z
DTEND:20211207T110000Z
SUMMARY:Linalg1: Hauptvorlesung
END:VEVENT
BEGIN:VEVENT
UID:62636539-6262-4238-b739-326435346439
DTSTAMP:20260422T114935Z
DESCRIPTION:
DTSTART:20211210T091500Z
DTEND:20211210T110000Z
SUMMARY:Linalg1: Hauptvorlesung
END:VEVENT
BEGIN:VEVENT
UID:31316263-6639-4762-a334-366535376139
DTSTAMP:20260422T114935Z
DESCRIPTION:
DTSTART:20211214T091500Z
DTEND:20211214T110000Z
SUMMARY:Linalg1: Hauptvorlesung
END:VEVENT
BEGIN:VEVENT
UID:64633661-6136-4136-a532-643165626637
DTSTAMP:20260422T114935Z
DESCRIPTION:
DTSTART:20211217T091500Z
DTEND:20211217T110000Z
SUMMARY:Linalg1: Hauptvorlesung
END:VEVENT
BEGIN:VEVENT
UID:61393361-3564-4535-a264-653661663264
DTSTAMP:20260422T114935Z
DESCRIPTION:
DTSTART:20211221T091500Z
DTEND:20211221T110000Z
SUMMARY:Linalg1: Hauptvorlesung
END:VEVENT
BEGIN:VEVENT
UID:35616337-6361-4935-b332-666338383436
DTSTAMP:20260422T114935Z
DESCRIPTION:
DTSTART:20211224T091500Z
DTEND:20211224T110000Z
SUMMARY:Linalg1: Hauptvorlesung
END:VEVENT
BEGIN:VEVENT
UID:36623665-3238-4432-a237-616135663562
DTSTAMP:20260422T114935Z
DESCRIPTION:
DTSTART:20211228T091500Z
DTEND:20211228T110000Z
SUMMARY:Linalg1: Hauptvorlesung
END:VEVENT
BEGIN:VEVENT
UID:35633835-6531-4533-a235-633931613032
DTSTAMP:20260422T114935Z
DESCRIPTION:
DTSTART:20211231T091500Z
DTEND:20211231T110000Z
SUMMARY:Linalg1: Hauptvorlesung
END:VEVENT
BEGIN:VEVENT
UID:33636237-6566-4835-a238-326239383462
DTSTAMP:20260422T114935Z
DESCRIPTION:
DTSTART:20220104T091500Z
DTEND:20220104T110000Z
SUMMARY:Linalg1: Hauptvorlesung
END:VEVENT
BEGIN:VEVENT
UID:34373138-3631-4965-a164-323566313030
DTSTAMP:20260422T114935Z
DESCRIPTION:
DTSTART:20220107T091500Z
DTEND:20220107T110000Z
SUMMARY:Linalg1: Hauptvorlesung
END:VEVENT
BEGIN:VEVENT
UID:30306466-6164-4564-b930-343433323965
DTSTAMP:20260422T114935Z
DESCRIPTION:
DTSTART:20220111T091500Z
DTEND:20220111T110000Z
SUMMARY:Linalg1: Hauptvorlesung
END:VEVENT
BEGIN:VEVENT
UID:35356466-6235-4962-b238-303162336462
DTSTAMP:20260422T114935Z
DESCRIPTION:
DTSTART:20220114T091500Z
DTEND:20220114T110000Z
SUMMARY:Linalg1: Hauptvorlesung
END:VEVENT
BEGIN:VEVENT
UID:36333464-3637-4737-b634-613336396630
DTSTAMP:20260422T114935Z
DESCRIPTION:
DTSTART:20220118T091500Z
DTEND:20220118T110000Z
SUMMARY:Linalg1: Hauptvorlesung
END:VEVENT
BEGIN:VEVENT
UID:31313135-3066-4436-b762-663764656266
DTSTAMP:20260422T114935Z
DESCRIPTION:
DTSTART:20220121T091500Z
DTEND:20220121T110000Z
SUMMARY:Linalg1: Hauptvorlesung
END:VEVENT
BEGIN:VEVENT
UID:36626331-3234-4261-b030-316330666465
DTSTAMP:20260422T114935Z
DESCRIPTION:
DTSTART:20220125T091500Z
DTEND:20220125T110000Z
SUMMARY:Linalg1: Hauptvorlesung
END:VEVENT
BEGIN:VEVENT
UID:65316164-3763-4464-b164-366532643761
DTSTAMP:20260422T114935Z
DESCRIPTION:
DTSTART:20220128T091500Z
DTEND:20220128T110000Z
SUMMARY:Linalg1: Hauptvorlesung
END:VEVENT
BEGIN:VEVENT
UID:34616538-3965-4637-b063-616464376434
DTSTAMP:20260422T114935Z
DESCRIPTION:
DTSTART:20220201T091500Z
DTEND:20220201T110000Z
SUMMARY:Linalg1: Hauptvorlesung
END:VEVENT
BEGIN:VEVENT
UID:32656339-6634-4862-b166-333861323564
DTSTAMP:20260422T114935Z
DESCRIPTION:
DTSTART:20220204T091500Z
DTEND:20220204T110000Z
SUMMARY:Linalg1: Hauptvorlesung
END:VEVENT
BEGIN:VEVENT
UID:61386462-3632-4736-b238-646232316338
DTSTAMP:20260422T114935Z
DESCRIPTION:
DTSTART:20220208T091500Z
DTEND:20220208T110000Z
SUMMARY:Linalg1: Hauptvorlesung
END:VEVENT
BEGIN:VEVENT
UID:33326461-6335-4939-a333-663362653930
DTSTAMP:20260422T114935Z
DESCRIPTION:
DTSTART:20220211T091500Z
DTEND:20220211T110000Z
SUMMARY:Linalg1: Hauptvorlesung
END:VEVENT
END:VCALENDAR
