BEGIN:VCALENDAR
VERSION:2.0
PRODID:-//134.96.226.213//NONSGML kigkonsult.se iCalcreator 2.41.71//
CALSCALE:GREGORIAN
METHOD:PUBLISH
UID:64346534-6565-4039-b363-306531653233
X-WR-CALNAME:Lineare Algebra 1 Calendar
X-WR-CALDESC:Termine der Vorlesung Lineare Algebra 1
X-WR-TIMEZONE:Europe/Berlin
BEGIN:VEVENT
UID:36343531-6663-4630-b137-346435363130
DTSTAMP:20260422T114935Z
DESCRIPTION:
DTSTART:20211019T081500Z
DTEND:20211019T100000Z
SUMMARY:Hauptvorlesung
END:VEVENT
BEGIN:VEVENT
UID:33343233-6264-4131-b735-353262376236
DTSTAMP:20260422T114935Z
DESCRIPTION:
DTSTART:20211022T081500Z
DTEND:20211022T100000Z
SUMMARY:Hauptvorlesung
END:VEVENT
BEGIN:VEVENT
UID:36386666-3835-4635-b036-346437643230
DTSTAMP:20260422T114935Z
DESCRIPTION:
DTSTART:20211026T081500Z
DTEND:20211026T100000Z
SUMMARY:Hauptvorlesung
END:VEVENT
BEGIN:VEVENT
UID:30666538-3131-4165-b934-626664373262
DTSTAMP:20260422T114935Z
DESCRIPTION:
DTSTART:20211029T081500Z
DTEND:20211029T100000Z
SUMMARY:Hauptvorlesung
END:VEVENT
BEGIN:VEVENT
UID:65356636-6636-4564-b139-303936656562
DTSTAMP:20260422T114935Z
DESCRIPTION:
DTSTART:20211102T091500Z
DTEND:20211102T110000Z
SUMMARY:Hauptvorlesung
END:VEVENT
BEGIN:VEVENT
UID:31376665-3836-4538-b438-363866396633
DTSTAMP:20260422T114935Z
DESCRIPTION:
DTSTART:20211105T091500Z
DTEND:20211105T110000Z
SUMMARY:Hauptvorlesung
END:VEVENT
BEGIN:VEVENT
UID:39393135-3863-4831-a361-356232323730
DTSTAMP:20260422T114935Z
DESCRIPTION:
DTSTART:20211109T091500Z
DTEND:20211109T110000Z
SUMMARY:Hauptvorlesung
END:VEVENT
BEGIN:VEVENT
UID:30653037-6665-4763-a533-313165613834
DTSTAMP:20260422T114935Z
DESCRIPTION:
DTSTART:20211112T091500Z
DTEND:20211112T110000Z
SUMMARY:Hauptvorlesung
END:VEVENT
BEGIN:VEVENT
UID:34333935-3561-4365-b235-306566393262
DTSTAMP:20260422T114935Z
DESCRIPTION:
DTSTART:20211116T091500Z
DTEND:20211116T110000Z
SUMMARY:Hauptvorlesung
END:VEVENT
BEGIN:VEVENT
UID:34653931-3063-4564-b435-313363313633
DTSTAMP:20260422T114935Z
DESCRIPTION:
DTSTART:20211119T091500Z
DTEND:20211119T110000Z
SUMMARY:Hauptvorlesung
END:VEVENT
BEGIN:VEVENT
UID:30316130-3433-4535-a664-663261633366
DTSTAMP:20260422T114935Z
DESCRIPTION:
DTSTART:20211123T091500Z
DTEND:20211123T110000Z
SUMMARY:Hauptvorlesung
END:VEVENT
BEGIN:VEVENT
UID:61326436-3766-4434-a233-366630656333
DTSTAMP:20260422T114935Z
DESCRIPTION:
DTSTART:20211126T091500Z
DTEND:20211126T110000Z
SUMMARY:Hauptvorlesung
END:VEVENT
BEGIN:VEVENT
UID:39646566-6461-4533-a330-333430623036
DTSTAMP:20260422T114935Z
DESCRIPTION:
DTSTART:20211130T091500Z
DTEND:20211130T110000Z
SUMMARY:Hauptvorlesung
END:VEVENT
BEGIN:VEVENT
UID:34353039-3936-4163-a636-346335653130
DTSTAMP:20260422T114935Z
DESCRIPTION:
DTSTART:20211203T091500Z
DTEND:20211203T110000Z
SUMMARY:Hauptvorlesung
END:VEVENT
BEGIN:VEVENT
UID:39323435-6433-4239-b064-316331386536
DTSTAMP:20260422T114935Z
DESCRIPTION:
DTSTART:20211207T091500Z
DTEND:20211207T110000Z
SUMMARY:Hauptvorlesung
END:VEVENT
BEGIN:VEVENT
UID:36643139-3632-4133-a163-373730353564
DTSTAMP:20260422T114935Z
DESCRIPTION:
DTSTART:20211210T091500Z
DTEND:20211210T110000Z
SUMMARY:Hauptvorlesung
END:VEVENT
BEGIN:VEVENT
UID:61623331-3632-4165-b330-346538386562
DTSTAMP:20260422T114935Z
DESCRIPTION:
DTSTART:20211214T091500Z
DTEND:20211214T110000Z
SUMMARY:Hauptvorlesung
END:VEVENT
BEGIN:VEVENT
UID:63656462-6165-4230-a463-373837666261
DTSTAMP:20260422T114935Z
DESCRIPTION:
DTSTART:20211217T091500Z
DTEND:20211217T110000Z
SUMMARY:Hauptvorlesung
END:VEVENT
BEGIN:VEVENT
UID:65363136-6239-4632-b139-346539666139
DTSTAMP:20260422T114935Z
DESCRIPTION:
DTSTART:20211221T091500Z
DTEND:20211221T110000Z
SUMMARY:Hauptvorlesung
END:VEVENT
BEGIN:VEVENT
UID:39383063-3062-4938-a331-383531393637
DTSTAMP:20260422T114935Z
DESCRIPTION:
DTSTART:20211224T091500Z
DTEND:20211224T110000Z
SUMMARY:Hauptvorlesung
END:VEVENT
BEGIN:VEVENT
UID:66383065-3334-4164-a333-653635376433
DTSTAMP:20260422T114935Z
DESCRIPTION:
DTSTART:20211228T091500Z
DTEND:20211228T110000Z
SUMMARY:Hauptvorlesung
END:VEVENT
BEGIN:VEVENT
UID:32333235-3039-4937-b965-653730353066
DTSTAMP:20260422T114935Z
DESCRIPTION:
DTSTART:20211231T091500Z
DTEND:20211231T110000Z
SUMMARY:Hauptvorlesung
END:VEVENT
BEGIN:VEVENT
UID:30346166-3762-4933-a432-336666633461
DTSTAMP:20260422T114935Z
DESCRIPTION:
DTSTART:20220104T091500Z
DTEND:20220104T110000Z
SUMMARY:Hauptvorlesung
END:VEVENT
BEGIN:VEVENT
UID:66666161-3835-4263-a634-323538336466
DTSTAMP:20260422T114935Z
DESCRIPTION:
DTSTART:20220107T091500Z
DTEND:20220107T110000Z
SUMMARY:Hauptvorlesung
END:VEVENT
BEGIN:VEVENT
UID:30303266-6361-4261-a164-633934613466
DTSTAMP:20260422T114935Z
DESCRIPTION:
DTSTART:20220111T091500Z
DTEND:20220111T110000Z
SUMMARY:Hauptvorlesung
END:VEVENT
BEGIN:VEVENT
UID:34633331-6564-4633-b532-333830623562
DTSTAMP:20260422T114935Z
DESCRIPTION:
DTSTART:20220114T091500Z
DTEND:20220114T110000Z
SUMMARY:Hauptvorlesung
END:VEVENT
BEGIN:VEVENT
UID:33393463-3334-4332-b038-346530616464
DTSTAMP:20260422T114935Z
DESCRIPTION:
DTSTART:20220118T091500Z
DTEND:20220118T110000Z
SUMMARY:Hauptvorlesung
END:VEVENT
BEGIN:VEVENT
UID:36626162-3634-4636-a463-303562396434
DTSTAMP:20260422T114935Z
DESCRIPTION:
DTSTART:20220121T091500Z
DTEND:20220121T110000Z
SUMMARY:Hauptvorlesung
END:VEVENT
BEGIN:VEVENT
UID:62363936-6661-4134-b362-306535356538
DTSTAMP:20260422T114935Z
DESCRIPTION:
DTSTART:20220125T091500Z
DTEND:20220125T110000Z
SUMMARY:Hauptvorlesung
END:VEVENT
BEGIN:VEVENT
UID:39636132-3364-4362-a230-326632643838
DTSTAMP:20260422T114935Z
DESCRIPTION:
DTSTART:20220128T091500Z
DTEND:20220128T110000Z
SUMMARY:Hauptvorlesung
END:VEVENT
BEGIN:VEVENT
UID:33303732-6266-4761-a637-376666366234
DTSTAMP:20260422T114935Z
DESCRIPTION:
DTSTART:20220201T091500Z
DTEND:20220201T110000Z
SUMMARY:Hauptvorlesung
END:VEVENT
BEGIN:VEVENT
UID:65306661-6563-4736-a564-346630616637
DTSTAMP:20260422T114935Z
DESCRIPTION:
DTSTART:20220204T091500Z
DTEND:20220204T110000Z
SUMMARY:Hauptvorlesung
END:VEVENT
BEGIN:VEVENT
UID:34373132-3138-4364-a139-306237313434
DTSTAMP:20260422T114935Z
DESCRIPTION:
DTSTART:20220208T091500Z
DTEND:20220208T110000Z
SUMMARY:Hauptvorlesung
END:VEVENT
BEGIN:VEVENT
UID:36643036-3365-4662-b962-656564306666
DTSTAMP:20260422T114935Z
DESCRIPTION:
DTSTART:20220211T091500Z
DTEND:20220211T110000Z
SUMMARY:Hauptvorlesung
END:VEVENT
END:VCALENDAR
