BEGIN:VCALENDAR
VERSION:2.0
PRODID:-//134.96.226.213//NONSGML kigkonsult.se iCalcreator 2.41.92//
CALSCALE:GREGORIAN
METHOD:PUBLISH
UID:31623866-3833-4662-a166-336536386461
X-WR-CALNAME:Image Processing and Computer Vision Calendar
X-WR-CALDESC:Events of the lecture  Image Processing and Computer Vision
X-WR-TIMEZONE:Europe/Berlin
BEGIN:VEVENT
UID:34373435-3536-4238-a133-346561303036
DTSTAMP:20260425T153331Z
DESCRIPTION:
DTSTART:20250408T081500Z
DTEND:20250408T094500Z
LOCATION:online
SUMMARY:Ipcv: Lecture
END:VEVENT
BEGIN:VEVENT
UID:36623032-3330-4330-a566-626365633462
DTSTAMP:20260425T153331Z
DESCRIPTION:
DTSTART:20250411T081500Z
DTEND:20250411T094500Z
LOCATION:online
SUMMARY:Ipcv: Lecture
END:VEVENT
BEGIN:VEVENT
UID:61393765-3133-4639-a462-613238666238
DTSTAMP:20260425T153331Z
DESCRIPTION:
DTSTART:20250414T100000Z
DTEND:20250414T110000Z
LOCATION:Building E1.7 Room 4.15
SUMMARY:Ipcv: Office Hour: Ali El Chami
END:VEVENT
BEGIN:VEVENT
UID:64663266-3362-4439-a131-353562633463
DTSTAMP:20260425T153331Z
DESCRIPTION:
DTSTART:20250414T130000Z
DTEND:20250414T140000Z
LOCATION:Building E1.7 Room 4.15
SUMMARY:Ipcv: Office Hour: Vipil Vijay
END:VEVENT
BEGIN:VEVENT
UID:62353365-6436-4565-b938-303637356564
DTSTAMP:20260425T153331Z
DESCRIPTION:
DTSTART:20250415T081500Z
DTEND:20250415T094500Z
LOCATION:online
SUMMARY:Ipcv: Lecture
END:VEVENT
BEGIN:VEVENT
UID:34363236-6563-4062-a637-363764386639
DTSTAMP:20260425T153331Z
DESCRIPTION:
DTSTART:20250415T111500Z
DTEND:20250415T121500Z
LOCATION:Building E1.7 Room 4.07
SUMMARY:Ipcv: Office hour: TA Karl Schrader
END:VEVENT
BEGIN:VEVENT
UID:61373034-3630-4261-b663-346362336137
DTSTAMP:20260425T153331Z
DESCRIPTION:
DTSTART:20250416T080000Z
DTEND:20250416T090000Z
LOCATION:Building E1.7 Room 4.15
SUMMARY:Ipcv: Office Hour: Tranh Anh Dang Le
END:VEVENT
BEGIN:VEVENT
UID:39633232-3262-4232-a362-626439393761
DTSTAMP:20260425T153331Z
DESCRIPTION:
DTSTART:20250416T090000Z
DTEND:20250416T100000Z
LOCATION:Building E1.7 Room 4.03
SUMMARY:Ipcv: Office Hour: Daniel Gaa
END:VEVENT
BEGIN:VEVENT
UID:34643733-3437-4936-b137-643331376139
DTSTAMP:20260425T153331Z
DESCRIPTION:
DTSTART:20250417T100000Z
DTEND:20250417T110000Z
LOCATION:Building E1.7 Room 4.15
SUMMARY:Ipcv: Office Hour: Enes Ulus
END:VEVENT
BEGIN:VEVENT
UID:38656330-6366-4338-b738-373130613362
DTSTAMP:20260425T153331Z
DESCRIPTION:
DTSTART:20250417T161500Z
DTEND:20250417T174500Z
LOCATION:online
SUMMARY:Ipcv: Lecture
END:VEVENT
BEGIN:VEVENT
UID:30346537-3365-4466-a162-383632393730
DTSTAMP:20260425T153331Z
DESCRIPTION:
DTSTART:20250421T100000Z
DTEND:20250421T110000Z
LOCATION:Building E1.7 Room 4.15
SUMMARY:Ipcv: Office Hour: Ali El Chami
END:VEVENT
BEGIN:VEVENT
UID:33353137-6661-4337-b432-333833316537
DTSTAMP:20260425T153331Z
DESCRIPTION:
DTSTART:20250421T130000Z
DTEND:20250421T140000Z
LOCATION:Building E1.7 Room 4.15
SUMMARY:Ipcv: Office Hour: Vipil Vijay
END:VEVENT
BEGIN:VEVENT
UID:66613562-3235-4238-b065-643766643830
DTSTAMP:20260425T153331Z
DESCRIPTION:
DTSTART:20250422T081500Z
DTEND:20250422T094500Z
LOCATION:online
SUMMARY:Ipcv: Lecture
END:VEVENT
BEGIN:VEVENT
UID:31306639-3232-4164-a633-326535613038
DTSTAMP:20260425T153331Z
DESCRIPTION:
DTSTART:20250423T080000Z
DTEND:20250423T090000Z
LOCATION:Building E1.7 Room 4.15
SUMMARY:Ipcv: Office Hour: Tranh Anh Dang Le
END:VEVENT
BEGIN:VEVENT
UID:33343932-3739-4538-a263-636637633765
DTSTAMP:20260425T153331Z
DESCRIPTION:
DTSTART:20250423T090000Z
DTEND:20250423T100000Z
LOCATION:Building E1.7 Room 4.03
SUMMARY:Ipcv: Office Hour: Daniel Gaa
END:VEVENT
BEGIN:VEVENT
UID:64373764-3765-4265-b362-393233376436
DTSTAMP:20260425T153331Z
DESCRIPTION:
DTSTART:20250424T100000Z
DTEND:20250424T110000Z
LOCATION:Building E1.7 Room 4.15
SUMMARY:Ipcv: Office Hour: Enes Ulus
END:VEVENT
BEGIN:VEVENT
UID:61353565-3739-4436-b633-313838393438
DTSTAMP:20260425T153331Z
DESCRIPTION:
DTSTART:20250425T081500Z
DTEND:20250425T094500Z
LOCATION:online
SUMMARY:Ipcv: Lecture
END:VEVENT
BEGIN:VEVENT
UID:63373134-3562-4462-a137-356534306235
DTSTAMP:20260425T153331Z
DESCRIPTION:
DTSTART:20250428T100000Z
DTEND:20250428T110000Z
LOCATION:Building E1.7 Room 4.15
SUMMARY:Ipcv: Office Hour: Ali El Chami
END:VEVENT
BEGIN:VEVENT
UID:33396364-3131-4437-b433-396131316664
DTSTAMP:20260425T153331Z
DESCRIPTION:
DTSTART:20250428T130000Z
DTEND:20250428T140000Z
LOCATION:Building E1.7 Room 4.15
SUMMARY:Ipcv: Office Hour: Vipil Vijay
END:VEVENT
BEGIN:VEVENT
UID:30646433-6364-4936-b331-353263633134
DTSTAMP:20260425T153331Z
DESCRIPTION:
DTSTART:20250429T081500Z
DTEND:20250429T094500Z
LOCATION:online
SUMMARY:Ipcv: Lecture
END:VEVENT
BEGIN:VEVENT
UID:32656639-3164-4632-b965-613332333665
DTSTAMP:20260425T153331Z
DESCRIPTION:
DTSTART:20250430T080000Z
DTEND:20250430T090000Z
LOCATION:Building E1.7 Room 4.15
SUMMARY:Ipcv: Office Hour: Tranh Anh Dang Le
END:VEVENT
BEGIN:VEVENT
UID:64613938-3533-4631-a132-313763663936
DTSTAMP:20260425T153331Z
DESCRIPTION:
DTSTART:20250430T090000Z
DTEND:20250430T100000Z
LOCATION:Building E1.7 Room 4.03
SUMMARY:Ipcv: Office Hour: Daniel Gaa
END:VEVENT
BEGIN:VEVENT
UID:31393932-6662-4538-b238-666639623163
DTSTAMP:20260425T153331Z
DESCRIPTION:
DTSTART:20250501T100000Z
DTEND:20250501T110000Z
LOCATION:Building E1.7 Room 4.15
SUMMARY:Ipcv: Office Hour: Enes Ulus
END:VEVENT
BEGIN:VEVENT
UID:34616661-3532-4237-b866-373364346130
DTSTAMP:20260425T153331Z
DESCRIPTION:
DTSTART:20250502T081500Z
DTEND:20250502T094500Z
LOCATION:online
SUMMARY:Ipcv: Lecture
END:VEVENT
BEGIN:VEVENT
UID:30393438-3635-4334-b763-663363656131
DTSTAMP:20260425T153331Z
DESCRIPTION:
DTSTART:20250505T100000Z
DTEND:20250505T110000Z
LOCATION:Building E1.7 Room 4.15
SUMMARY:Ipcv: Office Hour: Ali El Chami
END:VEVENT
BEGIN:VEVENT
UID:33393065-6138-4366-b835-396630646231
DTSTAMP:20260425T153331Z
DESCRIPTION:
DTSTART:20250505T130000Z
DTEND:20250505T140000Z
LOCATION:Building E1.7 Room 4.15
SUMMARY:Ipcv: Office Hour: Vipil Vijay
END:VEVENT
BEGIN:VEVENT
UID:30306265-6361-4833-b534-363635396130
DTSTAMP:20260425T153331Z
DESCRIPTION:
DTSTART:20250506T081500Z
DTEND:20250506T094500Z
LOCATION:online
SUMMARY:Ipcv: Lecture
END:VEVENT
BEGIN:VEVENT
UID:32366631-6634-4564-a635-303234663536
DTSTAMP:20260425T153331Z
DESCRIPTION:
DTSTART:20250506T111500Z
DTEND:20250506T121500Z
LOCATION:Building E1.7 Room 4.07
SUMMARY:Ipcv: Office hour: TA Karl Schrader
END:VEVENT
BEGIN:VEVENT
UID:63646364-6135-4231-a630-363530316664
DTSTAMP:20260425T153331Z
DESCRIPTION:
DTSTART:20250507T080000Z
DTEND:20250507T090000Z
LOCATION:Building E1.7 Room 4.15
SUMMARY:Ipcv: Office Hour: Tranh Anh Dang Le
END:VEVENT
BEGIN:VEVENT
UID:31356133-3532-4238-a435-633437316137
DTSTAMP:20260425T153331Z
DESCRIPTION:
DTSTART:20250507T090000Z
DTEND:20250507T100000Z
LOCATION:Building E1.7 Room 4.03
SUMMARY:Ipcv: Office Hour: Daniel Gaa
END:VEVENT
BEGIN:VEVENT
UID:62343633-6438-4265-b964-356262306431
DTSTAMP:20260425T153331Z
DESCRIPTION:
DTSTART:20250508T100000Z
DTEND:20250508T110000Z
LOCATION:Building E1.7 Room 4.15
SUMMARY:Ipcv: Office Hour: Enes Ulus
END:VEVENT
BEGIN:VEVENT
UID:65633765-6431-4035-b132-373864343064
DTSTAMP:20260425T153331Z
DESCRIPTION:
DTSTART:20250509T081500Z
DTEND:20250509T094500Z
LOCATION:online
SUMMARY:Ipcv: Lecture
END:VEVENT
BEGIN:VEVENT
UID:61383061-3038-4665-b463-313437313336
DTSTAMP:20260425T153331Z
DESCRIPTION:
DTSTART:20250512T100000Z
DTEND:20250512T110000Z
LOCATION:Building E1.7 Room 4.15
SUMMARY:Ipcv: Office Hour: Ali El Chami
END:VEVENT
BEGIN:VEVENT
UID:30376633-6666-4566-a366-336361376463
DTSTAMP:20260425T153331Z
DESCRIPTION:
DTSTART:20250512T130000Z
DTEND:20250512T140000Z
LOCATION:Building E1.7 Room 4.15
SUMMARY:Ipcv: Office Hour: Vipil Vijay
END:VEVENT
BEGIN:VEVENT
UID:35343462-6264-4332-b130-376639336462
DTSTAMP:20260425T153331Z
DESCRIPTION:
DTSTART:20250513T081500Z
DTEND:20250513T094500Z
LOCATION:online
SUMMARY:Ipcv: Lecture
END:VEVENT
BEGIN:VEVENT
UID:65383563-6233-4163-b431-303465393830
DTSTAMP:20260425T153331Z
DESCRIPTION:
DTSTART:20250513T111500Z
DTEND:20250513T121500Z
LOCATION:Building E1.7 Room 4.07
SUMMARY:Ipcv: Office hour: TA Karl Schrader
END:VEVENT
BEGIN:VEVENT
UID:30653234-6464-4565-b663-343561356334
DTSTAMP:20260425T153331Z
DESCRIPTION:
DTSTART:20250514T080000Z
DTEND:20250514T090000Z
LOCATION:Building E1.7 Room 4.15
SUMMARY:Ipcv: Office Hour: Tranh Anh Dang Le
END:VEVENT
BEGIN:VEVENT
UID:38663030-3836-4330-a637-383764316661
DTSTAMP:20260425T153331Z
DESCRIPTION:
DTSTART:20250514T090000Z
DTEND:20250514T100000Z
LOCATION:Building E1.7 Room 4.03
SUMMARY:Ipcv: Office Hour: Daniel Gaa
END:VEVENT
BEGIN:VEVENT
UID:62393031-6231-4765-b435-353361306234
DTSTAMP:20260425T153331Z
DESCRIPTION:
DTSTART:20250515T100000Z
DTEND:20250515T110000Z
LOCATION:Building E1.7 Room 4.15
SUMMARY:Ipcv: Office Hour: Enes Ulus
END:VEVENT
BEGIN:VEVENT
UID:34333836-6361-4666-b934-353966393434
DTSTAMP:20260425T153331Z
DESCRIPTION:
DTSTART:20250516T081500Z
DTEND:20250516T094500Z
LOCATION:online
SUMMARY:Ipcv: Lecture
END:VEVENT
BEGIN:VEVENT
UID:61366165-6231-4638-b630-343437373838
DTSTAMP:20260425T153331Z
DESCRIPTION:
DTSTART:20250519T100000Z
DTEND:20250519T110000Z
LOCATION:Building E1.7 Room 4.15
SUMMARY:Ipcv: Office Hour: Ali El Chami
END:VEVENT
BEGIN:VEVENT
UID:61633966-3163-4633-b361-623866373530
DTSTAMP:20260425T153331Z
DESCRIPTION:
DTSTART:20250519T130000Z
DTEND:20250519T140000Z
LOCATION:Building E1.7 Room 4.15
SUMMARY:Ipcv: Office Hour: Vipil Vijay
END:VEVENT
BEGIN:VEVENT
UID:30333134-3339-4163-a535-646439313064
DTSTAMP:20260425T153331Z
DESCRIPTION:
DTSTART:20250520T081500Z
DTEND:20250520T094500Z
LOCATION:online
SUMMARY:Ipcv: Lecture
END:VEVENT
BEGIN:VEVENT
UID:31383763-3164-4237-b833-373638646530
DTSTAMP:20260425T153331Z
DESCRIPTION:
DTSTART:20250520T111500Z
DTEND:20250520T121500Z
LOCATION:Building E1.7 Room 4.07
SUMMARY:Ipcv: Office hour: TA Karl Schrader
END:VEVENT
BEGIN:VEVENT
UID:34333063-6264-4030-a230-333330666631
DTSTAMP:20260425T153331Z
DESCRIPTION:
DTSTART:20250521T080000Z
DTEND:20250521T090000Z
LOCATION:Building E1.7 Room 4.15
SUMMARY:Ipcv: Office Hour: Tranh Anh Dang Le
END:VEVENT
BEGIN:VEVENT
UID:33653364-3834-4139-b161-666338646530
DTSTAMP:20260425T153331Z
DESCRIPTION:
DTSTART:20250521T090000Z
DTEND:20250521T100000Z
LOCATION:Building E1.7 Room 4.03
SUMMARY:Ipcv: Office Hour: Daniel Gaa
END:VEVENT
BEGIN:VEVENT
UID:62623261-3631-4835-b034-336131373032
DTSTAMP:20260425T153331Z
DESCRIPTION:
DTSTART:20250522T100000Z
DTEND:20250522T110000Z
LOCATION:Building E1.7 Room 4.15
SUMMARY:Ipcv: Office Hour: Enes Ulus
END:VEVENT
BEGIN:VEVENT
UID:61343134-3562-4262-b337-353863346361
DTSTAMP:20260425T153331Z
DESCRIPTION:
DTSTART:20250523T081500Z
DTEND:20250523T094500Z
LOCATION:online
SUMMARY:Ipcv: Lecture
END:VEVENT
BEGIN:VEVENT
UID:66316231-6434-4135-b234-396465646538
DTSTAMP:20260425T153331Z
DESCRIPTION:
DTSTART:20250526T100000Z
DTEND:20250526T110000Z
LOCATION:Building E1.7 Room 4.15
SUMMARY:Ipcv: Office Hour: Ali El Chami
END:VEVENT
BEGIN:VEVENT
UID:39303139-3038-4161-b865-323933323235
DTSTAMP:20260425T153331Z
DESCRIPTION:
DTSTART:20250526T130000Z
DTEND:20250526T140000Z
LOCATION:Building E1.7 Room 4.15
SUMMARY:Ipcv: Office Hour: Vipil Vijay
END:VEVENT
BEGIN:VEVENT
UID:33623138-6563-4137-b732-336137636133
DTSTAMP:20260425T153331Z
DESCRIPTION:
DTSTART:20250527T081500Z
DTEND:20250527T094500Z
LOCATION:online
SUMMARY:Ipcv: Lecture
END:VEVENT
BEGIN:VEVENT
UID:63306538-3230-4666-b263-623830383137
DTSTAMP:20260425T153331Z
DESCRIPTION:
DTSTART:20250527T111500Z
DTEND:20250527T121500Z
LOCATION:Building E1.7 Room 4.07
SUMMARY:Ipcv: Office hour: TA Karl Schrader
END:VEVENT
BEGIN:VEVENT
UID:33363635-6335-4131-b162-646433316630
DTSTAMP:20260425T153331Z
DESCRIPTION:
DTSTART:20250528T080000Z
DTEND:20250528T090000Z
LOCATION:Building E1.7 Room 4.15
SUMMARY:Ipcv: Office Hour: Tranh Anh Dang Le
END:VEVENT
BEGIN:VEVENT
UID:33663331-6463-4533-a131-643430653932
DTSTAMP:20260425T153331Z
DESCRIPTION:
DTSTART:20250528T090000Z
DTEND:20250528T100000Z
LOCATION:Building E1.7 Room 4.03
SUMMARY:Ipcv: Office Hour: Daniel Gaa
END:VEVENT
BEGIN:VEVENT
UID:31323032-6435-4734-b061-616437353138
DTSTAMP:20260425T153331Z
DESCRIPTION:
DTSTART:20250529T100000Z
DTEND:20250529T110000Z
LOCATION:Building E1.7 Room 4.15
SUMMARY:Ipcv: Office Hour: Enes Ulus
END:VEVENT
BEGIN:VEVENT
UID:31333936-3434-4664-b031-343639383064
DTSTAMP:20260425T153331Z
DESCRIPTION:
DTSTART:20250530T081500Z
DTEND:20250530T094500Z
LOCATION:online
SUMMARY:Ipcv: Lecture
END:VEVENT
BEGIN:VEVENT
UID:65623135-6138-4432-b436-663634616630
DTSTAMP:20260425T153331Z
DESCRIPTION:
DTSTART:20250602T100000Z
DTEND:20250602T110000Z
LOCATION:Building E1.7 Room 4.15
SUMMARY:Ipcv: Office Hour: Ali El Chami
END:VEVENT
BEGIN:VEVENT
UID:31366566-3866-4739-a236-303238396462
DTSTAMP:20260425T153331Z
DESCRIPTION:
DTSTART:20250603T081500Z
DTEND:20250603T094500Z
LOCATION:online
SUMMARY:Ipcv: Lecture
END:VEVENT
BEGIN:VEVENT
UID:31383635-3963-4537-b030-323761303263
DTSTAMP:20260425T153331Z
DESCRIPTION:
DTSTART:20250603T111500Z
DTEND:20250603T121500Z
LOCATION:Building E1.7 Room 4.07
SUMMARY:Ipcv: Office hour: TA Karl Schrader
END:VEVENT
BEGIN:VEVENT
UID:30323337-6431-4133-b465-666263356530
DTSTAMP:20260425T153331Z
DESCRIPTION:
DTSTART:20250604T080000Z
DTEND:20250604T090000Z
LOCATION:Building E1.7 Room 4.15
SUMMARY:Ipcv: Office Hour: Tranh Anh Dang Le
END:VEVENT
BEGIN:VEVENT
UID:38363365-3837-4032-b035-346230626432
DTSTAMP:20260425T153331Z
DESCRIPTION:
DTSTART:20250604T090000Z
DTEND:20250604T100000Z
LOCATION:Building E1.7 Room 4.03
SUMMARY:Ipcv: Office Hour: Daniel Gaa
END:VEVENT
BEGIN:VEVENT
UID:36633439-6633-4463-a437-383462386635
DTSTAMP:20260425T153331Z
DESCRIPTION:
DTSTART:20250605T100000Z
DTEND:20250605T110000Z
LOCATION:Building E1.7 Room 4.15
SUMMARY:Ipcv: Office Hour: Enes Ulus
END:VEVENT
BEGIN:VEVENT
UID:62363765-3764-4364-a133-616164303063
DTSTAMP:20260425T153331Z
DESCRIPTION:
DTSTART:20250606T081500Z
DTEND:20250606T094500Z
LOCATION:online
SUMMARY:Ipcv: Lecture
END:VEVENT
BEGIN:VEVENT
UID:66656364-3531-4362-a432-316236376663
DTSTAMP:20260425T153331Z
DESCRIPTION:
DTSTART:20250609T100000Z
DTEND:20250609T110000Z
LOCATION:Building E1.7 Room 4.15
SUMMARY:Ipcv: Office Hour: Ali El Chami
END:VEVENT
BEGIN:VEVENT
UID:62303132-6663-4861-b431-326639393231
DTSTAMP:20260425T153331Z
DESCRIPTION:
DTSTART:20250609T130000Z
DTEND:20250609T140000Z
LOCATION:Building E1.7 Room 4.15
SUMMARY:Ipcv: Office Hour: Vipil Vijay
END:VEVENT
BEGIN:VEVENT
UID:37343139-3634-4265-b433-363161393037
DTSTAMP:20260425T153331Z
DESCRIPTION:
DTSTART:20250610T081500Z
DTEND:20250610T094500Z
LOCATION:online
SUMMARY:Ipcv: Lecture
END:VEVENT
BEGIN:VEVENT
UID:31383466-3566-4435-b736-363939633865
DTSTAMP:20260425T153331Z
DESCRIPTION:
DTSTART:20250610T111500Z
DTEND:20250610T121500Z
LOCATION:Building E1.7 Room 4.07
SUMMARY:Ipcv: Office hour: TA Karl Schrader
END:VEVENT
BEGIN:VEVENT
UID:32343164-3165-4461-b761-626362303639
DTSTAMP:20260425T153331Z
DESCRIPTION:
DTSTART:20250611T080000Z
DTEND:20250611T090000Z
LOCATION:Building E1.7 Room 4.15
SUMMARY:Ipcv: Office Hour: Tranh Anh Dang Le
END:VEVENT
BEGIN:VEVENT
UID:37323730-6235-4361-a561-343764303433
DTSTAMP:20260425T153331Z
DESCRIPTION:
DTSTART:20250611T090000Z
DTEND:20250611T100000Z
LOCATION:Building E1.7 Room 4.03
SUMMARY:Ipcv: Office Hour: Daniel Gaa
END:VEVENT
BEGIN:VEVENT
UID:39303330-3139-4039-b933-316135656365
DTSTAMP:20260425T153331Z
DESCRIPTION:
DTSTART:20250612T100000Z
DTEND:20250612T110000Z
LOCATION:Building E1.7 Room 4.15
SUMMARY:Ipcv: Office Hour: Enes Ulus
END:VEVENT
BEGIN:VEVENT
UID:36383061-6532-4838-b666-663533336234
DTSTAMP:20260425T153331Z
DESCRIPTION:
DTSTART:20250613T081500Z
DTEND:20250613T094500Z
LOCATION:online
SUMMARY:Ipcv: Lecture
END:VEVENT
BEGIN:VEVENT
UID:66623364-6332-4261-b138-623435613664
DTSTAMP:20260425T153331Z
DESCRIPTION:
DTSTART:20250616T100000Z
DTEND:20250616T110000Z
LOCATION:Building E1.7 Room 4.15
SUMMARY:Ipcv: Office Hour: Ali El Chami
END:VEVENT
BEGIN:VEVENT
UID:38353038-3565-4636-a464-393261363964
DTSTAMP:20260425T153331Z
DESCRIPTION:
DTSTART:20250616T130000Z
DTEND:20250616T140000Z
LOCATION:Building E1.7 Room 4.15
SUMMARY:Ipcv: Office Hour: Vipil Vijay
END:VEVENT
BEGIN:VEVENT
UID:31396535-3139-4432-b239-326330353030
DTSTAMP:20260425T153331Z
DESCRIPTION:
DTSTART:20250617T081500Z
DTEND:20250617T094500Z
LOCATION:online
SUMMARY:Ipcv: Lecture
END:VEVENT
BEGIN:VEVENT
UID:66633062-3137-4663-a264-393031653934
DTSTAMP:20260425T153331Z
DESCRIPTION:
DTSTART:20250617T111500Z
DTEND:20250617T121500Z
LOCATION:Building E1.7 Room 4.07
SUMMARY:Ipcv: Office hour: TA Karl Schrader
END:VEVENT
BEGIN:VEVENT
UID:39633136-6261-4164-b331-636162383863
DTSTAMP:20260425T153331Z
DESCRIPTION:
DTSTART:20250618T080000Z
DTEND:20250618T090000Z
LOCATION:Building E1.7 Room 4.15
SUMMARY:Ipcv: Office Hour: Tranh Anh Dang Le
END:VEVENT
BEGIN:VEVENT
UID:36323032-6465-4335-a132-643037356665
DTSTAMP:20260425T153331Z
DESCRIPTION:
DTSTART:20250618T090000Z
DTEND:20250618T100000Z
LOCATION:Building E1.7 Room 4.03
SUMMARY:Ipcv: Office Hour: Daniel Gaa
END:VEVENT
BEGIN:VEVENT
UID:61623635-3735-4831-b335-376638393531
DTSTAMP:20260425T153331Z
DESCRIPTION:
DTSTART:20250619T100000Z
DTEND:20250619T110000Z
LOCATION:Building E1.7 Room 4.15
SUMMARY:Ipcv: Office Hour: Enes Ulus
END:VEVENT
BEGIN:VEVENT
UID:64323561-3663-4630-b938-336330356264
DTSTAMP:20260425T153331Z
DESCRIPTION:
DTSTART:20250620T081500Z
DTEND:20250620T094500Z
LOCATION:online
SUMMARY:Ipcv: Lecture
END:VEVENT
BEGIN:VEVENT
UID:38656132-6364-4336-a538-303766366538
DTSTAMP:20260425T153331Z
DESCRIPTION:
DTSTART:20250623T100000Z
DTEND:20250623T110000Z
LOCATION:Building E1.7 Room 4.15
SUMMARY:Ipcv: Office Hour: Ali El Chami
END:VEVENT
BEGIN:VEVENT
UID:39343963-6533-4061-a130-343264316461
DTSTAMP:20260425T153331Z
DESCRIPTION:
DTSTART:20250623T130000Z
DTEND:20250623T140000Z
LOCATION:Building E1.7 Room 4.15
SUMMARY:Ipcv: Office Hour: Vipil Vijay
END:VEVENT
BEGIN:VEVENT
UID:38366137-3930-4138-a238-353836656661
DTSTAMP:20260425T153331Z
DESCRIPTION:
DTSTART:20250624T081500Z
DTEND:20250624T094500Z
LOCATION:online
SUMMARY:Ipcv: Lecture
END:VEVENT
BEGIN:VEVENT
UID:36656363-3363-4234-b931-393961346635
DTSTAMP:20260425T153331Z
DESCRIPTION:
DTSTART:20250624T111500Z
DTEND:20250624T121500Z
LOCATION:Building E1.7 Room 4.07
SUMMARY:Ipcv: Office hour: TA Karl Schrader
END:VEVENT
BEGIN:VEVENT
UID:33623166-3535-4434-a335-653937343331
DTSTAMP:20260425T153331Z
DESCRIPTION:
DTSTART:20250625T080000Z
DTEND:20250625T090000Z
LOCATION:Building E1.7 Room 4.15
SUMMARY:Ipcv: Office Hour: Tranh Anh Dang Le
END:VEVENT
BEGIN:VEVENT
UID:62383436-6237-4366-b264-656330663166
DTSTAMP:20260425T153331Z
DESCRIPTION:
DTSTART:20250625T090000Z
DTEND:20250625T100000Z
LOCATION:Building E1.7 Room 4.03
SUMMARY:Ipcv: Office Hour: Daniel Gaa
END:VEVENT
BEGIN:VEVENT
UID:64363464-3036-4364-b165-313863343365
DTSTAMP:20260425T153331Z
DESCRIPTION:
DTSTART:20250626T100000Z
DTEND:20250626T110000Z
LOCATION:Building E1.7 Room 4.15
SUMMARY:Ipcv: Office Hour: Enes Ulus
END:VEVENT
BEGIN:VEVENT
UID:37616232-6632-4534-b361-666633343765
DTSTAMP:20260425T153331Z
DESCRIPTION:
DTSTART:20250627T081500Z
DTEND:20250627T094500Z
LOCATION:online
SUMMARY:Ipcv: Lecture
END:VEVENT
BEGIN:VEVENT
UID:63336531-3062-4463-b238-613532373333
DTSTAMP:20260425T153331Z
DESCRIPTION:
DTSTART:20250630T100000Z
DTEND:20250630T110000Z
LOCATION:Building E1.7 Room 4.15
SUMMARY:Ipcv: Office Hour: Ali El Chami
END:VEVENT
BEGIN:VEVENT
UID:64326633-3037-4532-a532-326164626465
DTSTAMP:20260425T153331Z
DESCRIPTION:
DTSTART:20250630T130000Z
DTEND:20250630T140000Z
LOCATION:Building E1.7 Room 4.15
SUMMARY:Ipcv: Office Hour: Vipil Vijay
END:VEVENT
BEGIN:VEVENT
UID:61373265-3063-4232-b133-613533376231
DTSTAMP:20260425T153331Z
DESCRIPTION:
DTSTART:20250701T081500Z
DTEND:20250701T094500Z
LOCATION:online
SUMMARY:Ipcv: Lecture
END:VEVENT
BEGIN:VEVENT
UID:65306433-6662-4437-b531-633030313961
DTSTAMP:20260425T153331Z
DESCRIPTION:
DTSTART:20250702T080000Z
DTEND:20250702T090000Z
LOCATION:Building E1.7 Room 4.15
SUMMARY:Ipcv: Office Hour: Tranh Anh Dang Le
END:VEVENT
BEGIN:VEVENT
UID:66316635-3139-4338-b236-656532393462
DTSTAMP:20260425T153331Z
DESCRIPTION:
DTSTART:20250702T090000Z
DTEND:20250702T100000Z
LOCATION:Building E1.7 Room 4.03
SUMMARY:Ipcv: Office Hour: Daniel Gaa
END:VEVENT
BEGIN:VEVENT
UID:65336137-3461-4432-a366-373661353439
DTSTAMP:20260425T153331Z
DESCRIPTION:
DTSTART:20250703T100000Z
DTEND:20250703T110000Z
LOCATION:Building E1.7 Room 4.15
SUMMARY:Ipcv: Office Hour: Enes Ulus
END:VEVENT
BEGIN:VEVENT
UID:33373063-3764-4330-b934-316164386232
DTSTAMP:20260425T153331Z
DESCRIPTION:
DTSTART:20250704T081500Z
DTEND:20250704T094500Z
LOCATION:online
SUMMARY:Ipcv: Lecture
END:VEVENT
BEGIN:VEVENT
UID:30663637-6436-4136-a636-396534366634
DTSTAMP:20260425T153331Z
DESCRIPTION:
DTSTART:20250707T100000Z
DTEND:20250707T110000Z
LOCATION:Building E1.7 Room 4.15
SUMMARY:Ipcv: Office Hour: Ali El Chami
END:VEVENT
BEGIN:VEVENT
UID:66633762-3333-4565-b934-363639646161
DTSTAMP:20260425T153331Z
DESCRIPTION:
DTSTART:20250707T130000Z
DTEND:20250707T140000Z
LOCATION:Building E1.7 Room 4.15
SUMMARY:Ipcv: Office Hour: Vipil Vijay
END:VEVENT
BEGIN:VEVENT
UID:35653731-3734-4436-b931-653937383339
DTSTAMP:20260425T153331Z
DESCRIPTION:
DTSTART:20250708T081500Z
DTEND:20250708T094500Z
LOCATION:online
SUMMARY:Ipcv: Lecture
END:VEVENT
BEGIN:VEVENT
UID:38643361-6238-4563-a630-356261313636
DTSTAMP:20260425T153331Z
DESCRIPTION:
DTSTART:20250708T111500Z
DTEND:20250708T121500Z
LOCATION:Building E1.7 Room 4.07
SUMMARY:Ipcv: Office hour: TA Karl Schrader
END:VEVENT
BEGIN:VEVENT
UID:35313737-3035-4439-a236-386133316362
DTSTAMP:20260425T153331Z
DESCRIPTION:
DTSTART:20250709T080000Z
DTEND:20250709T090000Z
LOCATION:Building E1.7 Room 4.15
SUMMARY:Ipcv: Office Hour: Tranh Anh Dang Le
END:VEVENT
BEGIN:VEVENT
UID:30663962-6265-4438-b331-373565626264
DTSTAMP:20260425T153331Z
DESCRIPTION:
DTSTART:20250709T090000Z
DTEND:20250709T100000Z
LOCATION:Building E1.7 Room 4.03
SUMMARY:Ipcv: Office Hour: Daniel Gaa
END:VEVENT
BEGIN:VEVENT
UID:66346264-3237-4833-a633-626338633862
DTSTAMP:20260425T153331Z
DESCRIPTION:
DTSTART:20250710T100000Z
DTEND:20250710T110000Z
LOCATION:Building E1.7 Room 4.15
SUMMARY:Ipcv: Office Hour: Enes Ulus
END:VEVENT
BEGIN:VEVENT
UID:36313436-6462-4139-b361-356137386439
DTSTAMP:20260425T153331Z
DESCRIPTION:
DTSTART:20250711T081500Z
DTEND:20250711T094500Z
LOCATION:online
SUMMARY:Ipcv: Lecture
END:VEVENT
BEGIN:VEVENT
UID:35383534-3032-4636-a330-396538363763
DTSTAMP:20260425T153331Z
DESCRIPTION:
DTSTART:20250714T100000Z
DTEND:20250714T110000Z
LOCATION:Building E1.7 Room 4.15
SUMMARY:Ipcv: Office Hour: Ali El Chami
END:VEVENT
BEGIN:VEVENT
UID:65313266-6631-4539-b638-336534326166
DTSTAMP:20260425T153331Z
DESCRIPTION:
DTSTART:20250714T130000Z
DTEND:20250714T140000Z
LOCATION:Building E1.7 Room 4.15
SUMMARY:Ipcv: Office Hour: Vipil Vijay
END:VEVENT
BEGIN:VEVENT
UID:62313764-3963-4662-a635-336165373536
DTSTAMP:20260425T153331Z
DESCRIPTION:
DTSTART:20250715T081500Z
DTEND:20250715T094500Z
LOCATION:online
SUMMARY:Ipcv: Lecture
END:VEVENT
BEGIN:VEVENT
UID:35303931-3638-4561-b364-643164393961
DTSTAMP:20260425T153331Z
DESCRIPTION:
DTSTART:20250715T111500Z
DTEND:20250715T121500Z
LOCATION:Building E1.7 Room 4.07
SUMMARY:Ipcv: Office hour: TA Karl Schrader
END:VEVENT
BEGIN:VEVENT
UID:62316663-6136-4134-a463-356233333038
DTSTAMP:20260425T153331Z
DESCRIPTION:
DTSTART:20250716T080000Z
DTEND:20250716T090000Z
LOCATION:Building E1.7 Room 4.15
SUMMARY:Ipcv: Office Hour: Tranh Anh Dang Le
END:VEVENT
BEGIN:VEVENT
UID:37326333-6132-4363-b461-366562373361
DTSTAMP:20260425T153331Z
DESCRIPTION:
DTSTART:20250716T090000Z
DTEND:20250716T100000Z
LOCATION:Building E1.7 Room 4.03
SUMMARY:Ipcv: Office Hour: Daniel Gaa
END:VEVENT
BEGIN:VEVENT
UID:64373537-3037-4435-b664-616665383563
DTSTAMP:20260425T153331Z
DESCRIPTION:
DTSTART:20250717T100000Z
DTEND:20250717T110000Z
LOCATION:Building E1.7 Room 4.15
SUMMARY:Ipcv: Office Hour: Enes Ulus
END:VEVENT
BEGIN:VEVENT
UID:31303666-3638-4032-b364-326334346132
DTSTAMP:20260425T153331Z
DESCRIPTION:
DTSTART:20250718T081500Z
DTEND:20250718T094500Z
LOCATION:online
SUMMARY:Ipcv: Lecture
END:VEVENT
END:VCALENDAR
