BEGIN:VCALENDAR
VERSION:2.0
PRODID:-//134.96.226.213//NONSGML kigkonsult.se iCalcreator 2.41.92//
CALSCALE:GREGORIAN
METHOD:PUBLISH
UID:32353364-6139-4561-b238-366266643531
X-WR-CALNAME:Image Processing and Computer Vision Calendar
X-WR-CALDESC:Events of the lecture  Image Processing and Computer Vision
X-WR-TIMEZONE:Europe/Berlin
BEGIN:VEVENT
UID:31393731-3032-4732-b935-616263643963
DTSTAMP:20260425T153332Z
DESCRIPTION:
DTSTART:20250414T100000Z
DTEND:20250414T110000Z
LOCATION:Building E1.7 Room 4.15
SUMMARY:Office Hour: Ali El Chami
END:VEVENT
BEGIN:VEVENT
UID:61303433-3635-4638-a461-656631306238
DTSTAMP:20260425T153332Z
DESCRIPTION:
DTSTART:20250414T130000Z
DTEND:20250414T140000Z
LOCATION:Building E1.7 Room 4.15
SUMMARY:Office Hour: Vipil Vijay
END:VEVENT
BEGIN:VEVENT
UID:32353432-3739-4138-b138-623762396231
DTSTAMP:20260425T153332Z
DESCRIPTION:
DTSTART:20250415T111500Z
DTEND:20250415T121500Z
LOCATION:Building E1.7 Room 4.07
SUMMARY:Office hour: TA Karl Schrader
END:VEVENT
BEGIN:VEVENT
UID:64383234-3338-4731-a361-303761613632
DTSTAMP:20260425T153332Z
DESCRIPTION:
DTSTART:20250416T080000Z
DTEND:20250416T090000Z
LOCATION:Building E1.7 Room 4.15
SUMMARY:Office Hour: Tranh Anh Dang Le
END:VEVENT
BEGIN:VEVENT
UID:64353630-6363-4634-a439-316330393634
DTSTAMP:20260425T153332Z
DESCRIPTION:
DTSTART:20250416T090000Z
DTEND:20250416T100000Z
LOCATION:Building E1.7 Room 4.03
SUMMARY:Office Hour: Daniel Gaa
END:VEVENT
BEGIN:VEVENT
UID:32663166-6265-4133-a634-633739383863
DTSTAMP:20260425T153332Z
DESCRIPTION:
DTSTART:20250417T100000Z
DTEND:20250417T110000Z
LOCATION:Building E1.7 Room 4.15
SUMMARY:Office Hour: Enes Ulus
END:VEVENT
BEGIN:VEVENT
UID:36363333-6335-4530-b431-313434363264
DTSTAMP:20260425T153332Z
DESCRIPTION:
DTSTART:20250421T100000Z
DTEND:20250421T110000Z
LOCATION:Building E1.7 Room 4.15
SUMMARY:Office Hour: Ali El Chami
END:VEVENT
BEGIN:VEVENT
UID:32396366-6636-4032-b461-616433626534
DTSTAMP:20260425T153332Z
DESCRIPTION:
DTSTART:20250421T130000Z
DTEND:20250421T140000Z
LOCATION:Building E1.7 Room 4.15
SUMMARY:Office Hour: Vipil Vijay
END:VEVENT
BEGIN:VEVENT
UID:30353765-3433-4938-b465-343361356637
DTSTAMP:20260425T153332Z
DESCRIPTION:
DTSTART:20250423T080000Z
DTEND:20250423T090000Z
LOCATION:Building E1.7 Room 4.15
SUMMARY:Office Hour: Tranh Anh Dang Le
END:VEVENT
BEGIN:VEVENT
UID:38366661-3031-4434-b231-363235366361
DTSTAMP:20260425T153332Z
DESCRIPTION:
DTSTART:20250423T090000Z
DTEND:20250423T100000Z
LOCATION:Building E1.7 Room 4.03
SUMMARY:Office Hour: Daniel Gaa
END:VEVENT
BEGIN:VEVENT
UID:37366563-6437-4131-b738-653734656536
DTSTAMP:20260425T153332Z
DESCRIPTION:
DTSTART:20250424T100000Z
DTEND:20250424T110000Z
LOCATION:Building E1.7 Room 4.15
SUMMARY:Office Hour: Enes Ulus
END:VEVENT
BEGIN:VEVENT
UID:37626466-6434-4537-b938-383531636238
DTSTAMP:20260425T153332Z
DESCRIPTION:
DTSTART:20250428T100000Z
DTEND:20250428T110000Z
LOCATION:Building E1.7 Room 4.15
SUMMARY:Office Hour: Ali El Chami
END:VEVENT
BEGIN:VEVENT
UID:36373662-3037-4433-b665-626438663363
DTSTAMP:20260425T153332Z
DESCRIPTION:
DTSTART:20250428T130000Z
DTEND:20250428T140000Z
LOCATION:Building E1.7 Room 4.15
SUMMARY:Office Hour: Vipil Vijay
END:VEVENT
BEGIN:VEVENT
UID:32643236-6335-4738-b030-343034313161
DTSTAMP:20260425T153332Z
DESCRIPTION:
DTSTART:20250430T080000Z
DTEND:20250430T090000Z
LOCATION:Building E1.7 Room 4.15
SUMMARY:Office Hour: Tranh Anh Dang Le
END:VEVENT
BEGIN:VEVENT
UID:32346636-3739-4833-b534-306566353832
DTSTAMP:20260425T153332Z
DESCRIPTION:
DTSTART:20250430T090000Z
DTEND:20250430T100000Z
LOCATION:Building E1.7 Room 4.03
SUMMARY:Office Hour: Daniel Gaa
END:VEVENT
BEGIN:VEVENT
UID:39373165-3532-4437-a432-616533353336
DTSTAMP:20260425T153332Z
DESCRIPTION:
DTSTART:20250501T100000Z
DTEND:20250501T110000Z
LOCATION:Building E1.7 Room 4.15
SUMMARY:Office Hour: Enes Ulus
END:VEVENT
BEGIN:VEVENT
UID:30663136-3064-4562-b163-313865306437
DTSTAMP:20260425T153332Z
DESCRIPTION:
DTSTART:20250505T100000Z
DTEND:20250505T110000Z
LOCATION:Building E1.7 Room 4.15
SUMMARY:Office Hour: Ali El Chami
END:VEVENT
BEGIN:VEVENT
UID:30653630-3332-4733-a166-656435386362
DTSTAMP:20260425T153332Z
DESCRIPTION:
DTSTART:20250505T130000Z
DTEND:20250505T140000Z
LOCATION:Building E1.7 Room 4.15
SUMMARY:Office Hour: Vipil Vijay
END:VEVENT
BEGIN:VEVENT
UID:63333866-6639-4937-b831-326534323139
DTSTAMP:20260425T153332Z
DESCRIPTION:
DTSTART:20250506T111500Z
DTEND:20250506T121500Z
LOCATION:Building E1.7 Room 4.07
SUMMARY:Office hour: TA Karl Schrader
END:VEVENT
BEGIN:VEVENT
UID:32363661-3637-4261-a239-343865666662
DTSTAMP:20260425T153332Z
DESCRIPTION:
DTSTART:20250507T080000Z
DTEND:20250507T090000Z
LOCATION:Building E1.7 Room 4.15
SUMMARY:Office Hour: Tranh Anh Dang Le
END:VEVENT
BEGIN:VEVENT
UID:34663234-6336-4461-b466-313139343037
DTSTAMP:20260425T153332Z
DESCRIPTION:
DTSTART:20250507T090000Z
DTEND:20250507T100000Z
LOCATION:Building E1.7 Room 4.03
SUMMARY:Office Hour: Daniel Gaa
END:VEVENT
BEGIN:VEVENT
UID:61316136-6134-4533-b062-653530656439
DTSTAMP:20260425T153332Z
DESCRIPTION:
DTSTART:20250508T100000Z
DTEND:20250508T110000Z
LOCATION:Building E1.7 Room 4.15
SUMMARY:Office Hour: Enes Ulus
END:VEVENT
BEGIN:VEVENT
UID:36313938-3963-4632-a662-343261323235
DTSTAMP:20260425T153332Z
DESCRIPTION:
DTSTART:20250512T100000Z
DTEND:20250512T110000Z
LOCATION:Building E1.7 Room 4.15
SUMMARY:Office Hour: Ali El Chami
END:VEVENT
BEGIN:VEVENT
UID:32396637-6662-4536-a433-636234363662
DTSTAMP:20260425T153332Z
DESCRIPTION:
DTSTART:20250512T130000Z
DTEND:20250512T140000Z
LOCATION:Building E1.7 Room 4.15
SUMMARY:Office Hour: Vipil Vijay
END:VEVENT
BEGIN:VEVENT
UID:65666135-3266-4561-b530-383339383161
DTSTAMP:20260425T153332Z
DESCRIPTION:
DTSTART:20250513T111500Z
DTEND:20250513T121500Z
LOCATION:Building E1.7 Room 4.07
SUMMARY:Office hour: TA Karl Schrader
END:VEVENT
BEGIN:VEVENT
UID:30643734-6530-4632-a261-393433336435
DTSTAMP:20260425T153332Z
DESCRIPTION:
DTSTART:20250514T080000Z
DTEND:20250514T090000Z
LOCATION:Building E1.7 Room 4.15
SUMMARY:Office Hour: Tranh Anh Dang Le
END:VEVENT
BEGIN:VEVENT
UID:30666362-3137-4361-a237-663436633565
DTSTAMP:20260425T153332Z
DESCRIPTION:
DTSTART:20250514T090000Z
DTEND:20250514T100000Z
LOCATION:Building E1.7 Room 4.03
SUMMARY:Office Hour: Daniel Gaa
END:VEVENT
BEGIN:VEVENT
UID:34366465-6665-4163-a631-353536393161
DTSTAMP:20260425T153332Z
DESCRIPTION:
DTSTART:20250515T100000Z
DTEND:20250515T110000Z
LOCATION:Building E1.7 Room 4.15
SUMMARY:Office Hour: Enes Ulus
END:VEVENT
BEGIN:VEVENT
UID:65306230-3464-4963-b863-333363346539
DTSTAMP:20260425T153332Z
DESCRIPTION:
DTSTART:20250519T100000Z
DTEND:20250519T110000Z
LOCATION:Building E1.7 Room 4.15
SUMMARY:Office Hour: Ali El Chami
END:VEVENT
BEGIN:VEVENT
UID:32333236-6238-4161-b266-363439376661
DTSTAMP:20260425T153332Z
DESCRIPTION:
DTSTART:20250519T130000Z
DTEND:20250519T140000Z
LOCATION:Building E1.7 Room 4.15
SUMMARY:Office Hour: Vipil Vijay
END:VEVENT
BEGIN:VEVENT
UID:34633534-6338-4534-b434-373138343434
DTSTAMP:20260425T153332Z
DESCRIPTION:
DTSTART:20250520T111500Z
DTEND:20250520T121500Z
LOCATION:Building E1.7 Room 4.07
SUMMARY:Office hour: TA Karl Schrader
END:VEVENT
BEGIN:VEVENT
UID:36356239-6462-4132-a461-343939303038
DTSTAMP:20260425T153332Z
DESCRIPTION:
DTSTART:20250521T080000Z
DTEND:20250521T090000Z
LOCATION:Building E1.7 Room 4.15
SUMMARY:Office Hour: Tranh Anh Dang Le
END:VEVENT
BEGIN:VEVENT
UID:30643032-3033-4030-b438-656132643764
DTSTAMP:20260425T153332Z
DESCRIPTION:
DTSTART:20250521T090000Z
DTEND:20250521T100000Z
LOCATION:Building E1.7 Room 4.03
SUMMARY:Office Hour: Daniel Gaa
END:VEVENT
BEGIN:VEVENT
UID:39303830-6335-4561-b265-376165316564
DTSTAMP:20260425T153332Z
DESCRIPTION:
DTSTART:20250522T100000Z
DTEND:20250522T110000Z
LOCATION:Building E1.7 Room 4.15
SUMMARY:Office Hour: Enes Ulus
END:VEVENT
BEGIN:VEVENT
UID:61666638-6138-4666-b865-396134346137
DTSTAMP:20260425T153332Z
DESCRIPTION:
DTSTART:20250526T100000Z
DTEND:20250526T110000Z
LOCATION:Building E1.7 Room 4.15
SUMMARY:Office Hour: Ali El Chami
END:VEVENT
BEGIN:VEVENT
UID:34343866-6637-4530-b038-613762613030
DTSTAMP:20260425T153332Z
DESCRIPTION:
DTSTART:20250526T130000Z
DTEND:20250526T140000Z
LOCATION:Building E1.7 Room 4.15
SUMMARY:Office Hour: Vipil Vijay
END:VEVENT
BEGIN:VEVENT
UID:32353464-6338-4634-b133-643165653762
DTSTAMP:20260425T153332Z
DESCRIPTION:
DTSTART:20250527T111500Z
DTEND:20250527T121500Z
LOCATION:Building E1.7 Room 4.07
SUMMARY:Office hour: TA Karl Schrader
END:VEVENT
BEGIN:VEVENT
UID:63326366-6433-4664-a630-366161363365
DTSTAMP:20260425T153332Z
DESCRIPTION:
DTSTART:20250528T080000Z
DTEND:20250528T090000Z
LOCATION:Building E1.7 Room 4.15
SUMMARY:Office Hour: Tranh Anh Dang Le
END:VEVENT
BEGIN:VEVENT
UID:38303836-3366-4462-b433-306131333037
DTSTAMP:20260425T153332Z
DESCRIPTION:
DTSTART:20250528T090000Z
DTEND:20250528T100000Z
LOCATION:Building E1.7 Room 4.03
SUMMARY:Office Hour: Daniel Gaa
END:VEVENT
BEGIN:VEVENT
UID:65373761-3033-4535-a362-623036333232
DTSTAMP:20260425T153332Z
DESCRIPTION:
DTSTART:20250529T100000Z
DTEND:20250529T110000Z
LOCATION:Building E1.7 Room 4.15
SUMMARY:Office Hour: Enes Ulus
END:VEVENT
BEGIN:VEVENT
UID:32623538-3034-4534-a361-343165663265
DTSTAMP:20260425T153332Z
DESCRIPTION:
DTSTART:20250602T100000Z
DTEND:20250602T110000Z
LOCATION:Building E1.7 Room 4.15
SUMMARY:Office Hour: Ali El Chami
END:VEVENT
BEGIN:VEVENT
UID:36643662-3264-4035-a530-313138383231
DTSTAMP:20260425T153332Z
DESCRIPTION:
DTSTART:20250603T111500Z
DTEND:20250603T121500Z
LOCATION:Building E1.7 Room 4.07
SUMMARY:Office hour: TA Karl Schrader
END:VEVENT
BEGIN:VEVENT
UID:30343162-3132-4434-b465-636663616435
DTSTAMP:20260425T153332Z
DESCRIPTION:
DTSTART:20250604T080000Z
DTEND:20250604T090000Z
LOCATION:Building E1.7 Room 4.15
SUMMARY:Office Hour: Tranh Anh Dang Le
END:VEVENT
BEGIN:VEVENT
UID:31633263-3039-4234-a465-643538306635
DTSTAMP:20260425T153332Z
DESCRIPTION:
DTSTART:20250604T090000Z
DTEND:20250604T100000Z
LOCATION:Building E1.7 Room 4.03
SUMMARY:Office Hour: Daniel Gaa
END:VEVENT
BEGIN:VEVENT
UID:38383461-6636-4030-a335-663037396335
DTSTAMP:20260425T153332Z
DESCRIPTION:
DTSTART:20250605T100000Z
DTEND:20250605T110000Z
LOCATION:Building E1.7 Room 4.15
SUMMARY:Office Hour: Enes Ulus
END:VEVENT
BEGIN:VEVENT
UID:30333066-3934-4362-b331-633933393865
DTSTAMP:20260425T153332Z
DESCRIPTION:
DTSTART:20250609T100000Z
DTEND:20250609T110000Z
LOCATION:Building E1.7 Room 4.15
SUMMARY:Office Hour: Ali El Chami
END:VEVENT
BEGIN:VEVENT
UID:39613262-3235-4262-b534-333762643963
DTSTAMP:20260425T153332Z
DESCRIPTION:
DTSTART:20250609T130000Z
DTEND:20250609T140000Z
LOCATION:Building E1.7 Room 4.15
SUMMARY:Office Hour: Vipil Vijay
END:VEVENT
BEGIN:VEVENT
UID:32363230-6363-4735-b035-623064393734
DTSTAMP:20260425T153332Z
DESCRIPTION:
DTSTART:20250610T111500Z
DTEND:20250610T121500Z
LOCATION:Building E1.7 Room 4.07
SUMMARY:Office hour: TA Karl Schrader
END:VEVENT
BEGIN:VEVENT
UID:30626334-6162-4966-b731-613433303362
DTSTAMP:20260425T153332Z
DESCRIPTION:
DTSTART:20250611T080000Z
DTEND:20250611T090000Z
LOCATION:Building E1.7 Room 4.15
SUMMARY:Office Hour: Tranh Anh Dang Le
END:VEVENT
BEGIN:VEVENT
UID:35316336-6231-4138-b639-336239633131
DTSTAMP:20260425T153332Z
DESCRIPTION:
DTSTART:20250611T090000Z
DTEND:20250611T100000Z
LOCATION:Building E1.7 Room 4.03
SUMMARY:Office Hour: Daniel Gaa
END:VEVENT
BEGIN:VEVENT
UID:63313564-3430-4464-b134-366538333361
DTSTAMP:20260425T153332Z
DESCRIPTION:
DTSTART:20250612T100000Z
DTEND:20250612T110000Z
LOCATION:Building E1.7 Room 4.15
SUMMARY:Office Hour: Enes Ulus
END:VEVENT
BEGIN:VEVENT
UID:39383731-6634-4262-b432-383533333666
DTSTAMP:20260425T153332Z
DESCRIPTION:
DTSTART:20250616T100000Z
DTEND:20250616T110000Z
LOCATION:Building E1.7 Room 4.15
SUMMARY:Office Hour: Ali El Chami
END:VEVENT
BEGIN:VEVENT
UID:62616664-6630-4161-a561-383462613861
DTSTAMP:20260425T153332Z
DESCRIPTION:
DTSTART:20250616T130000Z
DTEND:20250616T140000Z
LOCATION:Building E1.7 Room 4.15
SUMMARY:Office Hour: Vipil Vijay
END:VEVENT
BEGIN:VEVENT
UID:36653539-6537-4564-b332-363839396663
DTSTAMP:20260425T153332Z
DESCRIPTION:
DTSTART:20250617T111500Z
DTEND:20250617T121500Z
LOCATION:Building E1.7 Room 4.07
SUMMARY:Office hour: TA Karl Schrader
END:VEVENT
BEGIN:VEVENT
UID:34616239-6563-4130-b065-313464633038
DTSTAMP:20260425T153332Z
DESCRIPTION:
DTSTART:20250618T080000Z
DTEND:20250618T090000Z
LOCATION:Building E1.7 Room 4.15
SUMMARY:Office Hour: Tranh Anh Dang Le
END:VEVENT
BEGIN:VEVENT
UID:33373966-3666-4331-b530-633962336539
DTSTAMP:20260425T153332Z
DESCRIPTION:
DTSTART:20250618T090000Z
DTEND:20250618T100000Z
LOCATION:Building E1.7 Room 4.03
SUMMARY:Office Hour: Daniel Gaa
END:VEVENT
BEGIN:VEVENT
UID:38623061-3531-4564-b639-376634376561
DTSTAMP:20260425T153332Z
DESCRIPTION:
DTSTART:20250619T100000Z
DTEND:20250619T110000Z
LOCATION:Building E1.7 Room 4.15
SUMMARY:Office Hour: Enes Ulus
END:VEVENT
BEGIN:VEVENT
UID:62636135-3139-4130-a135-643963386664
DTSTAMP:20260425T153332Z
DESCRIPTION:
DTSTART:20250623T100000Z
DTEND:20250623T110000Z
LOCATION:Building E1.7 Room 4.15
SUMMARY:Office Hour: Ali El Chami
END:VEVENT
BEGIN:VEVENT
UID:32393561-3363-4831-b138-663561633835
DTSTAMP:20260425T153332Z
DESCRIPTION:
DTSTART:20250623T130000Z
DTEND:20250623T140000Z
LOCATION:Building E1.7 Room 4.15
SUMMARY:Office Hour: Vipil Vijay
END:VEVENT
BEGIN:VEVENT
UID:61303732-6233-4132-b731-316362643334
DTSTAMP:20260425T153332Z
DESCRIPTION:
DTSTART:20250624T111500Z
DTEND:20250624T121500Z
LOCATION:Building E1.7 Room 4.07
SUMMARY:Office hour: TA Karl Schrader
END:VEVENT
BEGIN:VEVENT
UID:33326432-6363-4338-a139-643237653363
DTSTAMP:20260425T153332Z
DESCRIPTION:
DTSTART:20250625T080000Z
DTEND:20250625T090000Z
LOCATION:Building E1.7 Room 4.15
SUMMARY:Office Hour: Tranh Anh Dang Le
END:VEVENT
BEGIN:VEVENT
UID:31356166-6336-4237-a531-363830653038
DTSTAMP:20260425T153332Z
DESCRIPTION:
DTSTART:20250625T090000Z
DTEND:20250625T100000Z
LOCATION:Building E1.7 Room 4.03
SUMMARY:Office Hour: Daniel Gaa
END:VEVENT
BEGIN:VEVENT
UID:61396335-6163-4937-a636-383161626234
DTSTAMP:20260425T153332Z
DESCRIPTION:
DTSTART:20250626T100000Z
DTEND:20250626T110000Z
LOCATION:Building E1.7 Room 4.15
SUMMARY:Office Hour: Enes Ulus
END:VEVENT
BEGIN:VEVENT
UID:32336665-6437-4237-b262-303232373531
DTSTAMP:20260425T153332Z
DESCRIPTION:
DTSTART:20250630T100000Z
DTEND:20250630T110000Z
LOCATION:Building E1.7 Room 4.15
SUMMARY:Office Hour: Ali El Chami
END:VEVENT
BEGIN:VEVENT
UID:30386530-3366-4435-a237-356637386362
DTSTAMP:20260425T153332Z
DESCRIPTION:
DTSTART:20250630T130000Z
DTEND:20250630T140000Z
LOCATION:Building E1.7 Room 4.15
SUMMARY:Office Hour: Vipil Vijay
END:VEVENT
BEGIN:VEVENT
UID:35653864-6664-4435-b139-383663663564
DTSTAMP:20260425T153332Z
DESCRIPTION:
DTSTART:20250702T080000Z
DTEND:20250702T090000Z
LOCATION:Building E1.7 Room 4.15
SUMMARY:Office Hour: Tranh Anh Dang Le
END:VEVENT
BEGIN:VEVENT
UID:39386636-3265-4431-b030-393162626339
DTSTAMP:20260425T153332Z
DESCRIPTION:
DTSTART:20250702T090000Z
DTEND:20250702T100000Z
LOCATION:Building E1.7 Room 4.03
SUMMARY:Office Hour: Daniel Gaa
END:VEVENT
BEGIN:VEVENT
UID:61343264-3235-4164-b036-326331393731
DTSTAMP:20260425T153332Z
DESCRIPTION:
DTSTART:20250703T100000Z
DTEND:20250703T110000Z
LOCATION:Building E1.7 Room 4.15
SUMMARY:Office Hour: Enes Ulus
END:VEVENT
BEGIN:VEVENT
UID:38313630-3738-4430-b734-633063643665
DTSTAMP:20260425T153332Z
DESCRIPTION:
DTSTART:20250707T100000Z
DTEND:20250707T110000Z
LOCATION:Building E1.7 Room 4.15
SUMMARY:Office Hour: Ali El Chami
END:VEVENT
BEGIN:VEVENT
UID:66656265-3031-4264-b235-653564613762
DTSTAMP:20260425T153332Z
DESCRIPTION:
DTSTART:20250707T130000Z
DTEND:20250707T140000Z
LOCATION:Building E1.7 Room 4.15
SUMMARY:Office Hour: Vipil Vijay
END:VEVENT
BEGIN:VEVENT
UID:30346237-3231-4336-b036-323233303835
DTSTAMP:20260425T153332Z
DESCRIPTION:
DTSTART:20250708T111500Z
DTEND:20250708T121500Z
LOCATION:Building E1.7 Room 4.07
SUMMARY:Office hour: TA Karl Schrader
END:VEVENT
BEGIN:VEVENT
UID:63313262-3532-4864-a537-663930303339
DTSTAMP:20260425T153332Z
DESCRIPTION:
DTSTART:20250709T080000Z
DTEND:20250709T090000Z
LOCATION:Building E1.7 Room 4.15
SUMMARY:Office Hour: Tranh Anh Dang Le
END:VEVENT
BEGIN:VEVENT
UID:33663562-3666-4931-a666-366665666633
DTSTAMP:20260425T153332Z
DESCRIPTION:
DTSTART:20250709T090000Z
DTEND:20250709T100000Z
LOCATION:Building E1.7 Room 4.03
SUMMARY:Office Hour: Daniel Gaa
END:VEVENT
BEGIN:VEVENT
UID:36303231-3936-4435-a136-383438656638
DTSTAMP:20260425T153332Z
DESCRIPTION:
DTSTART:20250710T100000Z
DTEND:20250710T110000Z
LOCATION:Building E1.7 Room 4.15
SUMMARY:Office Hour: Enes Ulus
END:VEVENT
BEGIN:VEVENT
UID:33336664-6161-4334-b430-646362653564
DTSTAMP:20260425T153332Z
DESCRIPTION:
DTSTART:20250714T100000Z
DTEND:20250714T110000Z
LOCATION:Building E1.7 Room 4.15
SUMMARY:Office Hour: Ali El Chami
END:VEVENT
BEGIN:VEVENT
UID:35333563-6636-4830-a539-303465363233
DTSTAMP:20260425T153332Z
DESCRIPTION:
DTSTART:20250714T130000Z
DTEND:20250714T140000Z
LOCATION:Building E1.7 Room 4.15
SUMMARY:Office Hour: Vipil Vijay
END:VEVENT
BEGIN:VEVENT
UID:63356333-3132-4032-a337-386338633365
DTSTAMP:20260425T153332Z
DESCRIPTION:
DTSTART:20250715T111500Z
DTEND:20250715T121500Z
LOCATION:Building E1.7 Room 4.07
SUMMARY:Office hour: TA Karl Schrader
END:VEVENT
BEGIN:VEVENT
UID:37633763-3864-4837-b032-363962636564
DTSTAMP:20260425T153332Z
DESCRIPTION:
DTSTART:20250716T080000Z
DTEND:20250716T090000Z
LOCATION:Building E1.7 Room 4.15
SUMMARY:Office Hour: Tranh Anh Dang Le
END:VEVENT
BEGIN:VEVENT
UID:37633666-3632-4463-b331-616164343666
DTSTAMP:20260425T153332Z
DESCRIPTION:
DTSTART:20250716T090000Z
DTEND:20250716T100000Z
LOCATION:Building E1.7 Room 4.03
SUMMARY:Office Hour: Daniel Gaa
END:VEVENT
BEGIN:VEVENT
UID:64306665-6635-4365-a230-646639336239
DTSTAMP:20260425T153332Z
DESCRIPTION:
DTSTART:20250717T100000Z
DTEND:20250717T110000Z
LOCATION:Building E1.7 Room 4.15
SUMMARY:Office Hour: Enes Ulus
END:VEVENT
END:VCALENDAR
