BEGIN:VCALENDAR
VERSION:2.0
PRODID:-//134.96.226.213//NONSGML kigkonsult.se iCalcreator 2.41.92//
CALSCALE:GREGORIAN
METHOD:PUBLISH
UID:63626338-6534-4039-b839-356439396161
X-WR-CALNAME:Image Processing and Computer Vision Calendar
X-WR-CALDESC:Events of the lecture  Image Processing and Computer Vision
X-WR-TIMEZONE:Europe/Berlin
BEGIN:VEVENT
UID:66373534-3863-4130-b636-633036646639
DTSTAMP:20260425T153406Z
DESCRIPTION:
DTSTART:20250408T081500Z
DTEND:20250408T094500Z
LOCATION:online
SUMMARY:Ipcv: Lecture
END:VEVENT
BEGIN:VEVENT
UID:62306432-3037-4534-b031-623765336634
DTSTAMP:20260425T153406Z
DESCRIPTION:
DTSTART:20250411T081500Z
DTEND:20250411T094500Z
LOCATION:online
SUMMARY:Ipcv: Lecture
END:VEVENT
BEGIN:VEVENT
UID:31366462-3861-4830-a263-613537306337
DTSTAMP:20260425T153406Z
DESCRIPTION:
DTSTART:20250415T081500Z
DTEND:20250415T094500Z
LOCATION:online
SUMMARY:Ipcv: Lecture
END:VEVENT
BEGIN:VEVENT
UID:37353338-3535-4637-b531-663239373466
DTSTAMP:20260425T153406Z
DESCRIPTION:
DTSTART:20250417T161500Z
DTEND:20250417T174500Z
LOCATION:online
SUMMARY:Ipcv: Lecture
END:VEVENT
BEGIN:VEVENT
UID:35626331-6638-4636-a161-386630656433
DTSTAMP:20260425T153406Z
DESCRIPTION:
DTSTART:20250422T081500Z
DTEND:20250422T094500Z
LOCATION:online
SUMMARY:Ipcv: Lecture
END:VEVENT
BEGIN:VEVENT
UID:36376561-6436-4064-b939-653137616133
DTSTAMP:20260425T153406Z
DESCRIPTION:
DTSTART:20250425T081500Z
DTEND:20250425T094500Z
LOCATION:online
SUMMARY:Ipcv: Lecture
END:VEVENT
BEGIN:VEVENT
UID:64626663-6333-4464-b532-383430633232
DTSTAMP:20260425T153406Z
DESCRIPTION:
DTSTART:20250429T081500Z
DTEND:20250429T094500Z
LOCATION:online
SUMMARY:Ipcv: Lecture
END:VEVENT
BEGIN:VEVENT
UID:64666337-6130-4635-b162-323237303137
DTSTAMP:20260425T153406Z
DESCRIPTION:
DTSTART:20250502T081500Z
DTEND:20250502T094500Z
LOCATION:online
SUMMARY:Ipcv: Lecture
END:VEVENT
BEGIN:VEVENT
UID:37353839-3337-4835-b463-393636666666
DTSTAMP:20260425T153406Z
DESCRIPTION:
DTSTART:20250506T081500Z
DTEND:20250506T094500Z
LOCATION:online
SUMMARY:Ipcv: Lecture
END:VEVENT
BEGIN:VEVENT
UID:37653333-6330-4233-b766-343265633061
DTSTAMP:20260425T153406Z
DESCRIPTION:
DTSTART:20250509T081500Z
DTEND:20250509T094500Z
LOCATION:online
SUMMARY:Ipcv: Lecture
END:VEVENT
BEGIN:VEVENT
UID:38343533-6332-4130-b735-303630376535
DTSTAMP:20260425T153406Z
DESCRIPTION:
DTSTART:20250513T081500Z
DTEND:20250513T094500Z
LOCATION:online
SUMMARY:Ipcv: Lecture
END:VEVENT
BEGIN:VEVENT
UID:39383262-6361-4066-b365-333039636235
DTSTAMP:20260425T153406Z
DESCRIPTION:
DTSTART:20250516T081500Z
DTEND:20250516T094500Z
LOCATION:online
SUMMARY:Ipcv: Lecture
END:VEVENT
BEGIN:VEVENT
UID:63666466-3839-4331-b635-646430383561
DTSTAMP:20260425T153406Z
DESCRIPTION:
DTSTART:20250520T081500Z
DTEND:20250520T094500Z
LOCATION:online
SUMMARY:Ipcv: Lecture
END:VEVENT
BEGIN:VEVENT
UID:35323431-3631-4430-b138-343366313666
DTSTAMP:20260425T153406Z
DESCRIPTION:
DTSTART:20250523T081500Z
DTEND:20250523T094500Z
LOCATION:online
SUMMARY:Ipcv: Lecture
END:VEVENT
BEGIN:VEVENT
UID:36626637-6331-4364-b065-653435663938
DTSTAMP:20260425T153406Z
DESCRIPTION:
DTSTART:20250527T081500Z
DTEND:20250527T094500Z
LOCATION:online
SUMMARY:Ipcv: Lecture
END:VEVENT
BEGIN:VEVENT
UID:33323636-3861-4033-b061-323063303461
DTSTAMP:20260425T153406Z
DESCRIPTION:
DTSTART:20250530T081500Z
DTEND:20250530T094500Z
LOCATION:online
SUMMARY:Ipcv: Lecture
END:VEVENT
BEGIN:VEVENT
UID:37613135-3032-4535-a431-653830663363
DTSTAMP:20260425T153406Z
DESCRIPTION:
DTSTART:20250603T081500Z
DTEND:20250603T094500Z
LOCATION:online
SUMMARY:Ipcv: Lecture
END:VEVENT
BEGIN:VEVENT
UID:35663238-3833-4331-b736-303331386637
DTSTAMP:20260425T153406Z
DESCRIPTION:
DTSTART:20250606T081500Z
DTEND:20250606T094500Z
LOCATION:online
SUMMARY:Ipcv: Lecture
END:VEVENT
BEGIN:VEVENT
UID:31313530-3532-4035-a136-313431636234
DTSTAMP:20260425T153406Z
DESCRIPTION:
DTSTART:20250610T081500Z
DTEND:20250610T094500Z
LOCATION:online
SUMMARY:Ipcv: Lecture
END:VEVENT
BEGIN:VEVENT
UID:36396436-3438-4661-b630-303731613234
DTSTAMP:20260425T153406Z
DESCRIPTION:
DTSTART:20250613T081500Z
DTEND:20250613T094500Z
LOCATION:online
SUMMARY:Ipcv: Lecture
END:VEVENT
BEGIN:VEVENT
UID:64363962-6637-4562-b837-336439633232
DTSTAMP:20260425T153406Z
DESCRIPTION:
DTSTART:20250617T081500Z
DTEND:20250617T094500Z
LOCATION:online
SUMMARY:Ipcv: Lecture
END:VEVENT
BEGIN:VEVENT
UID:63393333-3832-4266-b032-366566396232
DTSTAMP:20260425T153406Z
DESCRIPTION:
DTSTART:20250620T081500Z
DTEND:20250620T094500Z
LOCATION:online
SUMMARY:Ipcv: Lecture
END:VEVENT
BEGIN:VEVENT
UID:39613036-3764-4532-b462-396530656530
DTSTAMP:20260425T153406Z
DESCRIPTION:
DTSTART:20250624T081500Z
DTEND:20250624T094500Z
LOCATION:online
SUMMARY:Ipcv: Lecture
END:VEVENT
BEGIN:VEVENT
UID:36343230-3362-4835-b135-346266326635
DTSTAMP:20260425T153406Z
DESCRIPTION:
DTSTART:20250627T081500Z
DTEND:20250627T094500Z
LOCATION:online
SUMMARY:Ipcv: Lecture
END:VEVENT
BEGIN:VEVENT
UID:64313137-3763-4564-b661-363665336466
DTSTAMP:20260425T153406Z
DESCRIPTION:
DTSTART:20250701T081500Z
DTEND:20250701T094500Z
LOCATION:online
SUMMARY:Ipcv: Lecture
END:VEVENT
BEGIN:VEVENT
UID:36663665-6532-4261-b365-633666643436
DTSTAMP:20260425T153406Z
DESCRIPTION:
DTSTART:20250704T081500Z
DTEND:20250704T094500Z
LOCATION:online
SUMMARY:Ipcv: Lecture
END:VEVENT
BEGIN:VEVENT
UID:61313930-3933-4665-b064-633861633832
DTSTAMP:20260425T153406Z
DESCRIPTION:
DTSTART:20250708T081500Z
DTEND:20250708T094500Z
LOCATION:online
SUMMARY:Ipcv: Lecture
END:VEVENT
BEGIN:VEVENT
UID:39373232-3232-4266-b065-333165653832
DTSTAMP:20260425T153406Z
DESCRIPTION:
DTSTART:20250711T081500Z
DTEND:20250711T094500Z
LOCATION:online
SUMMARY:Ipcv: Lecture
END:VEVENT
BEGIN:VEVENT
UID:36376238-6233-4163-a132-613661383234
DTSTAMP:20260425T153406Z
DESCRIPTION:
DTSTART:20250715T081500Z
DTEND:20250715T094500Z
LOCATION:online
SUMMARY:Ipcv: Lecture
END:VEVENT
BEGIN:VEVENT
UID:31663730-3138-4131-a532-623165633665
DTSTAMP:20260425T153406Z
DESCRIPTION:
DTSTART:20250718T081500Z
DTEND:20250718T094500Z
LOCATION:online
SUMMARY:Ipcv: Lecture
END:VEVENT
END:VCALENDAR
