BEGIN:VCALENDAR
VERSION:2.0
PRODID:-//134.96.226.213//NONSGML kigkonsult.se iCalcreator 2.41.92//
CALSCALE:GREGORIAN
METHOD:PUBLISH
UID:38643932-3331-4365-b162-643537646664
X-WR-CALNAME:Image Processing and Computer Vision Calendar
X-WR-CALDESC:Events of the lecture  Image Processing and Computer Vision
X-WR-TIMEZONE:Europe/Berlin
BEGIN:VEVENT
UID:62396262-3366-4231-b437-306537333632
DTSTAMP:20260425T153331Z
DESCRIPTION:
DTSTART:20250408T081500Z
DTEND:20250408T094500Z
LOCATION:online
SUMMARY:Lecture
END:VEVENT
BEGIN:VEVENT
UID:63356539-6230-4938-a466-613233373866
DTSTAMP:20260425T153331Z
DESCRIPTION:
DTSTART:20250411T081500Z
DTEND:20250411T094500Z
LOCATION:online
SUMMARY:Lecture
END:VEVENT
BEGIN:VEVENT
UID:31353062-6432-4066-b136-326565303533
DTSTAMP:20260425T153331Z
DESCRIPTION:
DTSTART:20250415T081500Z
DTEND:20250415T094500Z
LOCATION:online
SUMMARY:Lecture
END:VEVENT
BEGIN:VEVENT
UID:37363631-6538-4937-b130-626632393738
DTSTAMP:20260425T153331Z
DESCRIPTION:
DTSTART:20250417T161500Z
DTEND:20250417T174500Z
LOCATION:online
SUMMARY:Lecture
END:VEVENT
BEGIN:VEVENT
UID:62623262-6362-4463-b134-303964616235
DTSTAMP:20260425T153331Z
DESCRIPTION:
DTSTART:20250422T081500Z
DTEND:20250422T094500Z
LOCATION:online
SUMMARY:Lecture
END:VEVENT
BEGIN:VEVENT
UID:66373263-3335-4162-b633-613939616635
DTSTAMP:20260425T153331Z
DESCRIPTION:
DTSTART:20250425T081500Z
DTEND:20250425T094500Z
LOCATION:online
SUMMARY:Lecture
END:VEVENT
BEGIN:VEVENT
UID:32383332-6632-4362-b639-626364623933
DTSTAMP:20260425T153331Z
DESCRIPTION:
DTSTART:20250429T081500Z
DTEND:20250429T094500Z
LOCATION:online
SUMMARY:Lecture
END:VEVENT
BEGIN:VEVENT
UID:66333634-3535-4334-b064-313538303962
DTSTAMP:20260425T153331Z
DESCRIPTION:
DTSTART:20250502T081500Z
DTEND:20250502T094500Z
LOCATION:online
SUMMARY:Lecture
END:VEVENT
BEGIN:VEVENT
UID:30333638-6434-4563-b737-633035393631
DTSTAMP:20260425T153331Z
DESCRIPTION:
DTSTART:20250506T081500Z
DTEND:20250506T094500Z
LOCATION:online
SUMMARY:Lecture
END:VEVENT
BEGIN:VEVENT
UID:32343932-3233-4861-a664-356264343230
DTSTAMP:20260425T153331Z
DESCRIPTION:
DTSTART:20250509T081500Z
DTEND:20250509T094500Z
LOCATION:online
SUMMARY:Lecture
END:VEVENT
BEGIN:VEVENT
UID:35393236-3266-4534-a431-663737643763
DTSTAMP:20260425T153331Z
DESCRIPTION:
DTSTART:20250513T081500Z
DTEND:20250513T094500Z
LOCATION:online
SUMMARY:Lecture
END:VEVENT
BEGIN:VEVENT
UID:64626466-3131-4361-b532-376235343666
DTSTAMP:20260425T153331Z
DESCRIPTION:
DTSTART:20250516T081500Z
DTEND:20250516T094500Z
LOCATION:online
SUMMARY:Lecture
END:VEVENT
BEGIN:VEVENT
UID:30313336-6634-4635-b332-363538346438
DTSTAMP:20260425T153331Z
DESCRIPTION:
DTSTART:20250520T081500Z
DTEND:20250520T094500Z
LOCATION:online
SUMMARY:Lecture
END:VEVENT
BEGIN:VEVENT
UID:61316230-3731-4838-b033-653633613762
DTSTAMP:20260425T153331Z
DESCRIPTION:
DTSTART:20250523T081500Z
DTEND:20250523T094500Z
LOCATION:online
SUMMARY:Lecture
END:VEVENT
BEGIN:VEVENT
UID:62333762-6466-4666-b937-383565393964
DTSTAMP:20260425T153331Z
DESCRIPTION:
DTSTART:20250527T081500Z
DTEND:20250527T094500Z
LOCATION:online
SUMMARY:Lecture
END:VEVENT
BEGIN:VEVENT
UID:66643036-3632-4562-a636-643238373662
DTSTAMP:20260425T153331Z
DESCRIPTION:
DTSTART:20250530T081500Z
DTEND:20250530T094500Z
LOCATION:online
SUMMARY:Lecture
END:VEVENT
BEGIN:VEVENT
UID:63633566-3261-4239-b431-353937373833
DTSTAMP:20260425T153331Z
DESCRIPTION:
DTSTART:20250603T081500Z
DTEND:20250603T094500Z
LOCATION:online
SUMMARY:Lecture
END:VEVENT
BEGIN:VEVENT
UID:34346338-6436-4836-a237-623963616164
DTSTAMP:20260425T153331Z
DESCRIPTION:
DTSTART:20250606T081500Z
DTEND:20250606T094500Z
LOCATION:online
SUMMARY:Lecture
END:VEVENT
BEGIN:VEVENT
UID:66383561-3535-4337-b538-333561616534
DTSTAMP:20260425T153331Z
DESCRIPTION:
DTSTART:20250610T081500Z
DTEND:20250610T094500Z
LOCATION:online
SUMMARY:Lecture
END:VEVENT
BEGIN:VEVENT
UID:34346336-3937-4562-b866-616363326664
DTSTAMP:20260425T153331Z
DESCRIPTION:
DTSTART:20250613T081500Z
DTEND:20250613T094500Z
LOCATION:online
SUMMARY:Lecture
END:VEVENT
BEGIN:VEVENT
UID:32663461-3563-4332-b336-633466333462
DTSTAMP:20260425T153331Z
DESCRIPTION:
DTSTART:20250617T081500Z
DTEND:20250617T094500Z
LOCATION:online
SUMMARY:Lecture
END:VEVENT
BEGIN:VEVENT
UID:33313035-3333-4066-b632-333231336436
DTSTAMP:20260425T153331Z
DESCRIPTION:
DTSTART:20250620T081500Z
DTEND:20250620T094500Z
LOCATION:online
SUMMARY:Lecture
END:VEVENT
BEGIN:VEVENT
UID:39653162-6464-4537-b835-336131643932
DTSTAMP:20260425T153331Z
DESCRIPTION:
DTSTART:20250624T081500Z
DTEND:20250624T094500Z
LOCATION:online
SUMMARY:Lecture
END:VEVENT
BEGIN:VEVENT
UID:31306331-3665-4130-a137-613563346663
DTSTAMP:20260425T153331Z
DESCRIPTION:
DTSTART:20250627T081500Z
DTEND:20250627T094500Z
LOCATION:online
SUMMARY:Lecture
END:VEVENT
BEGIN:VEVENT
UID:65383666-6463-4239-a135-623434303730
DTSTAMP:20260425T153331Z
DESCRIPTION:
DTSTART:20250701T081500Z
DTEND:20250701T094500Z
LOCATION:online
SUMMARY:Lecture
END:VEVENT
BEGIN:VEVENT
UID:38623561-6539-4134-a462-373163656135
DTSTAMP:20260425T153331Z
DESCRIPTION:
DTSTART:20250704T081500Z
DTEND:20250704T094500Z
LOCATION:online
SUMMARY:Lecture
END:VEVENT
BEGIN:VEVENT
UID:64326233-6436-4964-a636-643532643737
DTSTAMP:20260425T153331Z
DESCRIPTION:
DTSTART:20250708T081500Z
DTEND:20250708T094500Z
LOCATION:online
SUMMARY:Lecture
END:VEVENT
BEGIN:VEVENT
UID:35393139-6264-4233-b263-323536306237
DTSTAMP:20260425T153331Z
DESCRIPTION:
DTSTART:20250711T081500Z
DTEND:20250711T094500Z
LOCATION:online
SUMMARY:Lecture
END:VEVENT
BEGIN:VEVENT
UID:61376239-6331-4164-a461-346330363238
DTSTAMP:20260425T153331Z
DESCRIPTION:
DTSTART:20250715T081500Z
DTEND:20250715T094500Z
LOCATION:online
SUMMARY:Lecture
END:VEVENT
BEGIN:VEVENT
UID:34623861-6665-4135-b863-363562376663
DTSTAMP:20260425T153331Z
DESCRIPTION:
DTSTART:20250718T081500Z
DTEND:20250718T094500Z
LOCATION:online
SUMMARY:Lecture
END:VEVENT
END:VCALENDAR
