BEGIN:VCALENDAR
VERSION:2.0
PRODID:-//134.96.226.213//NONSGML kigkonsult.se iCalcreator 2.41.71//
CALSCALE:GREGORIAN
METHOD:PUBLISH
UID:63356565-3762-4330-b365-303730393031
X-WR-CALNAME:Introduction to Computational Logic Calendar
X-WR-CALDESC:Events of the lecture Introduction to Computational Logic
X-WR-TIMEZONE:Europe/Berlin
BEGIN:VEVENT
UID:61643362-3163-4037-b266-336266393864
DTSTAMP:20260421T163233Z
DESCRIPTION:
DTSTART;VALUE=DATE:20260501
DTEND;VALUE=DATE:20260502
SUMMARY:Icl: Tag der Arbeit
END:VEVENT
BEGIN:VEVENT
UID:36613230-3331-4330-b163-346631643531
DTSTAMP:20260421T163233Z
DESCRIPTION:
DTSTART;VALUE=DATE:20260514
DTEND;VALUE=DATE:20260515
SUMMARY:Icl: Christi Himmelfahrt
END:VEVENT
BEGIN:VEVENT
UID:65653163-6130-4362-b263-356233303239
DTSTAMP:20260421T163233Z
DESCRIPTION:
DTSTART;VALUE=DATE:20260525
DTEND;VALUE=DATE:20260526
SUMMARY:Icl: Pfingstmontag
END:VEVENT
BEGIN:VEVENT
UID:39616239-3265-4037-b838-663166656136
DTSTAMP:20260421T163233Z
DESCRIPTION:
DTSTART;VALUE=DATE:20260604
DTEND;VALUE=DATE:20260605
SUMMARY:Icl: Fronleichnam
END:VEVENT
END:VCALENDAR
