BEGIN:VCALENDAR
VERSION:2.0
PRODID:-//134.96.226.213//NONSGML kigkonsult.se iCalcreator 2.41.71//
CALSCALE:GREGORIAN
METHOD:PUBLISH
UID:63306134-6333-4766-a538-623830633031
X-WR-CALNAME:Introduction to Computational Logic Calendar
X-WR-CALDESC:Events of the lecture Introduction to Computational Logic
X-WR-TIMEZONE:Europe/Berlin
BEGIN:VEVENT
UID:64643230-6339-4632-b539-313232623630
DTSTAMP:20260421T152214Z
DESCRIPTION:
DTSTART;VALUE=DATE:20260501
DTEND;VALUE=DATE:20260502
SUMMARY:Tag der Arbeit
END:VEVENT
BEGIN:VEVENT
UID:63356331-6461-4839-b734-333738623638
DTSTAMP:20260421T152214Z
DESCRIPTION:
DTSTART;VALUE=DATE:20260514
DTEND;VALUE=DATE:20260515
SUMMARY:Christi Himmelfahrt
END:VEVENT
BEGIN:VEVENT
UID:63396139-6233-4462-b962-353831333462
DTSTAMP:20260421T152214Z
DESCRIPTION:
DTSTART;VALUE=DATE:20260525
DTEND;VALUE=DATE:20260526
SUMMARY:Pfingstmontag
END:VEVENT
BEGIN:VEVENT
UID:63353063-6164-4137-b832-363661626263
DTSTAMP:20260421T152214Z
DESCRIPTION:
DTSTART;VALUE=DATE:20260604
DTEND;VALUE=DATE:20260605
SUMMARY:Fronleichnam
END:VEVENT
END:VCALENDAR
