BEGIN:VCALENDAR
VERSION:2.0
PRODID:-//134.96.226.213//NONSGML kigkonsult.se iCalcreator 2.41.71//
CALSCALE:GREGORIAN
METHOD:PUBLISH
UID:61336366-3732-4035-b566-333337623762
X-WR-CALNAME:Introduction to Computational Logic Calendar
X-WR-CALDESC:Events of the lecture Introduction to Computational Logic
X-WR-TIMEZONE:Europe/Berlin
BEGIN:VEVENT
UID:66653463-6664-4934-b765-613662373637
DTSTAMP:20260421T152307Z
DESCRIPTION:At the beginning of the lecture
DTSTART:20260415T101500Z
DTEND:20260415T103000Z
LOCATION:E1.3 HS 001
SUMMARY:Icl: Test
END:VEVENT
BEGIN:VEVENT
UID:33353533-3863-4934-b331-633366326165
DTSTAMP:20260421T152307Z
DESCRIPTION:At the beginning of the lecture
DTSTART:20260422T101500Z
DTEND:20260422T103000Z
LOCATION:E1.3 HS 001
SUMMARY:Icl: Test
END:VEVENT
BEGIN:VEVENT
UID:39383935-3731-4961-b064-313532343135
DTSTAMP:20260421T152307Z
DESCRIPTION:At the beginning of the lecture
DTSTART:20260429T101500Z
DTEND:20260429T103000Z
LOCATION:E1.3 HS 001
SUMMARY:Icl: Test
END:VEVENT
BEGIN:VEVENT
UID:30623430-3630-4966-b666-636437363038
DTSTAMP:20260421T152307Z
DESCRIPTION:At the beginning of the lecture
DTSTART:20260506T101500Z
DTEND:20260506T103000Z
LOCATION:E1.3 HS 001
SUMMARY:Icl: Test
END:VEVENT
BEGIN:VEVENT
UID:37333130-6664-4235-b062-643232613737
DTSTAMP:20260421T152307Z
DESCRIPTION:At the beginning of the lecture
DTSTART:20260513T101500Z
DTEND:20260513T103000Z
LOCATION:E1.3 HS 001
SUMMARY:Icl: Test
END:VEVENT
BEGIN:VEVENT
UID:62356561-6563-4235-b364-376561613464
DTSTAMP:20260421T152307Z
DESCRIPTION:At the beginning of the lecture
DTSTART:20260520T101500Z
DTEND:20260520T103000Z
LOCATION:E1.3 HS 001
SUMMARY:Icl: Test
END:VEVENT
BEGIN:VEVENT
UID:37633963-3965-4438-b863-306436313834
DTSTAMP:20260421T152307Z
DESCRIPTION:At the beginning of the lecture
DTSTART:20260527T101500Z
DTEND:20260527T103000Z
LOCATION:E1.3 HS 001
SUMMARY:Icl: Test
END:VEVENT
BEGIN:VEVENT
UID:30336466-6663-4166-b039-346636306330
DTSTAMP:20260421T152307Z
DESCRIPTION:At the beginning of the lecture
DTSTART:20260603T101500Z
DTEND:20260603T103000Z
LOCATION:E1.3 HS 001
SUMMARY:Icl: Test
END:VEVENT
BEGIN:VEVENT
UID:36643230-3832-4764-a537-343038346538
DTSTAMP:20260421T152307Z
DESCRIPTION:At the beginning of the lecture
DTSTART:20260610T101500Z
DTEND:20260610T103000Z
LOCATION:E1.3 HS 001
SUMMARY:Icl: Test
END:VEVENT
BEGIN:VEVENT
UID:32646462-6439-4334-a437-363736316138
DTSTAMP:20260421T152307Z
DESCRIPTION:At the beginning of the lecture
DTSTART:20260617T101500Z
DTEND:20260617T103000Z
LOCATION:E1.3 HS 001
SUMMARY:Icl: Test
END:VEVENT
BEGIN:VEVENT
UID:62373962-3463-4833-a665-306238376235
DTSTAMP:20260421T152307Z
DESCRIPTION:At the beginning of the lecture
DTSTART:20260624T101500Z
DTEND:20260624T103000Z
LOCATION:E1.3 HS 001
SUMMARY:Icl: Test
END:VEVENT
BEGIN:VEVENT
UID:37303164-3637-4566-b533-353061616238
DTSTAMP:20260421T152307Z
DESCRIPTION:At the beginning of the lecture
DTSTART:20260701T101500Z
DTEND:20260701T103000Z
LOCATION:E1.3 HS 001
SUMMARY:Icl: Test
END:VEVENT
BEGIN:VEVENT
UID:33376632-6532-4862-a264-303234343532
DTSTAMP:20260421T152307Z
DESCRIPTION:At the beginning of the lecture
DTSTART:20260708T101500Z
DTEND:20260708T103000Z
LOCATION:E1.3 HS 001
SUMMARY:Icl: Test
END:VEVENT
BEGIN:VEVENT
UID:38356631-6465-4639-b238-336336343864
DTSTAMP:20260421T152307Z
DESCRIPTION:At the beginning of the lecture
DTSTART:20260715T101500Z
DTEND:20260715T103000Z
LOCATION:E1.3 HS 001
SUMMARY:Icl: Test
END:VEVENT
END:VCALENDAR
