BEGIN:VCALENDAR
VERSION:2.0
PRODID:-//134.96.226.213//NONSGML kigkonsult.se iCalcreator 2.41.71//
CALSCALE:GREGORIAN
METHOD:PUBLISH
UID:33323437-6464-4564-a634-333730343731
X-WR-CALNAME:Introduction to Computational Logic Calendar
X-WR-CALDESC:Events of the lecture Introduction to Computational Logic
X-WR-TIMEZONE:Europe/Berlin
BEGIN:VEVENT
UID:38636335-3830-4035-b765-343238333338
DTSTAMP:20260421T152308Z
DESCRIPTION:Please knock on the door\, if closed
DTSTART:20260413T140000Z
DTEND:20260413T150000Z
LOCATION:E1.3 Room 516
SUMMARY:Icl: Office Hour
END:VEVENT
BEGIN:VEVENT
UID:63343038-3837-4139-b231-643233343430
DTSTAMP:20260421T152308Z
DESCRIPTION:Please knock on the door\, if closed
DTSTART:20260420T140000Z
DTEND:20260420T150000Z
LOCATION:E1.3 Room 516
SUMMARY:Icl: Office Hour
END:VEVENT
BEGIN:VEVENT
UID:35636661-3931-4964-b439-626635633938
DTSTAMP:20260421T152308Z
DESCRIPTION:Please knock on the door\, if closed
DTSTART:20260427T140000Z
DTEND:20260427T150000Z
LOCATION:E1.3 Room 516
SUMMARY:Icl: Office Hour
END:VEVENT
BEGIN:VEVENT
UID:62626364-3531-4537-b434-386362336333
DTSTAMP:20260421T152308Z
DESCRIPTION:Please knock on the door\, if closed
DTSTART:20260504T140000Z
DTEND:20260504T150000Z
LOCATION:E1.3 Room 516
SUMMARY:Icl: Office Hour
END:VEVENT
BEGIN:VEVENT
UID:37346563-3238-4662-b832-653865343937
DTSTAMP:20260421T152308Z
DESCRIPTION:Please knock on the door\, if closed
DTSTART:20260511T140000Z
DTEND:20260511T150000Z
LOCATION:E1.3 Room 516
SUMMARY:Icl: Office Hour
END:VEVENT
BEGIN:VEVENT
UID:38376262-3335-4564-b938-363061316437
DTSTAMP:20260421T152308Z
DESCRIPTION:Please knock on the door\, if closed
DTSTART:20260518T140000Z
DTEND:20260518T150000Z
LOCATION:E1.3 Room 516
SUMMARY:Icl: Office Hour
END:VEVENT
BEGIN:VEVENT
UID:34646135-3839-4066-b534-313339353935
DTSTAMP:20260421T152308Z
DESCRIPTION:Please knock on the door\, if closed
DTSTART:20260601T140000Z
DTEND:20260601T150000Z
LOCATION:E1.3 Room 516
SUMMARY:Icl: Office Hour
END:VEVENT
BEGIN:VEVENT
UID:31313863-6135-4362-b565-653837646166
DTSTAMP:20260421T152308Z
DESCRIPTION:Please knock on the door\, if closed
DTSTART:20260608T140000Z
DTEND:20260608T150000Z
LOCATION:E1.3 Room 516
SUMMARY:Icl: Office Hour
END:VEVENT
BEGIN:VEVENT
UID:34343163-6235-4634-b832-633037636437
DTSTAMP:20260421T152308Z
DESCRIPTION:Please knock on the door\, if closed
DTSTART:20260615T140000Z
DTEND:20260615T150000Z
LOCATION:E1.3 Room 516
SUMMARY:Icl: Office Hour
END:VEVENT
BEGIN:VEVENT
UID:66616235-6230-4233-b334-646431303462
DTSTAMP:20260421T152308Z
DESCRIPTION:Please knock on the door\, if closed
DTSTART:20260622T140000Z
DTEND:20260622T150000Z
LOCATION:E1.3 Room 516
SUMMARY:Icl: Office Hour
END:VEVENT
BEGIN:VEVENT
UID:61343738-3233-4434-a464-623532313462
DTSTAMP:20260421T152308Z
DESCRIPTION:Please knock on the door\, if closed
DTSTART:20260629T140000Z
DTEND:20260629T150000Z
LOCATION:E1.3 Room 516
SUMMARY:Icl: Office Hour
END:VEVENT
BEGIN:VEVENT
UID:35613137-3937-4233-a563-363633623363
DTSTAMP:20260421T152308Z
DESCRIPTION:Please knock on the door\, if closed
DTSTART:20260706T140000Z
DTEND:20260706T150000Z
LOCATION:E1.3 Room 516
SUMMARY:Icl: Office Hour
END:VEVENT
BEGIN:VEVENT
UID:31633336-6362-4164-b133-653631616231
DTSTAMP:20260421T152308Z
DESCRIPTION:Please knock on the door\, if closed
DTSTART:20260713T140000Z
DTEND:20260713T150000Z
LOCATION:E1.3 Room 516
SUMMARY:Icl: Office Hour
END:VEVENT
END:VCALENDAR
