BEGIN:VCALENDAR
VERSION:2.0
PRODID:-//134.96.226.213//NONSGML kigkonsult.se iCalcreator 2.41.71//
CALSCALE:GREGORIAN
METHOD:PUBLISH
UID:61376538-6339-4634-a163-333665633261
X-WR-CALNAME:Introduction to Computational Logic Calendar
X-WR-CALDESC:Events of the lecture Introduction to Computational Logic
X-WR-TIMEZONE:Europe/Berlin
BEGIN:VEVENT
UID:36363363-6532-4261-a663-396139326238
DTSTAMP:20260421T152214Z
DESCRIPTION:Please knock on the door\, if closed
DTSTART:20260413T140000Z
DTEND:20260413T150000Z
LOCATION:E1.3 Room 516
SUMMARY:Office Hour
END:VEVENT
BEGIN:VEVENT
UID:61663765-3461-4566-a466-336236616134
DTSTAMP:20260421T152214Z
DESCRIPTION:Please knock on the door\, if closed
DTSTART:20260420T140000Z
DTEND:20260420T150000Z
LOCATION:E1.3 Room 516
SUMMARY:Office Hour
END:VEVENT
BEGIN:VEVENT
UID:37373462-6233-4638-a237-633831383939
DTSTAMP:20260421T152214Z
DESCRIPTION:Please knock on the door\, if closed
DTSTART:20260427T140000Z
DTEND:20260427T150000Z
LOCATION:E1.3 Room 516
SUMMARY:Office Hour
END:VEVENT
BEGIN:VEVENT
UID:64396436-3530-4662-a630-313864623136
DTSTAMP:20260421T152214Z
DESCRIPTION:Please knock on the door\, if closed
DTSTART:20260504T140000Z
DTEND:20260504T150000Z
LOCATION:E1.3 Room 516
SUMMARY:Office Hour
END:VEVENT
BEGIN:VEVENT
UID:31353930-3665-4132-b232-366234663738
DTSTAMP:20260421T152214Z
DESCRIPTION:Please knock on the door\, if closed
DTSTART:20260511T140000Z
DTEND:20260511T150000Z
LOCATION:E1.3 Room 516
SUMMARY:Office Hour
END:VEVENT
BEGIN:VEVENT
UID:34396430-3434-4037-a236-653332656231
DTSTAMP:20260421T152214Z
DESCRIPTION:Please knock on the door\, if closed
DTSTART:20260518T140000Z
DTEND:20260518T150000Z
LOCATION:E1.3 Room 516
SUMMARY:Office Hour
END:VEVENT
BEGIN:VEVENT
UID:39333739-6535-4338-b939-623066313966
DTSTAMP:20260421T152214Z
DESCRIPTION:Please knock on the door\, if closed
DTSTART:20260601T140000Z
DTEND:20260601T150000Z
LOCATION:E1.3 Room 516
SUMMARY:Office Hour
END:VEVENT
BEGIN:VEVENT
UID:34656561-3764-4137-b666-663962616432
DTSTAMP:20260421T152214Z
DESCRIPTION:Please knock on the door\, if closed
DTSTART:20260608T140000Z
DTEND:20260608T150000Z
LOCATION:E1.3 Room 516
SUMMARY:Office Hour
END:VEVENT
BEGIN:VEVENT
UID:30616233-6331-4032-b362-623663616166
DTSTAMP:20260421T152214Z
DESCRIPTION:Please knock on the door\, if closed
DTSTART:20260615T140000Z
DTEND:20260615T150000Z
LOCATION:E1.3 Room 516
SUMMARY:Office Hour
END:VEVENT
BEGIN:VEVENT
UID:34363330-3935-4639-b138-323963336338
DTSTAMP:20260421T152214Z
DESCRIPTION:Please knock on the door\, if closed
DTSTART:20260622T140000Z
DTEND:20260622T150000Z
LOCATION:E1.3 Room 516
SUMMARY:Office Hour
END:VEVENT
BEGIN:VEVENT
UID:35336565-3132-4438-b139-393564366266
DTSTAMP:20260421T152214Z
DESCRIPTION:Please knock on the door\, if closed
DTSTART:20260629T140000Z
DTEND:20260629T150000Z
LOCATION:E1.3 Room 516
SUMMARY:Office Hour
END:VEVENT
BEGIN:VEVENT
UID:38613135-3361-4237-b766-326533643632
DTSTAMP:20260421T152214Z
DESCRIPTION:Please knock on the door\, if closed
DTSTART:20260706T140000Z
DTEND:20260706T150000Z
LOCATION:E1.3 Room 516
SUMMARY:Office Hour
END:VEVENT
BEGIN:VEVENT
UID:37316131-6335-4635-a561-656637656263
DTSTAMP:20260421T152214Z
DESCRIPTION:Please knock on the door\, if closed
DTSTART:20260713T140000Z
DTEND:20260713T150000Z
LOCATION:E1.3 Room 516
SUMMARY:Office Hour
END:VEVENT
END:VCALENDAR
