BEGIN:VCALENDAR
VERSION:2.0
PRODID:-//134.96.226.213//NONSGML kigkonsult.se iCalcreator 2.41.71//
CALSCALE:GREGORIAN
METHOD:PUBLISH
UID:65336366-6166-4338-b334-323939623234
X-WR-CALNAME:Introduction to Computational Logic Calendar
X-WR-CALDESC:Events of the lecture Introduction to Computational Logic
X-WR-TIMEZONE:Europe/Berlin
BEGIN:VEVENT
UID:61306336-3665-4136-a536-323936323633
DTSTAMP:20260421T152304Z
DESCRIPTION:
DTSTART:20260414T101500Z
DTEND:20260414T114500Z
LOCATION:E1.3 HS 003
SUMMARY:Icl: Tutorial
END:VEVENT
BEGIN:VEVENT
UID:34373033-3666-4366-a431-366433353636
DTSTAMP:20260421T152304Z
DESCRIPTION:
DTSTART:20260414T141500Z
DTEND:20260414T154500Z
LOCATION:E1.3 HS 003
SUMMARY:Icl: Tutorial
END:VEVENT
BEGIN:VEVENT
UID:38393262-3139-4563-b130-663266663231
DTSTAMP:20260421T152304Z
DESCRIPTION:
DTSTART:20260421T101500Z
DTEND:20260421T114500Z
LOCATION:E1.3 HS 003
SUMMARY:Icl: Tutorial
END:VEVENT
BEGIN:VEVENT
UID:64333363-3939-4166-b037-343131653539
DTSTAMP:20260421T152304Z
DESCRIPTION:
DTSTART:20260421T141500Z
DTEND:20260421T154500Z
LOCATION:E1.3 HS 003
SUMMARY:Icl: Tutorial
END:VEVENT
BEGIN:VEVENT
UID:34623662-3435-4536-b866-343861646536
DTSTAMP:20260421T152304Z
DESCRIPTION:
DTSTART:20260428T101500Z
DTEND:20260428T114500Z
LOCATION:E1.3 HS 003
SUMMARY:Icl: Tutorial
END:VEVENT
BEGIN:VEVENT
UID:32393735-3434-4136-a465-333730393466
DTSTAMP:20260421T152304Z
DESCRIPTION:
DTSTART:20260428T141500Z
DTEND:20260428T154500Z
LOCATION:E1.3 HS 003
SUMMARY:Icl: Tutorial
END:VEVENT
BEGIN:VEVENT
UID:32306636-3562-4766-b765-333961646639
DTSTAMP:20260421T152304Z
DESCRIPTION:
DTSTART:20260505T101500Z
DTEND:20260505T114500Z
LOCATION:E1.3 HS 003
SUMMARY:Icl: Tutorial
END:VEVENT
BEGIN:VEVENT
UID:64343738-3236-4139-b661-376639373533
DTSTAMP:20260421T152304Z
DESCRIPTION:
DTSTART:20260505T141500Z
DTEND:20260505T154500Z
LOCATION:E1.3 HS 003
SUMMARY:Icl: Tutorial
END:VEVENT
BEGIN:VEVENT
UID:30326631-3534-4131-b863-356262373939
DTSTAMP:20260421T152304Z
DESCRIPTION:
DTSTART:20260512T101500Z
DTEND:20260512T114500Z
LOCATION:E1.3 HS 003
SUMMARY:Icl: Tutorial
END:VEVENT
BEGIN:VEVENT
UID:30663433-6362-4161-b064-383864366232
DTSTAMP:20260421T152304Z
DESCRIPTION:
DTSTART:20260512T141500Z
DTEND:20260512T154500Z
LOCATION:E1.3 HS 003
SUMMARY:Icl: Tutorial
END:VEVENT
BEGIN:VEVENT
UID:31383231-3931-4633-b064-343463663361
DTSTAMP:20260421T152304Z
DESCRIPTION:
DTSTART:20260519T101500Z
DTEND:20260519T114500Z
LOCATION:E1.3 HS 003
SUMMARY:Icl: Tutorial
END:VEVENT
BEGIN:VEVENT
UID:65653266-3533-4232-b165-383931346561
DTSTAMP:20260421T152304Z
DESCRIPTION:
DTSTART:20260519T141500Z
DTEND:20260519T154500Z
LOCATION:E1.3 HS 003
SUMMARY:Icl: Tutorial
END:VEVENT
BEGIN:VEVENT
UID:34346263-3666-4536-a435-643865613930
DTSTAMP:20260421T152304Z
DESCRIPTION:
DTSTART:20260526T101500Z
DTEND:20260526T114500Z
LOCATION:E1.3 HS 003
SUMMARY:Icl: Tutorial
END:VEVENT
BEGIN:VEVENT
UID:63313136-6562-4231-b061-353835333834
DTSTAMP:20260421T152304Z
DESCRIPTION:
DTSTART:20260526T141500Z
DTEND:20260526T154500Z
LOCATION:E1.3 HS 003
SUMMARY:Icl: Tutorial
END:VEVENT
BEGIN:VEVENT
UID:37343137-3130-4439-b134-363836373764
DTSTAMP:20260421T152304Z
DESCRIPTION:
DTSTART:20260602T101500Z
DTEND:20260602T114500Z
LOCATION:E1.3 HS 003
SUMMARY:Icl: Tutorial
END:VEVENT
BEGIN:VEVENT
UID:31393036-3133-4230-a437-663135393437
DTSTAMP:20260421T152304Z
DESCRIPTION:
DTSTART:20260602T141500Z
DTEND:20260602T154500Z
LOCATION:E1.3 HS 003
SUMMARY:Icl: Tutorial
END:VEVENT
BEGIN:VEVENT
UID:37333236-6234-4438-b366-646638313631
DTSTAMP:20260421T152304Z
DESCRIPTION:
DTSTART:20260609T101500Z
DTEND:20260609T114500Z
LOCATION:E1.3 HS 003
SUMMARY:Icl: Tutorial
END:VEVENT
BEGIN:VEVENT
UID:63663862-6434-4431-a366-386362366438
DTSTAMP:20260421T152304Z
DESCRIPTION:
DTSTART:20260609T141500Z
DTEND:20260609T154500Z
LOCATION:E1.3 HS 003
SUMMARY:Icl: Tutorial
END:VEVENT
BEGIN:VEVENT
UID:30356564-3734-4836-b831-333365366535
DTSTAMP:20260421T152304Z
DESCRIPTION:
DTSTART:20260616T101500Z
DTEND:20260616T114500Z
LOCATION:E1.3 HS 003
SUMMARY:Icl: Tutorial
END:VEVENT
BEGIN:VEVENT
UID:65666437-3437-4763-b037-653130306666
DTSTAMP:20260421T152304Z
DESCRIPTION:
DTSTART:20260616T141500Z
DTEND:20260616T154500Z
LOCATION:E1.3 HS 003
SUMMARY:Icl: Tutorial
END:VEVENT
BEGIN:VEVENT
UID:64366134-3634-4761-b336-663638633161
DTSTAMP:20260421T152304Z
DESCRIPTION:
DTSTART:20260623T101500Z
DTEND:20260623T114500Z
LOCATION:E1.3 HS 003
SUMMARY:Icl: Tutorial
END:VEVENT
BEGIN:VEVENT
UID:62343066-3262-4162-a534-383665616662
DTSTAMP:20260421T152304Z
DESCRIPTION:
DTSTART:20260623T141500Z
DTEND:20260623T154500Z
LOCATION:E1.3 HS 003
SUMMARY:Icl: Tutorial
END:VEVENT
BEGIN:VEVENT
UID:62326430-3436-4234-a164-346261333639
DTSTAMP:20260421T152304Z
DESCRIPTION:
DTSTART:20260630T101500Z
DTEND:20260630T114500Z
LOCATION:E1.3 HS 003
SUMMARY:Icl: Tutorial
END:VEVENT
BEGIN:VEVENT
UID:33386636-3261-4230-b930-313739643332
DTSTAMP:20260421T152304Z
DESCRIPTION:
DTSTART:20260630T141500Z
DTEND:20260630T154500Z
LOCATION:E1.3 HS 003
SUMMARY:Icl: Tutorial
END:VEVENT
BEGIN:VEVENT
UID:63616263-6330-4661-b038-653466373566
DTSTAMP:20260421T152304Z
DESCRIPTION:
DTSTART:20260707T101500Z
DTEND:20260707T114500Z
LOCATION:E1.3 HS 003
SUMMARY:Icl: Tutorial
END:VEVENT
BEGIN:VEVENT
UID:30383662-6265-4138-b339-306466383761
DTSTAMP:20260421T152304Z
DESCRIPTION:
DTSTART:20260707T141500Z
DTEND:20260707T154500Z
LOCATION:E1.3 HS 003
SUMMARY:Icl: Tutorial
END:VEVENT
BEGIN:VEVENT
UID:62653839-3833-4739-b330-613533316362
DTSTAMP:20260421T152304Z
DESCRIPTION:
DTSTART:20260714T101500Z
DTEND:20260714T114500Z
LOCATION:E1.3 HS 003
SUMMARY:Icl: Tutorial
END:VEVENT
BEGIN:VEVENT
UID:37653332-3061-4838-a236-363433643534
DTSTAMP:20260421T152304Z
DESCRIPTION:
DTSTART:20260714T141500Z
DTEND:20260714T154500Z
LOCATION:E1.3 HS 003
SUMMARY:Icl: Tutorial
END:VEVENT
END:VCALENDAR
