BEGIN:VCALENDAR
VERSION:2.0
PRODID:-//134.96.226.213//NONSGML kigkonsult.se iCalcreator 2.41.71//
CALSCALE:GREGORIAN
METHOD:PUBLISH
UID:37303833-6230-4637-b436-366439393033
X-WR-CALNAME:Introduction to Computational Logic Calendar
X-WR-CALDESC:Events of the lecture Introduction to Computational Logic
X-WR-TIMEZONE:Europe/Berlin
BEGIN:VEVENT
UID:66616632-6133-4330-a430-396337643362
DTSTAMP:20260421T152105Z
DESCRIPTION:
DTSTART:20260414T101500Z
DTEND:20260414T114500Z
LOCATION:E1.3 HS 003
SUMMARY:Tutorial
END:VEVENT
BEGIN:VEVENT
UID:36653431-3331-4461-b862-653962323836
DTSTAMP:20260421T152105Z
DESCRIPTION:
DTSTART:20260414T141500Z
DTEND:20260414T154500Z
LOCATION:E1.3 HS 003
SUMMARY:Tutorial
END:VEVENT
BEGIN:VEVENT
UID:35323965-6663-4930-a430-623630646565
DTSTAMP:20260421T152105Z
DESCRIPTION:
DTSTART:20260421T101500Z
DTEND:20260421T114500Z
LOCATION:E1.3 HS 003
SUMMARY:Tutorial
END:VEVENT
BEGIN:VEVENT
UID:30666561-6236-4564-b265-643539346234
DTSTAMP:20260421T152105Z
DESCRIPTION:
DTSTART:20260421T141500Z
DTEND:20260421T154500Z
LOCATION:E1.3 HS 003
SUMMARY:Tutorial
END:VEVENT
BEGIN:VEVENT
UID:30323234-3164-4333-b539-373436303533
DTSTAMP:20260421T152105Z
DESCRIPTION:
DTSTART:20260428T101500Z
DTEND:20260428T114500Z
LOCATION:E1.3 HS 003
SUMMARY:Tutorial
END:VEVENT
BEGIN:VEVENT
UID:63393035-3833-4462-a537-646564363365
DTSTAMP:20260421T152105Z
DESCRIPTION:
DTSTART:20260428T141500Z
DTEND:20260428T154500Z
LOCATION:E1.3 HS 003
SUMMARY:Tutorial
END:VEVENT
BEGIN:VEVENT
UID:34396632-6637-4265-b163-306637326530
DTSTAMP:20260421T152105Z
DESCRIPTION:
DTSTART:20260505T101500Z
DTEND:20260505T114500Z
LOCATION:E1.3 HS 003
SUMMARY:Tutorial
END:VEVENT
BEGIN:VEVENT
UID:31363033-3564-4534-b736-353930346139
DTSTAMP:20260421T152105Z
DESCRIPTION:
DTSTART:20260505T141500Z
DTEND:20260505T154500Z
LOCATION:E1.3 HS 003
SUMMARY:Tutorial
END:VEVENT
BEGIN:VEVENT
UID:32636233-3564-4561-b937-396364343663
DTSTAMP:20260421T152105Z
DESCRIPTION:
DTSTART:20260512T101500Z
DTEND:20260512T114500Z
LOCATION:E1.3 HS 003
SUMMARY:Tutorial
END:VEVENT
BEGIN:VEVENT
UID:38373763-3832-4364-b961-373334633031
DTSTAMP:20260421T152105Z
DESCRIPTION:
DTSTART:20260512T141500Z
DTEND:20260512T154500Z
LOCATION:E1.3 HS 003
SUMMARY:Tutorial
END:VEVENT
BEGIN:VEVENT
UID:32613334-3230-4132-a166-306565656637
DTSTAMP:20260421T152105Z
DESCRIPTION:
DTSTART:20260519T101500Z
DTEND:20260519T114500Z
LOCATION:E1.3 HS 003
SUMMARY:Tutorial
END:VEVENT
BEGIN:VEVENT
UID:66646235-3331-4434-a233-373661383131
DTSTAMP:20260421T152105Z
DESCRIPTION:
DTSTART:20260519T141500Z
DTEND:20260519T154500Z
LOCATION:E1.3 HS 003
SUMMARY:Tutorial
END:VEVENT
BEGIN:VEVENT
UID:38323463-3462-4238-b238-643639356565
DTSTAMP:20260421T152105Z
DESCRIPTION:
DTSTART:20260526T101500Z
DTEND:20260526T114500Z
LOCATION:E1.3 HS 003
SUMMARY:Tutorial
END:VEVENT
BEGIN:VEVENT
UID:32343437-3232-4537-b966-313361666535
DTSTAMP:20260421T152105Z
DESCRIPTION:
DTSTART:20260526T141500Z
DTEND:20260526T154500Z
LOCATION:E1.3 HS 003
SUMMARY:Tutorial
END:VEVENT
BEGIN:VEVENT
UID:35653135-6161-4563-a432-363563373161
DTSTAMP:20260421T152105Z
DESCRIPTION:
DTSTART:20260602T101500Z
DTEND:20260602T114500Z
LOCATION:E1.3 HS 003
SUMMARY:Tutorial
END:VEVENT
BEGIN:VEVENT
UID:38323533-3566-4334-b162-616565346536
DTSTAMP:20260421T152105Z
DESCRIPTION:
DTSTART:20260602T141500Z
DTEND:20260602T154500Z
LOCATION:E1.3 HS 003
SUMMARY:Tutorial
END:VEVENT
BEGIN:VEVENT
UID:31363336-6236-4330-b865-346234653336
DTSTAMP:20260421T152105Z
DESCRIPTION:
DTSTART:20260609T101500Z
DTEND:20260609T114500Z
LOCATION:E1.3 HS 003
SUMMARY:Tutorial
END:VEVENT
BEGIN:VEVENT
UID:34363836-3136-4436-b965-346434663333
DTSTAMP:20260421T152105Z
DESCRIPTION:
DTSTART:20260609T141500Z
DTEND:20260609T154500Z
LOCATION:E1.3 HS 003
SUMMARY:Tutorial
END:VEVENT
BEGIN:VEVENT
UID:66376661-6536-4935-b731-343037373431
DTSTAMP:20260421T152105Z
DESCRIPTION:
DTSTART:20260616T101500Z
DTEND:20260616T114500Z
LOCATION:E1.3 HS 003
SUMMARY:Tutorial
END:VEVENT
BEGIN:VEVENT
UID:30376130-3361-4262-b061-666537306638
DTSTAMP:20260421T152105Z
DESCRIPTION:
DTSTART:20260616T141500Z
DTEND:20260616T154500Z
LOCATION:E1.3 HS 003
SUMMARY:Tutorial
END:VEVENT
BEGIN:VEVENT
UID:31316438-3937-4832-a632-656337356666
DTSTAMP:20260421T152105Z
DESCRIPTION:
DTSTART:20260623T101500Z
DTEND:20260623T114500Z
LOCATION:E1.3 HS 003
SUMMARY:Tutorial
END:VEVENT
BEGIN:VEVENT
UID:64303637-6536-4261-a639-643035336335
DTSTAMP:20260421T152105Z
DESCRIPTION:
DTSTART:20260623T141500Z
DTEND:20260623T154500Z
LOCATION:E1.3 HS 003
SUMMARY:Tutorial
END:VEVENT
BEGIN:VEVENT
UID:65366339-3339-4462-a538-636561656463
DTSTAMP:20260421T152105Z
DESCRIPTION:
DTSTART:20260630T101500Z
DTEND:20260630T114500Z
LOCATION:E1.3 HS 003
SUMMARY:Tutorial
END:VEVENT
BEGIN:VEVENT
UID:34653733-6639-4165-a139-353538366231
DTSTAMP:20260421T152105Z
DESCRIPTION:
DTSTART:20260630T141500Z
DTEND:20260630T154500Z
LOCATION:E1.3 HS 003
SUMMARY:Tutorial
END:VEVENT
BEGIN:VEVENT
UID:36306132-3764-4536-b438-313338373266
DTSTAMP:20260421T152105Z
DESCRIPTION:
DTSTART:20260707T101500Z
DTEND:20260707T114500Z
LOCATION:E1.3 HS 003
SUMMARY:Tutorial
END:VEVENT
BEGIN:VEVENT
UID:39353632-6364-4330-b536-666535653139
DTSTAMP:20260421T152105Z
DESCRIPTION:
DTSTART:20260707T141500Z
DTEND:20260707T154500Z
LOCATION:E1.3 HS 003
SUMMARY:Tutorial
END:VEVENT
BEGIN:VEVENT
UID:63643930-3364-4466-b637-643661356136
DTSTAMP:20260421T152105Z
DESCRIPTION:
DTSTART:20260714T101500Z
DTEND:20260714T114500Z
LOCATION:E1.3 HS 003
SUMMARY:Tutorial
END:VEVENT
BEGIN:VEVENT
UID:35306161-3939-4636-b932-396130656362
DTSTAMP:20260421T152105Z
DESCRIPTION:
DTSTART:20260714T141500Z
DTEND:20260714T154500Z
LOCATION:E1.3 HS 003
SUMMARY:Tutorial
END:VEVENT
END:VCALENDAR
