BEGIN:VCALENDAR
VERSION:2.0
PRODID:-//134.96.226.213//NONSGML kigkonsult.se iCalcreator 2.41.71//
CALSCALE:GREGORIAN
METHOD:PUBLISH
UID:65333765-3439-4165-b730-306438333736
X-WR-CALNAME:Introduction to Computational Logic Calendar
X-WR-CALDESC:Events of the lecture Introduction to Computational Logic
X-WR-TIMEZONE:Europe/Berlin
BEGIN:VEVENT
UID:64376165-6339-4065-b637-393762653437
DTSTAMP:20260421T152306Z
DESCRIPTION:
DTSTART:20260408T101500Z
DTEND:20260408T114500Z
LOCATION:E1.3 HS 001
SUMMARY:Icl: Lecture
END:VEVENT
BEGIN:VEVENT
UID:66376535-3464-4436-a336-336131373032
DTSTAMP:20260421T152306Z
DESCRIPTION:
DTSTART:20260410T101500Z
DTEND:20260410T114500Z
LOCATION:E1.3 HS 001
SUMMARY:Icl: Lecture
END:VEVENT
BEGIN:VEVENT
UID:30646363-3266-4865-b030-663164393539
DTSTAMP:20260421T152306Z
DESCRIPTION:
DTSTART:20260415T101500Z
DTEND:20260415T114500Z
LOCATION:E1.3 HS 001
SUMMARY:Icl: Lecture
END:VEVENT
BEGIN:VEVENT
UID:31313266-6366-4630-b464-343330613063
DTSTAMP:20260421T152306Z
DESCRIPTION:
DTSTART:20260417T101500Z
DTEND:20260417T114500Z
LOCATION:E1.3 HS 001
SUMMARY:Icl: Lecture
END:VEVENT
BEGIN:VEVENT
UID:38333262-3965-4466-b364-643464313332
DTSTAMP:20260421T152306Z
DESCRIPTION:
DTSTART:20260422T101500Z
DTEND:20260422T114500Z
LOCATION:E1.3 HS 001
SUMMARY:Icl: Lecture
END:VEVENT
BEGIN:VEVENT
UID:64386438-3963-4636-a531-363336323461
DTSTAMP:20260421T152306Z
DESCRIPTION:
DTSTART:20260424T101500Z
DTEND:20260424T114500Z
LOCATION:E1.3 HS 001
SUMMARY:Icl: Lecture
END:VEVENT
BEGIN:VEVENT
UID:66333464-3462-4330-a236-393433623665
DTSTAMP:20260421T152306Z
DESCRIPTION:
DTSTART:20260429T101500Z
DTEND:20260429T114500Z
LOCATION:E1.3 HS 001
SUMMARY:Icl: Lecture
END:VEVENT
BEGIN:VEVENT
UID:35336639-3630-4731-b765-343061383236
DTSTAMP:20260421T152306Z
DESCRIPTION:
DTSTART:20260506T101500Z
DTEND:20260506T114500Z
LOCATION:E1.3 HS 001
SUMMARY:Icl: Lecture
END:VEVENT
BEGIN:VEVENT
UID:62376364-3730-4761-b031-343234333533
DTSTAMP:20260421T152306Z
DESCRIPTION:
DTSTART:20260508T101500Z
DTEND:20260508T114500Z
LOCATION:E1.3 HS 001
SUMMARY:Icl: Lecture
END:VEVENT
BEGIN:VEVENT
UID:35383465-3661-4137-b832-363535343561
DTSTAMP:20260421T152306Z
DESCRIPTION:
DTSTART:20260513T101500Z
DTEND:20260513T114500Z
LOCATION:E1.3 HS 001
SUMMARY:Icl: Lecture
END:VEVENT
BEGIN:VEVENT
UID:38383132-6362-4462-a164-653565333366
DTSTAMP:20260421T152306Z
DESCRIPTION:
DTSTART:20260515T101500Z
DTEND:20260515T114500Z
LOCATION:E1.3 HS 001
SUMMARY:Icl: Lecture
END:VEVENT
BEGIN:VEVENT
UID:62373065-3662-4038-b135-636339613731
DTSTAMP:20260421T152306Z
DESCRIPTION:
DTSTART:20260520T101500Z
DTEND:20260520T114500Z
LOCATION:E1.3 HS 001
SUMMARY:Icl: Lecture
END:VEVENT
BEGIN:VEVENT
UID:30333366-3664-4131-a364-313361646430
DTSTAMP:20260421T152306Z
DESCRIPTION:
DTSTART:20260522T101500Z
DTEND:20260522T114500Z
LOCATION:E1.3 HS 001
SUMMARY:Icl: Lecture
END:VEVENT
BEGIN:VEVENT
UID:35336666-6538-4330-b861-616532326635
DTSTAMP:20260421T152306Z
DESCRIPTION:
DTSTART:20260527T101500Z
DTEND:20260527T114500Z
LOCATION:E1.3 HS 001
SUMMARY:Icl: Lecture
END:VEVENT
BEGIN:VEVENT
UID:64633036-6134-4132-a135-643033376636
DTSTAMP:20260421T152306Z
DESCRIPTION:
DTSTART:20260529T101500Z
DTEND:20260529T114500Z
LOCATION:E1.3 HS 001
SUMMARY:Icl: Lecture
END:VEVENT
BEGIN:VEVENT
UID:33393735-3864-4165-b130-633864343464
DTSTAMP:20260421T152306Z
DESCRIPTION:
DTSTART:20260603T101500Z
DTEND:20260603T114500Z
LOCATION:E1.3 HS 001
SUMMARY:Icl: Lecture
END:VEVENT
BEGIN:VEVENT
UID:30396466-3964-4464-b833-303461313138
DTSTAMP:20260421T152306Z
DESCRIPTION:
DTSTART:20260605T101500Z
DTEND:20260605T114500Z
LOCATION:E1.3 HS 001
SUMMARY:Icl: Lecture
END:VEVENT
BEGIN:VEVENT
UID:30303964-3365-4364-b063-356337373437
DTSTAMP:20260421T152306Z
DESCRIPTION:
DTSTART:20260610T101500Z
DTEND:20260610T114500Z
LOCATION:E1.3 HS 001
SUMMARY:Icl: Lecture
END:VEVENT
BEGIN:VEVENT
UID:66326334-6438-4365-b963-306234313066
DTSTAMP:20260421T152306Z
DESCRIPTION:
DTSTART:20260612T101500Z
DTEND:20260612T114500Z
LOCATION:E1.3 HS 001
SUMMARY:Icl: Lecture
END:VEVENT
BEGIN:VEVENT
UID:39373432-3336-4636-b866-393438653132
DTSTAMP:20260421T152306Z
DESCRIPTION:
DTSTART:20260617T101500Z
DTEND:20260617T114500Z
LOCATION:E1.3 HS 001
SUMMARY:Icl: Lecture
END:VEVENT
BEGIN:VEVENT
UID:36383539-6464-4834-a437-383833323861
DTSTAMP:20260421T152306Z
DESCRIPTION:
DTSTART:20260619T101500Z
DTEND:20260619T114500Z
LOCATION:E1.3 HS 001
SUMMARY:Icl: Lecture
END:VEVENT
BEGIN:VEVENT
UID:39353463-6665-4435-a530-336266303862
DTSTAMP:20260421T152306Z
DESCRIPTION:
DTSTART:20260624T101500Z
DTEND:20260624T114500Z
LOCATION:E1.3 HS 001
SUMMARY:Icl: Lecture
END:VEVENT
BEGIN:VEVENT
UID:61393266-3433-4466-b434-363032346162
DTSTAMP:20260421T152306Z
DESCRIPTION:
DTSTART:20260626T101500Z
DTEND:20260626T114500Z
LOCATION:E1.3 HS 001
SUMMARY:Icl: Lecture
END:VEVENT
BEGIN:VEVENT
UID:34653364-3962-4639-a565-323566353235
DTSTAMP:20260421T152306Z
DESCRIPTION:
DTSTART:20260701T101500Z
DTEND:20260701T114500Z
LOCATION:E1.3 HS 001
SUMMARY:Icl: Lecture
END:VEVENT
BEGIN:VEVENT
UID:62653465-6664-4638-a666-376662373536
DTSTAMP:20260421T152306Z
DESCRIPTION:
DTSTART:20260703T101500Z
DTEND:20260703T114500Z
LOCATION:E1.3 HS 001
SUMMARY:Icl: Lecture
END:VEVENT
BEGIN:VEVENT
UID:32643762-6539-4561-b737-616561303630
DTSTAMP:20260421T152306Z
DESCRIPTION:
DTSTART:20260708T101500Z
DTEND:20260708T114500Z
LOCATION:E1.3 HS 001
SUMMARY:Icl: Lecture
END:VEVENT
BEGIN:VEVENT
UID:66616132-3637-4937-a565-656337343939
DTSTAMP:20260421T152306Z
DESCRIPTION:
DTSTART:20260710T101500Z
DTEND:20260710T114500Z
LOCATION:E1.3 HS 001
SUMMARY:Icl: Lecture
END:VEVENT
BEGIN:VEVENT
UID:36636234-6632-4239-b232-323631646534
DTSTAMP:20260421T152306Z
DESCRIPTION:
DTSTART:20260715T101500Z
DTEND:20260715T114500Z
LOCATION:E1.3 HS 001
SUMMARY:Icl: Lecture
END:VEVENT
BEGIN:VEVENT
UID:32643962-3465-4538-b734-393561326530
DTSTAMP:20260421T152306Z
DESCRIPTION:
DTSTART:20260717T101500Z
DTEND:20260717T114500Z
LOCATION:E1.3 HS 001
SUMMARY:Icl: Lecture
END:VEVENT
END:VCALENDAR
