BEGIN:VCALENDAR
VERSION:2.0
PRODID:-//134.96.226.213//NONSGML kigkonsult.se iCalcreator 2.41.71//
CALSCALE:GREGORIAN
METHOD:PUBLISH
UID:62333261-6631-4839-b762-373332613537
X-WR-CALNAME:Introduction to Computational Logic Calendar
X-WR-CALDESC:Events of the lecture Introduction to Computational Logic
X-WR-TIMEZONE:Europe/Berlin
BEGIN:VEVENT
UID:63656334-3436-4631-b130-323337656563
DTSTAMP:20260421T152301Z
DESCRIPTION:
DTSTART:20260408T101500Z
DTEND:20260408T114500Z
LOCATION:E1.3 HS 001
SUMMARY:Lecture
END:VEVENT
BEGIN:VEVENT
UID:31333365-3361-4262-b439-613537376332
DTSTAMP:20260421T152301Z
DESCRIPTION:
DTSTART:20260410T101500Z
DTEND:20260410T114500Z
LOCATION:E1.3 HS 001
SUMMARY:Lecture
END:VEVENT
BEGIN:VEVENT
UID:62663832-3632-4366-b661-323035626637
DTSTAMP:20260421T152301Z
DESCRIPTION:
DTSTART:20260415T101500Z
DTEND:20260415T114500Z
LOCATION:E1.3 HS 001
SUMMARY:Lecture
END:VEVENT
BEGIN:VEVENT
UID:33346638-3430-4032-b562-343331613064
DTSTAMP:20260421T152301Z
DESCRIPTION:
DTSTART:20260417T101500Z
DTEND:20260417T114500Z
LOCATION:E1.3 HS 001
SUMMARY:Lecture
END:VEVENT
BEGIN:VEVENT
UID:33343536-6538-4562-a338-333635363134
DTSTAMP:20260421T152301Z
DESCRIPTION:
DTSTART:20260422T101500Z
DTEND:20260422T114500Z
LOCATION:E1.3 HS 001
SUMMARY:Lecture
END:VEVENT
BEGIN:VEVENT
UID:61643463-6333-4537-b738-626135373332
DTSTAMP:20260421T152301Z
DESCRIPTION:
DTSTART:20260424T101500Z
DTEND:20260424T114500Z
LOCATION:E1.3 HS 001
SUMMARY:Lecture
END:VEVENT
BEGIN:VEVENT
UID:31663735-3534-4632-a434-613061663336
DTSTAMP:20260421T152301Z
DESCRIPTION:
DTSTART:20260429T101500Z
DTEND:20260429T114500Z
LOCATION:E1.3 HS 001
SUMMARY:Lecture
END:VEVENT
BEGIN:VEVENT
UID:34373465-6465-4365-b465-633935326464
DTSTAMP:20260421T152301Z
DESCRIPTION:
DTSTART:20260506T101500Z
DTEND:20260506T114500Z
LOCATION:E1.3 HS 001
SUMMARY:Lecture
END:VEVENT
BEGIN:VEVENT
UID:30333566-3136-4730-b463-363161386465
DTSTAMP:20260421T152301Z
DESCRIPTION:
DTSTART:20260508T101500Z
DTEND:20260508T114500Z
LOCATION:E1.3 HS 001
SUMMARY:Lecture
END:VEVENT
BEGIN:VEVENT
UID:62336535-3864-4733-b062-373163626231
DTSTAMP:20260421T152301Z
DESCRIPTION:
DTSTART:20260513T101500Z
DTEND:20260513T114500Z
LOCATION:E1.3 HS 001
SUMMARY:Lecture
END:VEVENT
BEGIN:VEVENT
UID:34386465-3935-4031-b461-666430336537
DTSTAMP:20260421T152301Z
DESCRIPTION:
DTSTART:20260515T101500Z
DTEND:20260515T114500Z
LOCATION:E1.3 HS 001
SUMMARY:Lecture
END:VEVENT
BEGIN:VEVENT
UID:38316138-3235-4539-b839-343134626635
DTSTAMP:20260421T152301Z
DESCRIPTION:
DTSTART:20260520T101500Z
DTEND:20260520T114500Z
LOCATION:E1.3 HS 001
SUMMARY:Lecture
END:VEVENT
BEGIN:VEVENT
UID:64313961-3633-4031-b961-616564643632
DTSTAMP:20260421T152301Z
DESCRIPTION:
DTSTART:20260522T101500Z
DTEND:20260522T114500Z
LOCATION:E1.3 HS 001
SUMMARY:Lecture
END:VEVENT
BEGIN:VEVENT
UID:34333562-6530-4462-a666-366237346536
DTSTAMP:20260421T152301Z
DESCRIPTION:
DTSTART:20260527T101500Z
DTEND:20260527T114500Z
LOCATION:E1.3 HS 001
SUMMARY:Lecture
END:VEVENT
BEGIN:VEVENT
UID:33616632-6365-4336-b730-353965396237
DTSTAMP:20260421T152301Z
DESCRIPTION:
DTSTART:20260529T101500Z
DTEND:20260529T114500Z
LOCATION:E1.3 HS 001
SUMMARY:Lecture
END:VEVENT
BEGIN:VEVENT
UID:32353835-6331-4564-a135-653137666666
DTSTAMP:20260421T152301Z
DESCRIPTION:
DTSTART:20260603T101500Z
DTEND:20260603T114500Z
LOCATION:E1.3 HS 001
SUMMARY:Lecture
END:VEVENT
BEGIN:VEVENT
UID:39653337-6566-4965-a565-626538333338
DTSTAMP:20260421T152301Z
DESCRIPTION:
DTSTART:20260605T101500Z
DTEND:20260605T114500Z
LOCATION:E1.3 HS 001
SUMMARY:Lecture
END:VEVENT
BEGIN:VEVENT
UID:32333261-3030-4735-a338-663066643830
DTSTAMP:20260421T152301Z
DESCRIPTION:
DTSTART:20260610T101500Z
DTEND:20260610T114500Z
LOCATION:E1.3 HS 001
SUMMARY:Lecture
END:VEVENT
BEGIN:VEVENT
UID:32633634-3335-4339-a564-613165636439
DTSTAMP:20260421T152301Z
DESCRIPTION:
DTSTART:20260612T101500Z
DTEND:20260612T114500Z
LOCATION:E1.3 HS 001
SUMMARY:Lecture
END:VEVENT
BEGIN:VEVENT
UID:30643939-3234-4430-b939-306631643965
DTSTAMP:20260421T152301Z
DESCRIPTION:
DTSTART:20260617T101500Z
DTEND:20260617T114500Z
LOCATION:E1.3 HS 001
SUMMARY:Lecture
END:VEVENT
BEGIN:VEVENT
UID:32363235-3436-4235-b262-386331653036
DTSTAMP:20260421T152301Z
DESCRIPTION:
DTSTART:20260619T101500Z
DTEND:20260619T114500Z
LOCATION:E1.3 HS 001
SUMMARY:Lecture
END:VEVENT
BEGIN:VEVENT
UID:38303364-3933-4736-b733-333138383931
DTSTAMP:20260421T152301Z
DESCRIPTION:
DTSTART:20260624T101500Z
DTEND:20260624T114500Z
LOCATION:E1.3 HS 001
SUMMARY:Lecture
END:VEVENT
BEGIN:VEVENT
UID:30313963-3439-4238-a139-663461666432
DTSTAMP:20260421T152301Z
DESCRIPTION:
DTSTART:20260626T101500Z
DTEND:20260626T114500Z
LOCATION:E1.3 HS 001
SUMMARY:Lecture
END:VEVENT
BEGIN:VEVENT
UID:38353935-6466-4365-b030-633139373336
DTSTAMP:20260421T152301Z
DESCRIPTION:
DTSTART:20260701T101500Z
DTEND:20260701T114500Z
LOCATION:E1.3 HS 001
SUMMARY:Lecture
END:VEVENT
BEGIN:VEVENT
UID:66646161-6431-4462-a132-373130343564
DTSTAMP:20260421T152301Z
DESCRIPTION:
DTSTART:20260703T101500Z
DTEND:20260703T114500Z
LOCATION:E1.3 HS 001
SUMMARY:Lecture
END:VEVENT
BEGIN:VEVENT
UID:31373162-6233-4238-b862-643032353839
DTSTAMP:20260421T152301Z
DESCRIPTION:
DTSTART:20260708T101500Z
DTEND:20260708T114500Z
LOCATION:E1.3 HS 001
SUMMARY:Lecture
END:VEVENT
BEGIN:VEVENT
UID:31306533-3366-4833-b263-633638366539
DTSTAMP:20260421T152301Z
DESCRIPTION:
DTSTART:20260710T101500Z
DTEND:20260710T114500Z
LOCATION:E1.3 HS 001
SUMMARY:Lecture
END:VEVENT
BEGIN:VEVENT
UID:35343335-3365-4039-b135-313632386331
DTSTAMP:20260421T152301Z
DESCRIPTION:
DTSTART:20260715T101500Z
DTEND:20260715T114500Z
LOCATION:E1.3 HS 001
SUMMARY:Lecture
END:VEVENT
BEGIN:VEVENT
UID:64306665-3239-4331-a235-633030613538
DTSTAMP:20260421T152301Z
DESCRIPTION:
DTSTART:20260717T101500Z
DTEND:20260717T114500Z
LOCATION:E1.3 HS 001
SUMMARY:Lecture
END:VEVENT
END:VCALENDAR
