BEGIN:VCALENDAR
VERSION:2.0
PRODID:-//134.96.226.213//NONSGML kigkonsult.se iCalcreator 2.41.71//
CALSCALE:GREGORIAN
METHOD:PUBLISH
UID:39306363-3638-4436-a331-373636626331
X-WR-CALNAME:Introduction to Computational Logic Calendar
X-WR-CALDESC:Events of the lecture Introduction to Computational Logic
X-WR-TIMEZONE:Europe/Berlin
BEGIN:VEVENT
UID:35303562-3462-4533-b363-636661646135
DTSTAMP:20260420T064946Z
DESCRIPTION:
DTSTART;VALUE=DATE:20230501
DTEND;VALUE=DATE:20230502
SUMMARY:Icl: Tag der Arbeit
END:VEVENT
BEGIN:VEVENT
UID:62336565-3132-4937-a665-336461323465
DTSTAMP:20260420T064946Z
DESCRIPTION:
DTSTART;VALUE=DATE:20230518
DTEND;VALUE=DATE:20230519
SUMMARY:Icl: Christi Himmelfahrt
END:VEVENT
BEGIN:VEVENT
UID:63373532-6663-4163-a337-363236303363
DTSTAMP:20260420T064946Z
DESCRIPTION:
DTSTART;VALUE=DATE:20230529
DTEND;VALUE=DATE:20230530
SUMMARY:Icl: Pfingstmontag
END:VEVENT
BEGIN:VEVENT
UID:39353963-3137-4839-b761-623739333165
DTSTAMP:20260420T064946Z
DESCRIPTION:
DTSTART;VALUE=DATE:20230608
DTEND;VALUE=DATE:20230609
SUMMARY:Icl: Fronleichnam
END:VEVENT
END:VCALENDAR
