BEGIN:VCALENDAR
VERSION:2.0
PRODID:-//134.96.226.213//NONSGML kigkonsult.se iCalcreator 2.41.71//
CALSCALE:GREGORIAN
METHOD:PUBLISH
UID:32336635-3136-4165-b466-313032343234
X-WR-CALNAME:Introduction to Computational Logic Calendar
X-WR-CALDESC:Events of the lecture Introduction to Computational Logic
X-WR-TIMEZONE:Europe/Berlin
BEGIN:VEVENT
UID:61393937-6262-4635-b464-366365623766
DTSTAMP:20260420T050330Z
DESCRIPTION:
DTSTART:20230419T101500Z
DTEND:20230419T103000Z
LOCATION:HS 002 in Building E1 3
SUMMARY:Icl: Test
END:VEVENT
BEGIN:VEVENT
UID:39306538-6365-4365-a166-616636313837
DTSTAMP:20260420T050330Z
DESCRIPTION:
DTSTART:20230426T101500Z
DTEND:20230426T103000Z
LOCATION:HS 002 in Building E1 3
SUMMARY:Icl: Test
END:VEVENT
BEGIN:VEVENT
UID:32333733-6531-4361-a161-366130653834
DTSTAMP:20260420T050330Z
DESCRIPTION:
DTSTART:20230503T101500Z
DTEND:20230503T103000Z
LOCATION:HS 002 in Building E1 3
SUMMARY:Icl: Test
END:VEVENT
BEGIN:VEVENT
UID:63333034-6164-4635-a331-643236323663
DTSTAMP:20260420T050330Z
DESCRIPTION:
DTSTART:20230510T101500Z
DTEND:20230510T103000Z
LOCATION:HS 002 in Building E1 3
SUMMARY:Icl: Test
END:VEVENT
BEGIN:VEVENT
UID:37373736-3735-4733-a462-383432646433
DTSTAMP:20260420T050330Z
DESCRIPTION:
DTSTART:20230517T101500Z
DTEND:20230517T103000Z
LOCATION:HS 002 in Building E1 3
SUMMARY:Icl: Test
END:VEVENT
BEGIN:VEVENT
UID:39343239-3265-4362-b566-666536383261
DTSTAMP:20260420T050330Z
DESCRIPTION:
DTSTART:20230524T101500Z
DTEND:20230524T103000Z
LOCATION:HS 002 in Building E1 3
SUMMARY:Icl: Test
END:VEVENT
BEGIN:VEVENT
UID:36373866-6464-4235-a436-303836393032
DTSTAMP:20260420T050330Z
DESCRIPTION:
DTSTART:20230531T101500Z
DTEND:20230531T103000Z
LOCATION:HS 002 in Building E1 3
SUMMARY:Icl: Test
END:VEVENT
BEGIN:VEVENT
UID:65356330-3631-4861-b966-623432323263
DTSTAMP:20260420T050330Z
DESCRIPTION:
DTSTART:20230607T101500Z
DTEND:20230607T103000Z
LOCATION:HS 002 in Building E1 3
SUMMARY:Icl: Test
END:VEVENT
BEGIN:VEVENT
UID:32333266-6162-4665-b037-666530376431
DTSTAMP:20260420T050330Z
DESCRIPTION:
DTSTART:20230614T101500Z
DTEND:20230614T103000Z
LOCATION:HS 002 in Building E1 3
SUMMARY:Icl: Test
END:VEVENT
BEGIN:VEVENT
UID:65353834-3563-4938-b638-356461336338
DTSTAMP:20260420T050330Z
DESCRIPTION:
DTSTART:20230621T101500Z
DTEND:20230621T103000Z
LOCATION:HS 002 in Building E1 3
SUMMARY:Icl: Test
END:VEVENT
BEGIN:VEVENT
UID:39613230-6365-4964-b962-663731336165
DTSTAMP:20260420T050330Z
DESCRIPTION:
DTSTART:20230628T101500Z
DTEND:20230628T103000Z
LOCATION:HS 002 in Building E1 3
SUMMARY:Icl: Test
END:VEVENT
BEGIN:VEVENT
UID:31663862-3538-4636-a162-343863366132
DTSTAMP:20260420T050330Z
DESCRIPTION:
DTSTART:20230705T101500Z
DTEND:20230705T103000Z
LOCATION:HS 002 in Building E1 3
SUMMARY:Icl: Test
END:VEVENT
BEGIN:VEVENT
UID:62313333-3133-4837-b263-326435326431
DTSTAMP:20260420T050330Z
DESCRIPTION:
DTSTART:20230712T101500Z
DTEND:20230712T103000Z
LOCATION:HS 002 in Building E1 3
SUMMARY:Icl: Test
END:VEVENT
BEGIN:VEVENT
UID:38393663-6438-4231-b633-346337663935
DTSTAMP:20260420T050330Z
DESCRIPTION:
DTSTART:20230719T101500Z
DTEND:20230719T103000Z
LOCATION:HS 002 in Building E1 3
SUMMARY:Icl: Test
END:VEVENT
END:VCALENDAR
