BEGIN:VCALENDAR
VERSION:2.0
PRODID:-//134.96.226.213//NONSGML kigkonsult.se iCalcreator 2.41.71//
CALSCALE:GREGORIAN
METHOD:PUBLISH
UID:61373065-6633-4236-b362-376666373730
X-WR-CALNAME:Introduction to Computational Logic Calendar
X-WR-CALDESC:Events of the lecture Introduction to Computational Logic
X-WR-TIMEZONE:Europe/Berlin
BEGIN:VEVENT
UID:30393134-6235-4662-a135-663965333761
DTSTAMP:20260420T050840Z
DESCRIPTION:
DTSTART;VALUE=DATE:20230829
DTEND;VALUE=DATE:20230831
SUMMARY:Icl: Oral Exam
END:VEVENT
BEGIN:VEVENT
UID:61656634-3961-4233-a438-383266633331
DTSTAMP:20260420T050840Z
DESCRIPTION:
DTSTART;VALUE=DATE:20230929
DTEND;VALUE=DATE:20230930
SUMMARY:Icl: Oral Re-exam
END:VEVENT
END:VCALENDAR
