BEGIN:VCALENDAR
VERSION:2.0
PRODID:-//134.96.226.213//NONSGML kigkonsult.se iCalcreator 2.41.71//
CALSCALE:GREGORIAN
METHOD:PUBLISH
UID:34643062-6131-4161-b764-333836393066
X-WR-CALNAME:Introduction to Computational Logic Calendar
X-WR-CALDESC:Events of the lecture Introduction to Computational Logic
X-WR-TIMEZONE:Europe/Berlin
BEGIN:VEVENT
UID:38396464-3361-4036-b165-303739623137
DTSTAMP:20260420T064946Z
DESCRIPTION:
DTSTART:20230417T140000Z
DTEND:20230417T150000Z
LOCATION:Room 525 in Building E1 3
SUMMARY:Icl: Office Hour
END:VEVENT
BEGIN:VEVENT
UID:33653365-6339-4333-b661-366366346363
DTSTAMP:20260420T064946Z
DESCRIPTION:
DTSTART:20230420T080000Z
DTEND:20230420T090000Z
LOCATION:Room 525 in Building E1 3
SUMMARY:Icl: Office Hour
END:VEVENT
BEGIN:VEVENT
UID:63346236-6530-4232-b963-316464336262
DTSTAMP:20260420T064946Z
DESCRIPTION:
DTSTART:20230424T140000Z
DTEND:20230424T150000Z
LOCATION:Room 525 in Building E1 3
SUMMARY:Icl: Office Hour
END:VEVENT
BEGIN:VEVENT
UID:64343531-3961-4230-b062-313932383465
DTSTAMP:20260420T064946Z
DESCRIPTION:
DTSTART:20230427T080000Z
DTEND:20230427T090000Z
LOCATION:Room 525 in Building E1 3
SUMMARY:Icl: Office Hour
END:VEVENT
BEGIN:VEVENT
UID:62393865-3033-4234-b236-306530323464
DTSTAMP:20260420T064946Z
DESCRIPTION:
DTSTART:20230504T080000Z
DTEND:20230504T090000Z
LOCATION:Room 525 in Building E1 3
SUMMARY:Icl: Office Hour
END:VEVENT
BEGIN:VEVENT
UID:32383862-3764-4830-b339-356166353463
DTSTAMP:20260420T064946Z
DESCRIPTION:
DTSTART:20230508T140000Z
DTEND:20230508T150000Z
LOCATION:Room 525 in Building E1 3
SUMMARY:Icl: Office Hour
END:VEVENT
BEGIN:VEVENT
UID:39383164-6435-4262-b666-643637643730
DTSTAMP:20260420T064946Z
DESCRIPTION:
DTSTART:20230511T130000Z
DTEND:20230511T140000Z
LOCATION:Room 525 in Building E1 3
SUMMARY:Icl: Office Hour
END:VEVENT
BEGIN:VEVENT
UID:64646636-6137-4461-a238-383034653063
DTSTAMP:20260420T064946Z
DESCRIPTION:
DTSTART:20230515T133000Z
DTEND:20230515T143000Z
LOCATION:Room 525 in Building E1 3
SUMMARY:Icl: Office Hour
END:VEVENT
BEGIN:VEVENT
UID:39646666-3138-4234-a234-633837363564
DTSTAMP:20260420T064946Z
DESCRIPTION:
DTSTART:20230522T133000Z
DTEND:20230522T143000Z
LOCATION:Room 525 in Building E1 3
SUMMARY:Icl: Office Hour
END:VEVENT
BEGIN:VEVENT
UID:36653962-3139-4433-b830-343461646334
DTSTAMP:20260420T064946Z
DESCRIPTION:
DTSTART:20230525T130000Z
DTEND:20230525T140000Z
LOCATION:Room 525 in Building E1 3
SUMMARY:Icl: Office Hour
END:VEVENT
BEGIN:VEVENT
UID:37303730-6631-4761-b338-636462636339
DTSTAMP:20260420T064946Z
DESCRIPTION:
DTSTART:20230601T130000Z
DTEND:20230601T140000Z
LOCATION:Room 525 in Building E1 3
SUMMARY:Icl: Office Hour
END:VEVENT
BEGIN:VEVENT
UID:33646233-6161-4337-b535-623163663264
DTSTAMP:20260420T064946Z
DESCRIPTION:
DTSTART:20230605T133000Z
DTEND:20230605T143000Z
LOCATION:Room 525 in Building E1 3
SUMMARY:Icl: Office Hour
END:VEVENT
BEGIN:VEVENT
UID:32393764-3337-4063-a663-333438646135
DTSTAMP:20260420T064946Z
DESCRIPTION:
DTSTART:20230612T133000Z
DTEND:20230612T143000Z
LOCATION:Room 525 in Building E1 3
SUMMARY:Icl: Office Hour
END:VEVENT
BEGIN:VEVENT
UID:38643336-3964-4630-b530-663334663233
DTSTAMP:20260420T064946Z
DESCRIPTION:
DTSTART:20230615T130000Z
DTEND:20230615T140000Z
LOCATION:Room 525 in Building E1 3
SUMMARY:Icl: Office Hour
END:VEVENT
BEGIN:VEVENT
UID:62316332-6534-4336-a539-383732393965
DTSTAMP:20260420T064946Z
DESCRIPTION:
DTSTART:20230619T133000Z
DTEND:20230619T143000Z
LOCATION:Room 525 in Building E1 3
SUMMARY:Icl: Office Hour
END:VEVENT
BEGIN:VEVENT
UID:63306635-3964-4337-b632-393566646536
DTSTAMP:20260420T064946Z
DESCRIPTION:
DTSTART:20230622T130000Z
DTEND:20230622T140000Z
LOCATION:Room 525 in Building E1 3
SUMMARY:Icl: Office Hour
END:VEVENT
BEGIN:VEVENT
UID:38623065-6536-4837-b533-316136636232
DTSTAMP:20260420T064946Z
DESCRIPTION:
DTSTART:20230626T133000Z
DTEND:20230626T143000Z
LOCATION:Room 525 in Building E1 3
SUMMARY:Icl: Office Hour
END:VEVENT
BEGIN:VEVENT
UID:37666339-6664-4036-a338-326666316363
DTSTAMP:20260420T064946Z
DESCRIPTION:
DTSTART:20230629T130000Z
DTEND:20230629T140000Z
LOCATION:Room 525 in Building E1 3
SUMMARY:Icl: Office Hour
END:VEVENT
BEGIN:VEVENT
UID:35363834-6661-4165-a438-303363343965
DTSTAMP:20260420T064946Z
DESCRIPTION:
DTSTART:20230703T133000Z
DTEND:20230703T143000Z
LOCATION:Room 525 in Building E1 3
SUMMARY:Icl: Office Hour
END:VEVENT
BEGIN:VEVENT
UID:62303932-6632-4831-b736-393434613933
DTSTAMP:20260420T064946Z
DESCRIPTION:
DTSTART:20230706T130000Z
DTEND:20230706T140000Z
LOCATION:Room 525 in Building E1 3
SUMMARY:Icl: Office Hour
END:VEVENT
BEGIN:VEVENT
UID:62363733-3434-4463-b030-333933323133
DTSTAMP:20260420T064946Z
DESCRIPTION:
DTSTART:20230710T133000Z
DTEND:20230710T143000Z
LOCATION:Room 525 in Building E1 3
SUMMARY:Icl: Office Hour
END:VEVENT
BEGIN:VEVENT
UID:64313632-6532-4334-a162-373963353034
DTSTAMP:20260420T064946Z
DESCRIPTION:
DTSTART:20230713T130000Z
DTEND:20230713T140000Z
LOCATION:Room 525 in Building E1 3
SUMMARY:Icl: Office Hour
END:VEVENT
BEGIN:VEVENT
UID:35633561-3736-4465-a362-636666613038
DTSTAMP:20260420T064946Z
DESCRIPTION:
DTSTART:20230717T133000Z
DTEND:20230717T143000Z
LOCATION:Room 525 in Building E1 3
SUMMARY:Icl: Office Hour
END:VEVENT
BEGIN:VEVENT
UID:34313535-6164-4862-b734-383962396438
DTSTAMP:20260420T064946Z
DESCRIPTION:
DTSTART:20230720T130000Z
DTEND:20230720T140000Z
LOCATION:Room 525 in Building E1 3
SUMMARY:Icl: Office Hour
END:VEVENT
END:VCALENDAR
