BEGIN:VCALENDAR
VERSION:2.0
PRODID:-//134.96.226.213//NONSGML kigkonsult.se iCalcreator 2.41.71//
CALSCALE:GREGORIAN
METHOD:PUBLISH
UID:38633931-3135-4663-b637-333136353932
X-WR-CALNAME:Introduction to Computational Logic Calendar
X-WR-CALDESC:Events of the lecture Introduction to Computational Logic
X-WR-TIMEZONE:Europe/Berlin
BEGIN:VEVENT
UID:35393263-3964-4430-b234-343562646462
DTSTAMP:20260420T064845Z
DESCRIPTION:
DTSTART:20230418T081500Z
DTEND:20230418T094500Z
LOCATION:SR 014 in Building E1 3
SUMMARY:Icl: Tutorial
END:VEVENT
BEGIN:VEVENT
UID:31363230-3530-4563-b333-666138366264
DTSTAMP:20260420T064845Z
DESCRIPTION:(English only)
DTSTART:20230418T121500Z
DTEND:20230418T134500Z
LOCATION:SR 016 in Building E1 3
SUMMARY:Icl: Tutorial
END:VEVENT
BEGIN:VEVENT
UID:63303161-6335-4430-b763-653036356466
DTSTAMP:20260420T064845Z
DESCRIPTION:
DTSTART:20230425T081500Z
DTEND:20230425T094500Z
LOCATION:SR 014 in Building E1 3
SUMMARY:Icl: Tutorial
END:VEVENT
BEGIN:VEVENT
UID:61353466-6563-4636-a530-343761396262
DTSTAMP:20260420T064845Z
DESCRIPTION:(English only)
DTSTART:20230425T121500Z
DTEND:20230425T134500Z
LOCATION:SR 016 in Building E1 3
SUMMARY:Icl: Tutorial
END:VEVENT
BEGIN:VEVENT
UID:34376130-6138-4762-a635-653031616162
DTSTAMP:20260420T064845Z
DESCRIPTION:
DTSTART:20230502T081500Z
DTEND:20230502T094500Z
LOCATION:SR 014 in Building E1 3
SUMMARY:Icl: Tutorial
END:VEVENT
BEGIN:VEVENT
UID:39323134-6363-4336-a233-383934303332
DTSTAMP:20260420T064845Z
DESCRIPTION:(English only)
DTSTART:20230502T121500Z
DTEND:20230502T134500Z
LOCATION:SR 016 in Building E1 3
SUMMARY:Icl: Tutorial
END:VEVENT
BEGIN:VEVENT
UID:64306538-3137-4963-a336-633263626361
DTSTAMP:20260420T064845Z
DESCRIPTION:
DTSTART:20230509T081500Z
DTEND:20230509T094500Z
LOCATION:SR 014 in Building E1 3
SUMMARY:Icl: Tutorial
END:VEVENT
BEGIN:VEVENT
UID:63363462-3566-4031-b766-376431656233
DTSTAMP:20260420T064845Z
DESCRIPTION:(English only)
DTSTART:20230509T121500Z
DTEND:20230509T134500Z
LOCATION:SR 016 in Building E1 3
SUMMARY:Icl: Tutorial
END:VEVENT
BEGIN:VEVENT
UID:34613338-6137-4531-b837-626566333566
DTSTAMP:20260420T064845Z
DESCRIPTION:
DTSTART:20230516T081500Z
DTEND:20230516T094500Z
LOCATION:SR 014 in Building E1 3
SUMMARY:Icl: Tutorial
END:VEVENT
BEGIN:VEVENT
UID:66313336-3439-4037-b534-373966626230
DTSTAMP:20260420T064845Z
DESCRIPTION:(English only)
DTSTART:20230516T121500Z
DTEND:20230516T134500Z
LOCATION:SR 016 in Building E1 3
SUMMARY:Icl: Tutorial
END:VEVENT
BEGIN:VEVENT
UID:66363332-6332-4438-b661-363637616337
DTSTAMP:20260420T064845Z
DESCRIPTION:
DTSTART:20230523T081500Z
DTEND:20230523T094500Z
LOCATION:SR 014 in Building E1 3
SUMMARY:Icl: Tutorial
END:VEVENT
BEGIN:VEVENT
UID:35666431-3936-4132-b437-623835363830
DTSTAMP:20260420T064845Z
DESCRIPTION:(English only)
DTSTART:20230523T121500Z
DTEND:20230523T134500Z
LOCATION:SR 016 in Building E1 3
SUMMARY:Icl: Tutorial
END:VEVENT
BEGIN:VEVENT
UID:38623863-3462-4138-b032-376466303132
DTSTAMP:20260420T064845Z
DESCRIPTION:
DTSTART:20230530T081500Z
DTEND:20230530T094500Z
LOCATION:SR 014 in Building E1 3
SUMMARY:Icl: Tutorial
END:VEVENT
BEGIN:VEVENT
UID:66316665-6233-4832-a632-613232393966
DTSTAMP:20260420T064845Z
DESCRIPTION:(English only)
DTSTART:20230530T121500Z
DTEND:20230530T134500Z
LOCATION:SR 016 in Building E1 3
SUMMARY:Icl: Tutorial
END:VEVENT
BEGIN:VEVENT
UID:64343836-3563-4239-b337-663730633965
DTSTAMP:20260420T064845Z
DESCRIPTION:
DTSTART:20230606T081500Z
DTEND:20230606T094500Z
LOCATION:SR 014 in Building E1 3
SUMMARY:Icl: Tutorial
END:VEVENT
BEGIN:VEVENT
UID:33653938-6665-4936-b065-393433656531
DTSTAMP:20260420T064845Z
DESCRIPTION:(English only)
DTSTART:20230606T121500Z
DTEND:20230606T134500Z
LOCATION:SR 016 in Building E1 3
SUMMARY:Icl: Tutorial
END:VEVENT
BEGIN:VEVENT
UID:65373763-3832-4630-a334-393933376334
DTSTAMP:20260420T064845Z
DESCRIPTION:
DTSTART:20230613T081500Z
DTEND:20230613T094500Z
LOCATION:SR 014 in Building E1 3
SUMMARY:Icl: Tutorial
END:VEVENT
BEGIN:VEVENT
UID:38663866-6331-4563-b634-633032666361
DTSTAMP:20260420T064845Z
DESCRIPTION:(English only)
DTSTART:20230613T121500Z
DTEND:20230613T134500Z
LOCATION:SR 016 in Building E1 3
SUMMARY:Icl: Tutorial
END:VEVENT
BEGIN:VEVENT
UID:65376261-6161-4736-b736-623430383730
DTSTAMP:20260420T064845Z
DESCRIPTION:
DTSTART:20230620T081500Z
DTEND:20230620T094500Z
LOCATION:SR 014 in Building E1 3
SUMMARY:Icl: Tutorial
END:VEVENT
BEGIN:VEVENT
UID:39356537-3731-4433-a338-346334623862
DTSTAMP:20260420T064845Z
DESCRIPTION:(English only)
DTSTART:20230620T121500Z
DTEND:20230620T134500Z
LOCATION:SR 016 in Building E1 3
SUMMARY:Icl: Tutorial
END:VEVENT
BEGIN:VEVENT
UID:31303538-3536-4538-a230-383332323138
DTSTAMP:20260420T064845Z
DESCRIPTION:
DTSTART:20230627T081500Z
DTEND:20230627T094500Z
LOCATION:SR 014 in Building E1 3
SUMMARY:Icl: Tutorial
END:VEVENT
BEGIN:VEVENT
UID:65353030-3137-4165-b564-393335356638
DTSTAMP:20260420T064845Z
DESCRIPTION:(English only)
DTSTART:20230627T121500Z
DTEND:20230627T134500Z
LOCATION:SR 016 in Building E1 3
SUMMARY:Icl: Tutorial
END:VEVENT
BEGIN:VEVENT
UID:30346132-3332-4361-b736-663637303238
DTSTAMP:20260420T064845Z
DESCRIPTION:
DTSTART:20230704T081500Z
DTEND:20230704T094500Z
LOCATION:SR 014 in Building E1 3
SUMMARY:Icl: Tutorial
END:VEVENT
BEGIN:VEVENT
UID:30373934-3630-4462-b437-366263383933
DTSTAMP:20260420T064845Z
DESCRIPTION:(English only)
DTSTART:20230704T121500Z
DTEND:20230704T134500Z
LOCATION:SR 016 in Building E1 3
SUMMARY:Icl: Tutorial
END:VEVENT
BEGIN:VEVENT
UID:64326163-3361-4335-a238-373933393135
DTSTAMP:20260420T064845Z
DESCRIPTION:
DTSTART:20230711T081500Z
DTEND:20230711T094500Z
LOCATION:SR 014 in Building E1 3
SUMMARY:Icl: Tutorial
END:VEVENT
BEGIN:VEVENT
UID:63356563-6431-4036-a665-373462303966
DTSTAMP:20260420T064845Z
DESCRIPTION:(English only)
DTSTART:20230711T121500Z
DTEND:20230711T134500Z
LOCATION:SR 016 in Building E1 3
SUMMARY:Icl: Tutorial
END:VEVENT
BEGIN:VEVENT
UID:36643639-3139-4530-b439-386531623665
DTSTAMP:20260420T064845Z
DESCRIPTION:
DTSTART:20230718T081500Z
DTEND:20230718T094500Z
LOCATION:SR 014 in Building E1 3
SUMMARY:Icl: Tutorial
END:VEVENT
BEGIN:VEVENT
UID:66643364-6132-4735-a565-316462343263
DTSTAMP:20260420T064845Z
DESCRIPTION:(English only)
DTSTART:20230718T121500Z
DTEND:20230718T134500Z
LOCATION:SR 016 in Building E1 3
SUMMARY:Icl: Tutorial
END:VEVENT
END:VCALENDAR
