BEGIN:VCALENDAR
VERSION:2.0
PRODID:-//134.96.226.213//NONSGML kigkonsult.se iCalcreator 2.41.71//
CALSCALE:GREGORIAN
METHOD:PUBLISH
UID:38316531-3664-4134-a464-626361303836
X-WR-CALNAME:Introduction to Computational Logic Calendar
X-WR-CALDESC:Events of the lecture Introduction to Computational Logic
X-WR-TIMEZONE:Europe/Berlin
BEGIN:VEVENT
UID:36636235-3066-4562-b535-346136663137
DTSTAMP:20260420T050717Z
DESCRIPTION:
DTSTART:20230418T081500Z
DTEND:20230418T094500Z
LOCATION:SR 014 in Building E1 3
SUMMARY:Tutorial
END:VEVENT
BEGIN:VEVENT
UID:37313264-3536-4834-b637-383964346365
DTSTAMP:20260420T050717Z
DESCRIPTION:(English only)
DTSTART:20230418T121500Z
DTEND:20230418T134500Z
LOCATION:SR 016 in Building E1 3
SUMMARY:Tutorial
END:VEVENT
BEGIN:VEVENT
UID:33633530-6264-4735-a535-343064343966
DTSTAMP:20260420T050717Z
DESCRIPTION:
DTSTART:20230425T081500Z
DTEND:20230425T094500Z
LOCATION:SR 014 in Building E1 3
SUMMARY:Tutorial
END:VEVENT
BEGIN:VEVENT
UID:39663830-3661-4736-a531-316638653261
DTSTAMP:20260420T050717Z
DESCRIPTION:(English only)
DTSTART:20230425T121500Z
DTEND:20230425T134500Z
LOCATION:SR 016 in Building E1 3
SUMMARY:Tutorial
END:VEVENT
BEGIN:VEVENT
UID:65396235-3562-4534-a266-326363366463
DTSTAMP:20260420T050717Z
DESCRIPTION:
DTSTART:20230502T081500Z
DTEND:20230502T094500Z
LOCATION:SR 014 in Building E1 3
SUMMARY:Tutorial
END:VEVENT
BEGIN:VEVENT
UID:64316461-3964-4633-a262-336663623538
DTSTAMP:20260420T050717Z
DESCRIPTION:(English only)
DTSTART:20230502T121500Z
DTEND:20230502T134500Z
LOCATION:SR 016 in Building E1 3
SUMMARY:Tutorial
END:VEVENT
BEGIN:VEVENT
UID:32333937-3263-4335-b732-613533663864
DTSTAMP:20260420T050717Z
DESCRIPTION:
DTSTART:20230509T081500Z
DTEND:20230509T094500Z
LOCATION:SR 014 in Building E1 3
SUMMARY:Tutorial
END:VEVENT
BEGIN:VEVENT
UID:30643162-3465-4363-b132-333133356133
DTSTAMP:20260420T050717Z
DESCRIPTION:(English only)
DTSTART:20230509T121500Z
DTEND:20230509T134500Z
LOCATION:SR 016 in Building E1 3
SUMMARY:Tutorial
END:VEVENT
BEGIN:VEVENT
UID:61366465-3139-4364-b930-386161643463
DTSTAMP:20260420T050717Z
DESCRIPTION:
DTSTART:20230516T081500Z
DTEND:20230516T094500Z
LOCATION:SR 014 in Building E1 3
SUMMARY:Tutorial
END:VEVENT
BEGIN:VEVENT
UID:65363036-6661-4133-b138-303039643139
DTSTAMP:20260420T050717Z
DESCRIPTION:(English only)
DTSTART:20230516T121500Z
DTEND:20230516T134500Z
LOCATION:SR 016 in Building E1 3
SUMMARY:Tutorial
END:VEVENT
BEGIN:VEVENT
UID:31316531-3161-4330-a231-663261303664
DTSTAMP:20260420T050717Z
DESCRIPTION:
DTSTART:20230523T081500Z
DTEND:20230523T094500Z
LOCATION:SR 014 in Building E1 3
SUMMARY:Tutorial
END:VEVENT
BEGIN:VEVENT
UID:63656537-6561-4335-b331-366562363632
DTSTAMP:20260420T050717Z
DESCRIPTION:(English only)
DTSTART:20230523T121500Z
DTEND:20230523T134500Z
LOCATION:SR 016 in Building E1 3
SUMMARY:Tutorial
END:VEVENT
BEGIN:VEVENT
UID:61653939-6534-4137-b038-646163373061
DTSTAMP:20260420T050717Z
DESCRIPTION:
DTSTART:20230530T081500Z
DTEND:20230530T094500Z
LOCATION:SR 014 in Building E1 3
SUMMARY:Tutorial
END:VEVENT
BEGIN:VEVENT
UID:64333439-3165-4266-b536-623733376461
DTSTAMP:20260420T050717Z
DESCRIPTION:(English only)
DTSTART:20230530T121500Z
DTEND:20230530T134500Z
LOCATION:SR 016 in Building E1 3
SUMMARY:Tutorial
END:VEVENT
BEGIN:VEVENT
UID:64346130-3564-4635-b330-346261633835
DTSTAMP:20260420T050717Z
DESCRIPTION:
DTSTART:20230606T081500Z
DTEND:20230606T094500Z
LOCATION:SR 014 in Building E1 3
SUMMARY:Tutorial
END:VEVENT
BEGIN:VEVENT
UID:38613865-3438-4131-b439-373665656532
DTSTAMP:20260420T050717Z
DESCRIPTION:(English only)
DTSTART:20230606T121500Z
DTEND:20230606T134500Z
LOCATION:SR 016 in Building E1 3
SUMMARY:Tutorial
END:VEVENT
BEGIN:VEVENT
UID:32633734-3266-4339-a237-336235313435
DTSTAMP:20260420T050717Z
DESCRIPTION:
DTSTART:20230613T081500Z
DTEND:20230613T094500Z
LOCATION:SR 014 in Building E1 3
SUMMARY:Tutorial
END:VEVENT
BEGIN:VEVENT
UID:65303934-3930-4563-a336-616134306365
DTSTAMP:20260420T050717Z
DESCRIPTION:(English only)
DTSTART:20230613T121500Z
DTEND:20230613T134500Z
LOCATION:SR 016 in Building E1 3
SUMMARY:Tutorial
END:VEVENT
BEGIN:VEVENT
UID:39303561-3039-4164-b162-313634353166
DTSTAMP:20260420T050717Z
DESCRIPTION:
DTSTART:20230620T081500Z
DTEND:20230620T094500Z
LOCATION:SR 014 in Building E1 3
SUMMARY:Tutorial
END:VEVENT
BEGIN:VEVENT
UID:34613363-3737-4638-b734-326665343661
DTSTAMP:20260420T050717Z
DESCRIPTION:(English only)
DTSTART:20230620T121500Z
DTEND:20230620T134500Z
LOCATION:SR 016 in Building E1 3
SUMMARY:Tutorial
END:VEVENT
BEGIN:VEVENT
UID:34336634-3738-4561-a533-376433656534
DTSTAMP:20260420T050717Z
DESCRIPTION:
DTSTART:20230627T081500Z
DTEND:20230627T094500Z
LOCATION:SR 014 in Building E1 3
SUMMARY:Tutorial
END:VEVENT
BEGIN:VEVENT
UID:31613335-3663-4732-b534-646663636534
DTSTAMP:20260420T050717Z
DESCRIPTION:(English only)
DTSTART:20230627T121500Z
DTEND:20230627T134500Z
LOCATION:SR 016 in Building E1 3
SUMMARY:Tutorial
END:VEVENT
BEGIN:VEVENT
UID:66303332-6531-4330-a336-316631376432
DTSTAMP:20260420T050717Z
DESCRIPTION:
DTSTART:20230704T081500Z
DTEND:20230704T094500Z
LOCATION:SR 014 in Building E1 3
SUMMARY:Tutorial
END:VEVENT
BEGIN:VEVENT
UID:30633462-3666-4561-b037-346537643334
DTSTAMP:20260420T050717Z
DESCRIPTION:(English only)
DTSTART:20230704T121500Z
DTEND:20230704T134500Z
LOCATION:SR 016 in Building E1 3
SUMMARY:Tutorial
END:VEVENT
BEGIN:VEVENT
UID:35616237-6335-4933-b632-333332303862
DTSTAMP:20260420T050717Z
DESCRIPTION:
DTSTART:20230711T081500Z
DTEND:20230711T094500Z
LOCATION:SR 014 in Building E1 3
SUMMARY:Tutorial
END:VEVENT
BEGIN:VEVENT
UID:65326235-3831-4630-a563-343361326332
DTSTAMP:20260420T050717Z
DESCRIPTION:(English only)
DTSTART:20230711T121500Z
DTEND:20230711T134500Z
LOCATION:SR 016 in Building E1 3
SUMMARY:Tutorial
END:VEVENT
BEGIN:VEVENT
UID:31343536-3933-4638-b861-393163306437
DTSTAMP:20260420T050717Z
DESCRIPTION:
DTSTART:20230718T081500Z
DTEND:20230718T094500Z
LOCATION:SR 014 in Building E1 3
SUMMARY:Tutorial
END:VEVENT
BEGIN:VEVENT
UID:31663432-6536-4539-a130-313732633866
DTSTAMP:20260420T050717Z
DESCRIPTION:(English only)
DTSTART:20230718T121500Z
DTEND:20230718T134500Z
LOCATION:SR 016 in Building E1 3
SUMMARY:Tutorial
END:VEVENT
END:VCALENDAR
