BEGIN:VCALENDAR
VERSION:2.0
PRODID:-//134.96.226.213//NONSGML kigkonsult.se iCalcreator 2.41.71//
CALSCALE:GREGORIAN
METHOD:PUBLISH
UID:37633539-3033-4739-b432-313564613532
X-WR-CALNAME:Introduction to Computational Logic Calendar
X-WR-CALDESC:Events of the lecture Introduction to Computational Logic
X-WR-TIMEZONE:Europe/Berlin
BEGIN:VEVENT
UID:39313166-6330-4361-a331-346134663338
DTSTAMP:20260420T050938Z
DESCRIPTION:
DTSTART:20230412T101500Z
DTEND:20230412T114500Z
LOCATION:HS 002 in Building E1 3
SUMMARY:Icl: Lecture
END:VEVENT
BEGIN:VEVENT
UID:38323637-3433-4763-b632-623937363562
DTSTAMP:20260420T050938Z
DESCRIPTION:
DTSTART:20230414T101500Z
DTEND:20230414T114500Z
LOCATION:HS 002 in Building E1 3
SUMMARY:Icl: Lecture
END:VEVENT
BEGIN:VEVENT
UID:32623161-3565-4233-b764-656232316535
DTSTAMP:20260420T050938Z
DESCRIPTION:
DTSTART:20230419T101500Z
DTEND:20230419T114500Z
LOCATION:HS 002 in Building E1 3
SUMMARY:Icl: Lecture
END:VEVENT
BEGIN:VEVENT
UID:61666461-3931-4562-b366-306231626136
DTSTAMP:20260420T050938Z
DESCRIPTION:
DTSTART:20230421T101500Z
DTEND:20230421T114500Z
LOCATION:HS 002 in Building E1 3
SUMMARY:Icl: Lecture
END:VEVENT
BEGIN:VEVENT
UID:33313562-3834-4461-a335-366535396237
DTSTAMP:20260420T050938Z
DESCRIPTION:
DTSTART:20230426T101500Z
DTEND:20230426T114500Z
LOCATION:HS 002 in Building E1 3
SUMMARY:Icl: Lecture
END:VEVENT
BEGIN:VEVENT
UID:61383063-3435-4530-b936-346230336137
DTSTAMP:20260420T050938Z
DESCRIPTION:
DTSTART:20230428T101500Z
DTEND:20230428T114500Z
LOCATION:HS 002 in Building E1 3
SUMMARY:Icl: Lecture
END:VEVENT
BEGIN:VEVENT
UID:34333138-3066-4562-b363-376562386161
DTSTAMP:20260420T050938Z
DESCRIPTION:
DTSTART:20230503T101500Z
DTEND:20230503T114500Z
LOCATION:HS 002 in Building E1 3
SUMMARY:Icl: Lecture
END:VEVENT
BEGIN:VEVENT
UID:32663861-3064-4532-b764-633937366433
DTSTAMP:20260420T050938Z
DESCRIPTION:
DTSTART:20230505T101500Z
DTEND:20230505T114500Z
LOCATION:HS 002 in Building E1 3
SUMMARY:Icl: Lecture
END:VEVENT
BEGIN:VEVENT
UID:33303137-3038-4761-a334-343939346264
DTSTAMP:20260420T050938Z
DESCRIPTION:
DTSTART:20230510T101500Z
DTEND:20230510T114500Z
LOCATION:HS 002 in Building E1 3
SUMMARY:Icl: Lecture
END:VEVENT
BEGIN:VEVENT
UID:32356238-6564-4330-b733-326331366162
DTSTAMP:20260420T050938Z
DESCRIPTION:
DTSTART:20230512T101500Z
DTEND:20230512T114500Z
LOCATION:HS 002 in Building E1 3
SUMMARY:Icl: Lecture
END:VEVENT
BEGIN:VEVENT
UID:33343861-3663-4364-b463-613261356465
DTSTAMP:20260420T050938Z
DESCRIPTION:
DTSTART:20230517T101500Z
DTEND:20230517T114500Z
LOCATION:HS 002 in Building E1 3
SUMMARY:Icl: Lecture
END:VEVENT
BEGIN:VEVENT
UID:38396166-3039-4161-b934-383163393535
DTSTAMP:20260420T050938Z
DESCRIPTION:
DTSTART:20230519T101500Z
DTEND:20230519T114500Z
LOCATION:HS 002 in Building E1 3
SUMMARY:Icl: Lecture
END:VEVENT
BEGIN:VEVENT
UID:65363838-6639-4063-b630-626330656263
DTSTAMP:20260420T050938Z
DESCRIPTION:
DTSTART:20230524T101500Z
DTEND:20230524T114500Z
LOCATION:HS 002 in Building E1 3
SUMMARY:Icl: Lecture
END:VEVENT
BEGIN:VEVENT
UID:35356431-6431-4539-b834-376530383633
DTSTAMP:20260420T050938Z
DESCRIPTION:
DTSTART:20230526T101500Z
DTEND:20230526T114500Z
LOCATION:HS 002 in Building E1 3
SUMMARY:Icl: Lecture
END:VEVENT
BEGIN:VEVENT
UID:38333935-3739-4537-b336-343462303735
DTSTAMP:20260420T050938Z
DESCRIPTION:
DTSTART:20230531T101500Z
DTEND:20230531T114500Z
LOCATION:HS 002 in Building E1 3
SUMMARY:Icl: Lecture
END:VEVENT
BEGIN:VEVENT
UID:32353231-3833-4166-b662-653466323562
DTSTAMP:20260420T050938Z
DESCRIPTION:
DTSTART:20230602T101500Z
DTEND:20230602T114500Z
LOCATION:HS 002 in Building E1 3
SUMMARY:Icl: Lecture
END:VEVENT
BEGIN:VEVENT
UID:31366462-3536-4866-b763-663264383433
DTSTAMP:20260420T050938Z
DESCRIPTION:
DTSTART:20230607T101500Z
DTEND:20230607T114500Z
LOCATION:HS 002 in Building E1 3
SUMMARY:Icl: Lecture
END:VEVENT
BEGIN:VEVENT
UID:35316666-3462-4466-a634-353064353964
DTSTAMP:20260420T050938Z
DESCRIPTION:
DTSTART:20230609T101500Z
DTEND:20230609T114500Z
LOCATION:HS 002 in Building E1 3
SUMMARY:Icl: Lecture
END:VEVENT
BEGIN:VEVENT
UID:65323436-3031-4561-b264-623263363365
DTSTAMP:20260420T050938Z
DESCRIPTION:
DTSTART:20230614T101500Z
DTEND:20230614T114500Z
LOCATION:HS 002 in Building E1 3
SUMMARY:Icl: Lecture
END:VEVENT
BEGIN:VEVENT
UID:66353236-6232-4161-a436-363838636362
DTSTAMP:20260420T050938Z
DESCRIPTION:
DTSTART:20230616T101500Z
DTEND:20230616T114500Z
LOCATION:HS 002 in Building E1 3
SUMMARY:Icl: Lecture
END:VEVENT
BEGIN:VEVENT
UID:34346635-3666-4030-b930-373632663739
DTSTAMP:20260420T050938Z
DESCRIPTION:
DTSTART:20230621T101500Z
DTEND:20230621T114500Z
LOCATION:HS 002 in Building E1 3
SUMMARY:Icl: Lecture
END:VEVENT
BEGIN:VEVENT
UID:64646631-6335-4239-a365-636439353561
DTSTAMP:20260420T050938Z
DESCRIPTION:
DTSTART:20230623T101500Z
DTEND:20230623T114500Z
LOCATION:HS 002 in Building E1 3
SUMMARY:Icl: Lecture
END:VEVENT
BEGIN:VEVENT
UID:66313466-3363-4034-b638-613036316135
DTSTAMP:20260420T050938Z
DESCRIPTION:
DTSTART:20230628T101500Z
DTEND:20230628T114500Z
LOCATION:HS 002 in Building E1 3
SUMMARY:Icl: Lecture
END:VEVENT
BEGIN:VEVENT
UID:33383933-6339-4265-b363-663535326263
DTSTAMP:20260420T050938Z
DESCRIPTION:
DTSTART:20230630T101500Z
DTEND:20230630T114500Z
LOCATION:HS 002 in Building E1 3
SUMMARY:Icl: Lecture
END:VEVENT
BEGIN:VEVENT
UID:65623132-3763-4934-a365-383339333537
DTSTAMP:20260420T050938Z
DESCRIPTION:
DTSTART:20230705T101500Z
DTEND:20230705T114500Z
LOCATION:HS 002 in Building E1 3
SUMMARY:Icl: Lecture
END:VEVENT
BEGIN:VEVENT
UID:31356266-3435-4638-b561-316661383830
DTSTAMP:20260420T050938Z
DESCRIPTION:
DTSTART:20230707T101500Z
DTEND:20230707T114500Z
LOCATION:HS 002 in Building E1 3
SUMMARY:Icl: Lecture
END:VEVENT
BEGIN:VEVENT
UID:34323862-6636-4663-b762-643561386263
DTSTAMP:20260420T050938Z
DESCRIPTION:
DTSTART:20230712T101500Z
DTEND:20230712T114500Z
LOCATION:HS 002 in Building E1 3
SUMMARY:Icl: Lecture
END:VEVENT
BEGIN:VEVENT
UID:33643036-6562-4331-b033-316364306264
DTSTAMP:20260420T050938Z
DESCRIPTION:
DTSTART:20230714T101500Z
DTEND:20230714T114500Z
LOCATION:HS 002 in Building E1 3
SUMMARY:Icl: Lecture
END:VEVENT
BEGIN:VEVENT
UID:33363632-3365-4031-b639-303132353630
DTSTAMP:20260420T050938Z
DESCRIPTION:
DTSTART:20230719T101500Z
DTEND:20230719T114500Z
LOCATION:HS 002 in Building E1 3
SUMMARY:Icl: Lecture
END:VEVENT
END:VCALENDAR
