BEGIN:VCALENDAR
VERSION:2.0
PRODID:-//134.96.226.213//NONSGML kigkonsult.se iCalcreator 2.41.71//
CALSCALE:GREGORIAN
METHOD:PUBLISH
UID:65376237-3462-4061-b433-626431396363
X-WR-CALNAME:Introduction to Computational Logic Calendar
X-WR-CALDESC:Events of the lecture Introduction to Computational Logic
X-WR-TIMEZONE:Europe/Berlin
BEGIN:VEVENT
UID:37306265-6564-4038-a131-353037646666
DTSTAMP:20260420T050319Z
DESCRIPTION:
DTSTART:20230412T101500Z
DTEND:20230412T114500Z
LOCATION:HS 002 in Building E1 3
SUMMARY:Lecture
END:VEVENT
BEGIN:VEVENT
UID:36643462-6533-4662-b235-346565316163
DTSTAMP:20260420T050319Z
DESCRIPTION:
DTSTART:20230414T101500Z
DTEND:20230414T114500Z
LOCATION:HS 002 in Building E1 3
SUMMARY:Lecture
END:VEVENT
BEGIN:VEVENT
UID:31386438-6136-4334-a137-326631383563
DTSTAMP:20260420T050319Z
DESCRIPTION:
DTSTART:20230417T140000Z
DTEND:20230417T150000Z
LOCATION:Room 525 in Building E1 3
SUMMARY:Office Hour
END:VEVENT
BEGIN:VEVENT
UID:34616332-3232-4164-a533-633239393661
DTSTAMP:20260420T050319Z
DESCRIPTION:
DTSTART:20230418T081500Z
DTEND:20230418T094500Z
LOCATION:SR 014 in Building E1 3
SUMMARY:Tutorial
END:VEVENT
BEGIN:VEVENT
UID:63396137-3161-4931-b130-386331336161
DTSTAMP:20260420T050319Z
DESCRIPTION:(English only)
DTSTART:20230418T121500Z
DTEND:20230418T134500Z
LOCATION:SR 016 in Building E1 3
SUMMARY:Tutorial
END:VEVENT
BEGIN:VEVENT
UID:39383266-6235-4231-a166-306433646464
DTSTAMP:20260420T050319Z
DESCRIPTION:
DTSTART:20230419T101500Z
DTEND:20230419T114500Z
LOCATION:HS 002 in Building E1 3
SUMMARY:Lecture
END:VEVENT
BEGIN:VEVENT
UID:36633434-3063-4233-b064-333630663736
DTSTAMP:20260420T050319Z
DESCRIPTION:
DTSTART:20230419T101500Z
DTEND:20230419T103000Z
LOCATION:HS 002 in Building E1 3
SUMMARY:Test
END:VEVENT
BEGIN:VEVENT
UID:30343832-3232-4630-a535-633561313163
DTSTAMP:20260420T050319Z
DESCRIPTION:
DTSTART:20230420T080000Z
DTEND:20230420T090000Z
LOCATION:Room 525 in Building E1 3
SUMMARY:Office Hour
END:VEVENT
BEGIN:VEVENT
UID:62313932-6366-4636-b161-663038393764
DTSTAMP:20260420T050319Z
DESCRIPTION:
DTSTART:20230421T101500Z
DTEND:20230421T114500Z
LOCATION:HS 002 in Building E1 3
SUMMARY:Lecture
END:VEVENT
BEGIN:VEVENT
UID:32336539-6639-4338-b138-376539623262
DTSTAMP:20260420T050319Z
DESCRIPTION:
DTSTART:20230424T140000Z
DTEND:20230424T150000Z
LOCATION:Room 525 in Building E1 3
SUMMARY:Office Hour
END:VEVENT
BEGIN:VEVENT
UID:63623362-6335-4131-a338-303861316239
DTSTAMP:20260420T050319Z
DESCRIPTION:
DTSTART:20230425T081500Z
DTEND:20230425T094500Z
LOCATION:SR 014 in Building E1 3
SUMMARY:Tutorial
END:VEVENT
BEGIN:VEVENT
UID:31633637-6431-4133-b739-623434626261
DTSTAMP:20260420T050319Z
DESCRIPTION:(English only)
DTSTART:20230425T121500Z
DTEND:20230425T134500Z
LOCATION:SR 016 in Building E1 3
SUMMARY:Tutorial
END:VEVENT
BEGIN:VEVENT
UID:63666364-6531-4932-b066-383238636361
DTSTAMP:20260420T050319Z
DESCRIPTION:
DTSTART:20230426T101500Z
DTEND:20230426T103000Z
LOCATION:HS 002 in Building E1 3
SUMMARY:Test
END:VEVENT
BEGIN:VEVENT
UID:38363133-3637-4638-a365-346164633133
DTSTAMP:20260420T050319Z
DESCRIPTION:
DTSTART:20230426T101500Z
DTEND:20230426T114500Z
LOCATION:HS 002 in Building E1 3
SUMMARY:Lecture
END:VEVENT
BEGIN:VEVENT
UID:39363735-3532-4633-a561-303532383765
DTSTAMP:20260420T050319Z
DESCRIPTION:
DTSTART:20230427T080000Z
DTEND:20230427T090000Z
LOCATION:Room 525 in Building E1 3
SUMMARY:Office Hour
END:VEVENT
BEGIN:VEVENT
UID:63363134-3534-4038-b632-363966306439
DTSTAMP:20260420T050319Z
DESCRIPTION:
DTSTART:20230428T101500Z
DTEND:20230428T114500Z
LOCATION:HS 002 in Building E1 3
SUMMARY:Lecture
END:VEVENT
BEGIN:VEVENT
UID:37343663-6161-4532-b665-376362613362
DTSTAMP:20260420T050319Z
DESCRIPTION:
DTSTART;VALUE=DATE:20230501
DTEND;VALUE=DATE:20230502
SUMMARY:Tag der Arbeit
END:VEVENT
BEGIN:VEVENT
UID:38333938-6336-4263-a137-626639646161
DTSTAMP:20260420T050319Z
DESCRIPTION:
DTSTART:20230502T081500Z
DTEND:20230502T094500Z
LOCATION:SR 014 in Building E1 3
SUMMARY:Tutorial
END:VEVENT
BEGIN:VEVENT
UID:64386130-3738-4066-a236-616561323362
DTSTAMP:20260420T050319Z
DESCRIPTION:(English only)
DTSTART:20230502T121500Z
DTEND:20230502T134500Z
LOCATION:SR 016 in Building E1 3
SUMMARY:Tutorial
END:VEVENT
BEGIN:VEVENT
UID:61363139-3661-4662-a136-386266316534
DTSTAMP:20260420T050319Z
DESCRIPTION:
DTSTART:20230503T101500Z
DTEND:20230503T114500Z
LOCATION:HS 002 in Building E1 3
SUMMARY:Lecture
END:VEVENT
BEGIN:VEVENT
UID:31333139-3830-4661-a665-343833646139
DTSTAMP:20260420T050319Z
DESCRIPTION:
DTSTART:20230503T101500Z
DTEND:20230503T103000Z
LOCATION:HS 002 in Building E1 3
SUMMARY:Test
END:VEVENT
BEGIN:VEVENT
UID:38653164-6432-4461-b033-643961653161
DTSTAMP:20260420T050319Z
DESCRIPTION:
DTSTART:20230504T080000Z
DTEND:20230504T090000Z
LOCATION:Room 525 in Building E1 3
SUMMARY:Office Hour
END:VEVENT
BEGIN:VEVENT
UID:63666539-3638-4662-b632-393236666231
DTSTAMP:20260420T050319Z
DESCRIPTION:
DTSTART:20230505T101500Z
DTEND:20230505T114500Z
LOCATION:HS 002 in Building E1 3
SUMMARY:Lecture
END:VEVENT
BEGIN:VEVENT
UID:31316531-3836-4436-b466-643038333564
DTSTAMP:20260420T050319Z
DESCRIPTION:
DTSTART:20230508T140000Z
DTEND:20230508T150000Z
LOCATION:Room 525 in Building E1 3
SUMMARY:Office Hour
END:VEVENT
BEGIN:VEVENT
UID:63653936-6361-4662-b935-336534636265
DTSTAMP:20260420T050319Z
DESCRIPTION:
DTSTART:20230509T081500Z
DTEND:20230509T094500Z
LOCATION:SR 014 in Building E1 3
SUMMARY:Tutorial
END:VEVENT
BEGIN:VEVENT
UID:31313637-3236-4136-a565-316666316531
DTSTAMP:20260420T050319Z
DESCRIPTION:(English only)
DTSTART:20230509T121500Z
DTEND:20230509T134500Z
LOCATION:SR 016 in Building E1 3
SUMMARY:Tutorial
END:VEVENT
BEGIN:VEVENT
UID:62346661-3966-4131-b635-363733613663
DTSTAMP:20260420T050319Z
DESCRIPTION:
DTSTART:20230510T101500Z
DTEND:20230510T103000Z
LOCATION:HS 002 in Building E1 3
SUMMARY:Test
END:VEVENT
BEGIN:VEVENT
UID:38643364-3334-4136-b366-306464623839
DTSTAMP:20260420T050319Z
DESCRIPTION:
DTSTART:20230510T101500Z
DTEND:20230510T114500Z
LOCATION:HS 002 in Building E1 3
SUMMARY:Lecture
END:VEVENT
BEGIN:VEVENT
UID:63336437-6437-4338-a165-353864313733
DTSTAMP:20260420T050319Z
DESCRIPTION:
DTSTART:20230511T130000Z
DTEND:20230511T140000Z
LOCATION:Room 525 in Building E1 3
SUMMARY:Office Hour
END:VEVENT
BEGIN:VEVENT
UID:33396431-3365-4137-b730-343762393636
DTSTAMP:20260420T050319Z
DESCRIPTION:
DTSTART:20230512T101500Z
DTEND:20230512T114500Z
LOCATION:HS 002 in Building E1 3
SUMMARY:Lecture
END:VEVENT
BEGIN:VEVENT
UID:37373633-6335-4162-b239-623764396236
DTSTAMP:20260420T050319Z
DESCRIPTION:
DTSTART:20230515T133000Z
DTEND:20230515T143000Z
LOCATION:Room 525 in Building E1 3
SUMMARY:Office Hour
END:VEVENT
BEGIN:VEVENT
UID:38623264-3637-4436-a531-363037336533
DTSTAMP:20260420T050319Z
DESCRIPTION:
DTSTART:20230516T081500Z
DTEND:20230516T094500Z
LOCATION:SR 014 in Building E1 3
SUMMARY:Tutorial
END:VEVENT
BEGIN:VEVENT
UID:35623031-3739-4666-b366-663630616335
DTSTAMP:20260420T050319Z
DESCRIPTION:(English only)
DTSTART:20230516T121500Z
DTEND:20230516T134500Z
LOCATION:SR 016 in Building E1 3
SUMMARY:Tutorial
END:VEVENT
BEGIN:VEVENT
UID:34636132-3964-4535-b732-303263383835
DTSTAMP:20260420T050319Z
DESCRIPTION:
DTSTART:20230517T101500Z
DTEND:20230517T103000Z
LOCATION:HS 002 in Building E1 3
SUMMARY:Test
END:VEVENT
BEGIN:VEVENT
UID:33626365-6365-4334-b839-333932333537
DTSTAMP:20260420T050319Z
DESCRIPTION:
DTSTART:20230517T101500Z
DTEND:20230517T114500Z
LOCATION:HS 002 in Building E1 3
SUMMARY:Lecture
END:VEVENT
BEGIN:VEVENT
UID:36373330-3638-4237-a162-616662613134
DTSTAMP:20260420T050319Z
DESCRIPTION:
DTSTART;VALUE=DATE:20230518
DTEND;VALUE=DATE:20230519
SUMMARY:Christi Himmelfahrt
END:VEVENT
BEGIN:VEVENT
UID:30376561-3266-4734-a563-323736653134
DTSTAMP:20260420T050319Z
DESCRIPTION:
DTSTART:20230519T101500Z
DTEND:20230519T114500Z
LOCATION:HS 002 in Building E1 3
SUMMARY:Lecture
END:VEVENT
BEGIN:VEVENT
UID:38393130-6631-4035-b736-626435393939
DTSTAMP:20260420T050319Z
DESCRIPTION:
DTSTART:20230522T133000Z
DTEND:20230522T143000Z
LOCATION:Room 525 in Building E1 3
SUMMARY:Office Hour
END:VEVENT
BEGIN:VEVENT
UID:37316163-3135-4034-a438-343263353836
DTSTAMP:20260420T050319Z
DESCRIPTION:
DTSTART:20230523T081500Z
DTEND:20230523T094500Z
LOCATION:SR 014 in Building E1 3
SUMMARY:Tutorial
END:VEVENT
BEGIN:VEVENT
UID:37303435-6566-4138-b735-633830323737
DTSTAMP:20260420T050319Z
DESCRIPTION:(English only)
DTSTART:20230523T121500Z
DTEND:20230523T134500Z
LOCATION:SR 016 in Building E1 3
SUMMARY:Tutorial
END:VEVENT
BEGIN:VEVENT
UID:62323566-3931-4539-b264-636532326539
DTSTAMP:20260420T050319Z
DESCRIPTION:
DTSTART:20230524T101500Z
DTEND:20230524T114500Z
LOCATION:HS 002 in Building E1 3
SUMMARY:Lecture
END:VEVENT
BEGIN:VEVENT
UID:61346432-3531-4530-a335-323336626339
DTSTAMP:20260420T050319Z
DESCRIPTION:
DTSTART:20230524T101500Z
DTEND:20230524T103000Z
LOCATION:HS 002 in Building E1 3
SUMMARY:Test
END:VEVENT
BEGIN:VEVENT
UID:36656533-3466-4834-b831-306235383034
DTSTAMP:20260420T050319Z
DESCRIPTION:
DTSTART:20230525T130000Z
DTEND:20230525T140000Z
LOCATION:Room 525 in Building E1 3
SUMMARY:Office Hour
END:VEVENT
BEGIN:VEVENT
UID:31303761-3538-4432-b639-366331383138
DTSTAMP:20260420T050319Z
DESCRIPTION:
DTSTART:20230526T101500Z
DTEND:20230526T114500Z
LOCATION:HS 002 in Building E1 3
SUMMARY:Lecture
END:VEVENT
BEGIN:VEVENT
UID:64653432-3335-4134-b533-623361613032
DTSTAMP:20260420T050319Z
DESCRIPTION:
DTSTART;VALUE=DATE:20230529
DTEND;VALUE=DATE:20230530
SUMMARY:Pfingstmontag
END:VEVENT
BEGIN:VEVENT
UID:33373163-3531-4865-a430-653361646164
DTSTAMP:20260420T050319Z
DESCRIPTION:
DTSTART:20230530T081500Z
DTEND:20230530T094500Z
LOCATION:SR 014 in Building E1 3
SUMMARY:Tutorial
END:VEVENT
BEGIN:VEVENT
UID:39393439-3633-4132-b833-633338626561
DTSTAMP:20260420T050319Z
DESCRIPTION:(English only)
DTSTART:20230530T121500Z
DTEND:20230530T134500Z
LOCATION:SR 016 in Building E1 3
SUMMARY:Tutorial
END:VEVENT
BEGIN:VEVENT
UID:33303361-6233-4765-a461-643663386561
DTSTAMP:20260420T050319Z
DESCRIPTION:
DTSTART:20230531T101500Z
DTEND:20230531T103000Z
LOCATION:HS 002 in Building E1 3
SUMMARY:Test
END:VEVENT
BEGIN:VEVENT
UID:35323630-6231-4334-b036-633537353030
DTSTAMP:20260420T050319Z
DESCRIPTION:
DTSTART:20230531T101500Z
DTEND:20230531T114500Z
LOCATION:HS 002 in Building E1 3
SUMMARY:Lecture
END:VEVENT
BEGIN:VEVENT
UID:62393666-3034-4837-b934-346465306665
DTSTAMP:20260420T050319Z
DESCRIPTION:
DTSTART:20230601T130000Z
DTEND:20230601T140000Z
LOCATION:Room 525 in Building E1 3
SUMMARY:Office Hour
END:VEVENT
BEGIN:VEVENT
UID:66376239-3837-4665-b739-633236353039
DTSTAMP:20260420T050319Z
DESCRIPTION:
DTSTART:20230602T101500Z
DTEND:20230602T114500Z
LOCATION:HS 002 in Building E1 3
SUMMARY:Lecture
END:VEVENT
BEGIN:VEVENT
UID:33303265-3364-4262-b530-663763323731
DTSTAMP:20260420T050319Z
DESCRIPTION:
DTSTART:20230605T133000Z
DTEND:20230605T143000Z
LOCATION:Room 525 in Building E1 3
SUMMARY:Office Hour
END:VEVENT
BEGIN:VEVENT
UID:61636239-3730-4138-b962-386233363033
DTSTAMP:20260420T050319Z
DESCRIPTION:
DTSTART:20230606T081500Z
DTEND:20230606T094500Z
LOCATION:SR 014 in Building E1 3
SUMMARY:Tutorial
END:VEVENT
BEGIN:VEVENT
UID:37373733-6165-4661-a630-393862353665
DTSTAMP:20260420T050319Z
DESCRIPTION:(English only)
DTSTART:20230606T121500Z
DTEND:20230606T134500Z
LOCATION:SR 016 in Building E1 3
SUMMARY:Tutorial
END:VEVENT
BEGIN:VEVENT
UID:33343130-3731-4032-b463-383030626565
DTSTAMP:20260420T050319Z
DESCRIPTION:
DTSTART:20230607T101500Z
DTEND:20230607T114500Z
LOCATION:HS 002 in Building E1 3
SUMMARY:Lecture
END:VEVENT
BEGIN:VEVENT
UID:31333132-3635-4633-a430-313966356339
DTSTAMP:20260420T050319Z
DESCRIPTION:
DTSTART:20230607T101500Z
DTEND:20230607T103000Z
LOCATION:HS 002 in Building E1 3
SUMMARY:Test
END:VEVENT
BEGIN:VEVENT
UID:35393638-3762-4663-b637-396434653966
DTSTAMP:20260420T050319Z
DESCRIPTION:
DTSTART;VALUE=DATE:20230608
DTEND;VALUE=DATE:20230609
SUMMARY:Fronleichnam
END:VEVENT
BEGIN:VEVENT
UID:34363265-3764-4266-a462-386636373063
DTSTAMP:20260420T050319Z
DESCRIPTION:
DTSTART:20230609T101500Z
DTEND:20230609T114500Z
LOCATION:HS 002 in Building E1 3
SUMMARY:Lecture
END:VEVENT
BEGIN:VEVENT
UID:62653636-6439-4131-b230-343138653830
DTSTAMP:20260420T050319Z
DESCRIPTION:
DTSTART:20230612T133000Z
DTEND:20230612T143000Z
LOCATION:Room 525 in Building E1 3
SUMMARY:Office Hour
END:VEVENT
BEGIN:VEVENT
UID:32393534-3234-4630-b732-633937373964
DTSTAMP:20260420T050319Z
DESCRIPTION:
DTSTART:20230613T081500Z
DTEND:20230613T094500Z
LOCATION:SR 014 in Building E1 3
SUMMARY:Tutorial
END:VEVENT
BEGIN:VEVENT
UID:66643335-3163-4132-a131-646633313663
DTSTAMP:20260420T050319Z
DESCRIPTION:(English only)
DTSTART:20230613T121500Z
DTEND:20230613T134500Z
LOCATION:SR 016 in Building E1 3
SUMMARY:Tutorial
END:VEVENT
BEGIN:VEVENT
UID:32303630-6166-4631-a165-663565313838
DTSTAMP:20260420T050319Z
DESCRIPTION:
DTSTART:20230614T101500Z
DTEND:20230614T103000Z
LOCATION:HS 002 in Building E1 3
SUMMARY:Test
END:VEVENT
BEGIN:VEVENT
UID:61323835-3634-4566-a163-336266363431
DTSTAMP:20260420T050319Z
DESCRIPTION:
DTSTART:20230614T101500Z
DTEND:20230614T114500Z
LOCATION:HS 002 in Building E1 3
SUMMARY:Lecture
END:VEVENT
BEGIN:VEVENT
UID:64316263-3862-4835-b665-376533323934
DTSTAMP:20260420T050319Z
DESCRIPTION:
DTSTART:20230615T130000Z
DTEND:20230615T140000Z
LOCATION:Room 525 in Building E1 3
SUMMARY:Office Hour
END:VEVENT
BEGIN:VEVENT
UID:39373032-3461-4332-a464-343161646336
DTSTAMP:20260420T050319Z
DESCRIPTION:
DTSTART:20230616T101500Z
DTEND:20230616T114500Z
LOCATION:HS 002 in Building E1 3
SUMMARY:Lecture
END:VEVENT
BEGIN:VEVENT
UID:32663365-6661-4633-b065-373835623232
DTSTAMP:20260420T050319Z
DESCRIPTION:
DTSTART:20230619T133000Z
DTEND:20230619T143000Z
LOCATION:Room 525 in Building E1 3
SUMMARY:Office Hour
END:VEVENT
BEGIN:VEVENT
UID:34326463-3865-4261-b036-346263666634
DTSTAMP:20260420T050319Z
DESCRIPTION:
DTSTART:20230620T081500Z
DTEND:20230620T094500Z
LOCATION:SR 014 in Building E1 3
SUMMARY:Tutorial
END:VEVENT
BEGIN:VEVENT
UID:38386439-6530-4630-a137-393033633139
DTSTAMP:20260420T050319Z
DESCRIPTION:(English only)
DTSTART:20230620T121500Z
DTEND:20230620T134500Z
LOCATION:SR 016 in Building E1 3
SUMMARY:Tutorial
END:VEVENT
BEGIN:VEVENT
UID:65653162-6635-4531-a331-653662666233
DTSTAMP:20260420T050319Z
DESCRIPTION:
DTSTART:20230621T101500Z
DTEND:20230621T114500Z
LOCATION:HS 002 in Building E1 3
SUMMARY:Lecture
END:VEVENT
BEGIN:VEVENT
UID:36633735-3235-4033-b234-663761306534
DTSTAMP:20260420T050319Z
DESCRIPTION:
DTSTART:20230621T101500Z
DTEND:20230621T103000Z
LOCATION:HS 002 in Building E1 3
SUMMARY:Test
END:VEVENT
BEGIN:VEVENT
UID:64623936-3164-4133-a637-383235653038
DTSTAMP:20260420T050319Z
DESCRIPTION:
DTSTART:20230622T130000Z
DTEND:20230622T140000Z
LOCATION:Room 525 in Building E1 3
SUMMARY:Office Hour
END:VEVENT
BEGIN:VEVENT
UID:65306531-3134-4133-a166-353131303366
DTSTAMP:20260420T050319Z
DESCRIPTION:
DTSTART:20230623T101500Z
DTEND:20230623T114500Z
LOCATION:HS 002 in Building E1 3
SUMMARY:Lecture
END:VEVENT
BEGIN:VEVENT
UID:39396261-6461-4963-a361-616132623631
DTSTAMP:20260420T050319Z
DESCRIPTION:
DTSTART:20230626T133000Z
DTEND:20230626T143000Z
LOCATION:Room 525 in Building E1 3
SUMMARY:Office Hour
END:VEVENT
BEGIN:VEVENT
UID:39303230-3639-4763-b238-386137303362
DTSTAMP:20260420T050319Z
DESCRIPTION:
DTSTART:20230627T081500Z
DTEND:20230627T094500Z
LOCATION:SR 014 in Building E1 3
SUMMARY:Tutorial
END:VEVENT
BEGIN:VEVENT
UID:33396263-6132-4532-b137-336332336133
DTSTAMP:20260420T050319Z
DESCRIPTION:(English only)
DTSTART:20230627T121500Z
DTEND:20230627T134500Z
LOCATION:SR 016 in Building E1 3
SUMMARY:Tutorial
END:VEVENT
BEGIN:VEVENT
UID:38306238-6133-4033-b534-313431346434
DTSTAMP:20260420T050319Z
DESCRIPTION:
DTSTART:20230628T101500Z
DTEND:20230628T103000Z
LOCATION:HS 002 in Building E1 3
SUMMARY:Test
END:VEVENT
BEGIN:VEVENT
UID:63643736-6230-4539-b437-316464376231
DTSTAMP:20260420T050319Z
DESCRIPTION:
DTSTART:20230628T101500Z
DTEND:20230628T114500Z
LOCATION:HS 002 in Building E1 3
SUMMARY:Lecture
END:VEVENT
BEGIN:VEVENT
UID:36653765-3232-4435-b066-323937623563
DTSTAMP:20260420T050319Z
DESCRIPTION:
DTSTART:20230629T130000Z
DTEND:20230629T140000Z
LOCATION:Room 525 in Building E1 3
SUMMARY:Office Hour
END:VEVENT
BEGIN:VEVENT
UID:36323862-3164-4030-a263-396232313236
DTSTAMP:20260420T050319Z
DESCRIPTION:
DTSTART:20230630T101500Z
DTEND:20230630T114500Z
LOCATION:HS 002 in Building E1 3
SUMMARY:Lecture
END:VEVENT
BEGIN:VEVENT
UID:62393935-3931-4431-a362-646666393836
DTSTAMP:20260420T050319Z
DESCRIPTION:
DTSTART:20230703T133000Z
DTEND:20230703T143000Z
LOCATION:Room 525 in Building E1 3
SUMMARY:Office Hour
END:VEVENT
BEGIN:VEVENT
UID:37333465-6633-4731-a638-376438333034
DTSTAMP:20260420T050319Z
DESCRIPTION:
DTSTART:20230704T081500Z
DTEND:20230704T094500Z
LOCATION:SR 014 in Building E1 3
SUMMARY:Tutorial
END:VEVENT
BEGIN:VEVENT
UID:36353861-6232-4661-a266-353332383264
DTSTAMP:20260420T050319Z
DESCRIPTION:(English only)
DTSTART:20230704T121500Z
DTEND:20230704T134500Z
LOCATION:SR 016 in Building E1 3
SUMMARY:Tutorial
END:VEVENT
BEGIN:VEVENT
UID:33613234-6261-4435-b839-316264356566
DTSTAMP:20260420T050319Z
DESCRIPTION:
DTSTART:20230705T101500Z
DTEND:20230705T114500Z
LOCATION:HS 002 in Building E1 3
SUMMARY:Lecture
END:VEVENT
BEGIN:VEVENT
UID:64386235-3663-4433-a235-363232333431
DTSTAMP:20260420T050319Z
DESCRIPTION:
DTSTART:20230705T101500Z
DTEND:20230705T103000Z
LOCATION:HS 002 in Building E1 3
SUMMARY:Test
END:VEVENT
BEGIN:VEVENT
UID:38366331-3239-4433-b730-643537363234
DTSTAMP:20260420T050319Z
DESCRIPTION:
DTSTART:20230706T130000Z
DTEND:20230706T140000Z
LOCATION:Room 525 in Building E1 3
SUMMARY:Office Hour
END:VEVENT
BEGIN:VEVENT
UID:37633338-6238-4232-a163-306533643837
DTSTAMP:20260420T050319Z
DESCRIPTION:
DTSTART:20230707T101500Z
DTEND:20230707T114500Z
LOCATION:HS 002 in Building E1 3
SUMMARY:Lecture
END:VEVENT
BEGIN:VEVENT
UID:34336537-6663-4236-b364-323333323432
DTSTAMP:20260420T050319Z
DESCRIPTION:
DTSTART:20230710T133000Z
DTEND:20230710T143000Z
LOCATION:Room 525 in Building E1 3
SUMMARY:Office Hour
END:VEVENT
BEGIN:VEVENT
UID:61663766-3337-4736-b334-326163646536
DTSTAMP:20260420T050319Z
DESCRIPTION:
DTSTART:20230711T081500Z
DTEND:20230711T094500Z
LOCATION:SR 014 in Building E1 3
SUMMARY:Tutorial
END:VEVENT
BEGIN:VEVENT
UID:30356230-3962-4766-a336-353361643130
DTSTAMP:20260420T050319Z
DESCRIPTION:(English only)
DTSTART:20230711T121500Z
DTEND:20230711T134500Z
LOCATION:SR 016 in Building E1 3
SUMMARY:Tutorial
END:VEVENT
BEGIN:VEVENT
UID:31326138-3530-4831-b537-313332343730
DTSTAMP:20260420T050319Z
DESCRIPTION:
DTSTART:20230712T101500Z
DTEND:20230712T103000Z
LOCATION:HS 002 in Building E1 3
SUMMARY:Test
END:VEVENT
BEGIN:VEVENT
UID:66333062-6438-4338-b535-663262313263
DTSTAMP:20260420T050319Z
DESCRIPTION:
DTSTART:20230712T101500Z
DTEND:20230712T114500Z
LOCATION:HS 002 in Building E1 3
SUMMARY:Lecture
END:VEVENT
BEGIN:VEVENT
UID:39323330-6663-4037-a138-366333623730
DTSTAMP:20260420T050319Z
DESCRIPTION:
DTSTART:20230713T130000Z
DTEND:20230713T140000Z
LOCATION:Room 525 in Building E1 3
SUMMARY:Office Hour
END:VEVENT
BEGIN:VEVENT
UID:32633331-6434-4839-b863-666435346536
DTSTAMP:20260420T050319Z
DESCRIPTION:
DTSTART:20230714T101500Z
DTEND:20230714T114500Z
LOCATION:HS 002 in Building E1 3
SUMMARY:Lecture
END:VEVENT
BEGIN:VEVENT
UID:37623537-3831-4331-b539-313834303263
DTSTAMP:20260420T050319Z
DESCRIPTION:
DTSTART:20230717T133000Z
DTEND:20230717T143000Z
LOCATION:Room 525 in Building E1 3
SUMMARY:Office Hour
END:VEVENT
BEGIN:VEVENT
UID:36326538-3433-4032-b734-373666383037
DTSTAMP:20260420T050319Z
DESCRIPTION:
DTSTART:20230718T081500Z
DTEND:20230718T094500Z
LOCATION:SR 014 in Building E1 3
SUMMARY:Tutorial
END:VEVENT
BEGIN:VEVENT
UID:66373033-3732-4933-b064-373231623863
DTSTAMP:20260420T050319Z
DESCRIPTION:(English only)
DTSTART:20230718T121500Z
DTEND:20230718T134500Z
LOCATION:SR 016 in Building E1 3
SUMMARY:Tutorial
END:VEVENT
BEGIN:VEVENT
UID:37353832-6564-4266-a335-613338393937
DTSTAMP:20260420T050319Z
DESCRIPTION:
DTSTART:20230719T101500Z
DTEND:20230719T103000Z
LOCATION:HS 002 in Building E1 3
SUMMARY:Test
END:VEVENT
BEGIN:VEVENT
UID:32633066-6230-4363-a336-363761643335
DTSTAMP:20260420T050319Z
DESCRIPTION:
DTSTART:20230719T101500Z
DTEND:20230719T114500Z
LOCATION:HS 002 in Building E1 3
SUMMARY:Lecture
END:VEVENT
BEGIN:VEVENT
UID:63313166-3936-4662-b362-623565393265
DTSTAMP:20260420T050319Z
DESCRIPTION:
DTSTART:20230720T130000Z
DTEND:20230720T140000Z
LOCATION:Room 525 in Building E1 3
SUMMARY:Office Hour
END:VEVENT
BEGIN:VEVENT
UID:34363537-6263-4431-a662-333437393732
DTSTAMP:20260420T050319Z
DESCRIPTION:
DTSTART;VALUE=DATE:20230829
DTEND;VALUE=DATE:20230831
SUMMARY:Oral Exam
END:VEVENT
BEGIN:VEVENT
UID:31346436-3861-4566-a436-636561633532
DTSTAMP:20260420T050319Z
DESCRIPTION:
DTSTART;VALUE=DATE:20230929
DTEND;VALUE=DATE:20230930
SUMMARY:Oral Re-exam
END:VEVENT
END:VCALENDAR
