BEGIN:VCALENDAR
VERSION:2.0
PRODID:-//134.96.226.213//NONSGML kigkonsult.se iCalcreator 2.41.92//
CALSCALE:GREGORIAN
METHOD:PUBLISH
UID:65646162-3330-4963-b539-346237303264
X-WR-CALNAME:Introduction to Computational Logic Calendar
X-WR-CALDESC:Events of the lecture Introduction to Computational Logic
X-WR-TIMEZONE:Europe/Berlin
BEGIN:VEVENT
UID:31373830-6163-4530-b936-383031656130
DTSTAMP:20260425T113440Z
DESCRIPTION:
DTSTART:20210420T140000Z
DTEND:20210420T215959Z
SUMMARY:Icl: Test
END:VEVENT
BEGIN:VEVENT
UID:63633237-3231-4364-b132-333261313163
DTSTAMP:20260425T113440Z
DESCRIPTION:
DTSTART:20210427T140000Z
DTEND:20210427T215959Z
SUMMARY:Icl: Test
END:VEVENT
BEGIN:VEVENT
UID:36623838-3933-4532-b864-383564653134
DTSTAMP:20260425T113440Z
DESCRIPTION:
DTSTART:20210504T140000Z
DTEND:20210504T215959Z
SUMMARY:Icl: Test
END:VEVENT
BEGIN:VEVENT
UID:30623237-6333-4430-a633-343466336634
DTSTAMP:20260425T113440Z
DESCRIPTION:
DTSTART:20210511T140000Z
DTEND:20210511T215959Z
SUMMARY:Icl: Test
END:VEVENT
BEGIN:VEVENT
UID:30636433-6431-4630-b965-613863653062
DTSTAMP:20260425T113440Z
DESCRIPTION:
DTSTART:20210518T140000Z
DTEND:20210518T215959Z
SUMMARY:Icl: Test
END:VEVENT
BEGIN:VEVENT
UID:34373232-3035-4539-b835-323133623464
DTSTAMP:20260425T113440Z
DESCRIPTION:
DTSTART:20210525T140000Z
DTEND:20210525T215959Z
SUMMARY:Icl: Test
END:VEVENT
BEGIN:VEVENT
UID:37313533-3030-4536-b065-333631636462
DTSTAMP:20260425T113440Z
DESCRIPTION:
DTSTART:20210601T140000Z
DTEND:20210601T215959Z
SUMMARY:Icl: Test
END:VEVENT
BEGIN:VEVENT
UID:31333530-3564-4433-b361-313033326132
DTSTAMP:20260425T113440Z
DESCRIPTION:
DTSTART:20210608T140000Z
DTEND:20210608T215959Z
SUMMARY:Icl: Test
END:VEVENT
BEGIN:VEVENT
UID:30313330-3761-4537-b862-386164336133
DTSTAMP:20260425T113440Z
DESCRIPTION:
DTSTART:20210615T140000Z
DTEND:20210615T215959Z
SUMMARY:Icl: Test
END:VEVENT
BEGIN:VEVENT
UID:63363366-3635-4466-a532-373433613236
DTSTAMP:20260425T113440Z
DESCRIPTION:
DTSTART:20210622T140000Z
DTEND:20210622T215959Z
SUMMARY:Icl: Test
END:VEVENT
BEGIN:VEVENT
UID:36323161-3731-4338-a162-353364633133
DTSTAMP:20260425T113440Z
DESCRIPTION:
DTSTART:20210629T140000Z
DTEND:20210629T215959Z
SUMMARY:Icl: Test
END:VEVENT
BEGIN:VEVENT
UID:65656632-3538-4435-a261-343939323635
DTSTAMP:20260425T113440Z
DESCRIPTION:
DTSTART:20210706T140000Z
DTEND:20210706T215959Z
SUMMARY:Icl: Test
END:VEVENT
BEGIN:VEVENT
UID:63393961-6261-4265-b138-383365346339
DTSTAMP:20260425T113440Z
DESCRIPTION:
DTSTART:20210713T140000Z
DTEND:20210713T215959Z
SUMMARY:Icl: Test
END:VEVENT
BEGIN:VEVENT
UID:62376436-6135-4538-a335-376636613338
DTSTAMP:20260425T113440Z
DESCRIPTION:
DTSTART:20210720T140000Z
DTEND:20210720T215959Z
SUMMARY:Icl: Test
END:VEVENT
BEGIN:VEVENT
UID:63336131-3862-4638-a264-633939363866
DTSTAMP:20260425T113440Z
DESCRIPTION:
DTSTART;VALUE=DATE:20210812
DTEND;VALUE=DATE:20210813
SUMMARY:Icl: Endterm Exam
END:VEVENT
BEGIN:VEVENT
UID:32306165-3436-4366-b133-386134336433
DTSTAMP:20260425T113440Z
DESCRIPTION:
DTSTART;VALUE=DATE:20210813
DTEND;VALUE=DATE:20210814
SUMMARY:Icl: Endterm Exam
END:VEVENT
BEGIN:VEVENT
UID:38663939-6433-4434-b532-656263643832
DTSTAMP:20260425T113440Z
DESCRIPTION:
DTSTART;VALUE=DATE:20210916
DTEND;VALUE=DATE:20210917
SUMMARY:Icl: Final Exam
END:VEVENT
END:VCALENDAR
