BEGIN:VCALENDAR
VERSION:2.0
PRODID:-//134.96.226.213//NONSGML kigkonsult.se iCalcreator 2.41.92//
CALSCALE:GREGORIAN
METHOD:PUBLISH
UID:61613930-3734-4936-b730-633635303531
X-WR-CALNAME:Introduction to Computational Logic Calendar
X-WR-CALDESC:Events of the lecture Introduction to Computational Logic
X-WR-TIMEZONE:Europe/Berlin
BEGIN:VEVENT
UID:39613134-6432-4533-b566-343439663965
DTSTAMP:20260425T113418Z
DESCRIPTION:
DTSTART:20210412T091500Z
DTEND:20210412T104500Z
LOCATION:Zoom
SUMMARY:Icl: Office Hour
END:VEVENT
BEGIN:VEVENT
UID:38353565-6436-4438-b163-396563313665
DTSTAMP:20260425T113418Z
DESCRIPTION:
DTSTART:20210413T091500Z
DTEND:20210413T114500Z
SUMMARY:Icl: Office Hour
END:VEVENT
BEGIN:VEVENT
UID:38623436-3036-4939-a433-323430633233
DTSTAMP:20260425T113418Z
DESCRIPTION:
DTSTART:20210419T091500Z
DTEND:20210419T104500Z
LOCATION:Zoom
SUMMARY:Icl: Office Hour
END:VEVENT
BEGIN:VEVENT
UID:37326634-3663-4035-b463-646235363630
DTSTAMP:20260425T113418Z
DESCRIPTION:
DTSTART:20210420T091500Z
DTEND:20210420T114500Z
SUMMARY:Icl: Office Hour
END:VEVENT
BEGIN:VEVENT
UID:32306639-6333-4361-a538-346336343565
DTSTAMP:20260425T113418Z
DESCRIPTION:
DTSTART:20210426T091500Z
DTEND:20210426T104500Z
LOCATION:Zoom
SUMMARY:Icl: Office Hour
END:VEVENT
BEGIN:VEVENT
UID:35633938-3539-4366-b536-313133626563
DTSTAMP:20260425T113418Z
DESCRIPTION:
DTSTART:20210427T091500Z
DTEND:20210427T114500Z
SUMMARY:Icl: Office Hour
END:VEVENT
BEGIN:VEVENT
UID:31353037-3030-4638-a634-646564346631
DTSTAMP:20260425T113418Z
DESCRIPTION:
DTSTART:20210503T091500Z
DTEND:20210503T104500Z
LOCATION:Zoom
SUMMARY:Icl: Office Hour
END:VEVENT
BEGIN:VEVENT
UID:33633763-6231-4062-b032-373639323139
DTSTAMP:20260425T113418Z
DESCRIPTION:
DTSTART:20210504T091500Z
DTEND:20210504T114500Z
SUMMARY:Icl: Office Hour
END:VEVENT
BEGIN:VEVENT
UID:64623634-6639-4134-b831-613634373130
DTSTAMP:20260425T113418Z
DESCRIPTION:
DTSTART:20210510T091500Z
DTEND:20210510T104500Z
LOCATION:Zoom
SUMMARY:Icl: Office Hour
END:VEVENT
BEGIN:VEVENT
UID:31353830-6334-4439-b839-623234663235
DTSTAMP:20260425T113418Z
DESCRIPTION:
DTSTART:20210511T091500Z
DTEND:20210511T114500Z
SUMMARY:Icl: Office Hour
END:VEVENT
BEGIN:VEVENT
UID:37636262-3833-4562-b134-633935373733
DTSTAMP:20260425T113418Z
DESCRIPTION:
DTSTART:20210517T091500Z
DTEND:20210517T104500Z
LOCATION:Zoom
SUMMARY:Icl: Office Hour
END:VEVENT
BEGIN:VEVENT
UID:36666638-3662-4533-a432-336565366530
DTSTAMP:20260425T113418Z
DESCRIPTION:
DTSTART:20210518T091500Z
DTEND:20210518T114500Z
SUMMARY:Icl: Office Hour
END:VEVENT
BEGIN:VEVENT
UID:32376537-3039-4865-a332-646636666663
DTSTAMP:20260425T113418Z
DESCRIPTION:
DTSTART:20210525T091500Z
DTEND:20210525T114500Z
SUMMARY:Icl: Office Hour
END:VEVENT
BEGIN:VEVENT
UID:30343634-3936-4563-b936-626563363364
DTSTAMP:20260425T113418Z
DESCRIPTION:
DTSTART:20210531T091500Z
DTEND:20210531T104500Z
LOCATION:Zoom
SUMMARY:Icl: Office Hour
END:VEVENT
BEGIN:VEVENT
UID:31356338-6136-4261-b961-393632326432
DTSTAMP:20260425T113418Z
DESCRIPTION:
DTSTART:20210601T091500Z
DTEND:20210601T114500Z
SUMMARY:Icl: Office Hour
END:VEVENT
BEGIN:VEVENT
UID:34393738-3764-4734-b133-383764616132
DTSTAMP:20260425T113418Z
DESCRIPTION:
DTSTART:20210607T091500Z
DTEND:20210607T104500Z
LOCATION:Zoom
SUMMARY:Icl: Office Hour
END:VEVENT
BEGIN:VEVENT
UID:34376439-3034-4263-b036-663639376339
DTSTAMP:20260425T113418Z
DESCRIPTION:
DTSTART:20210608T091500Z
DTEND:20210608T114500Z
SUMMARY:Icl: Office Hour
END:VEVENT
BEGIN:VEVENT
UID:65306532-6430-4534-b662-393930306562
DTSTAMP:20260425T113418Z
DESCRIPTION:
DTSTART:20210614T091500Z
DTEND:20210614T104500Z
LOCATION:Zoom
SUMMARY:Icl: Office Hour
END:VEVENT
BEGIN:VEVENT
UID:64346632-6365-4362-b536-386538376636
DTSTAMP:20260425T113418Z
DESCRIPTION:
DTSTART:20210615T091500Z
DTEND:20210615T114500Z
SUMMARY:Icl: Office Hour
END:VEVENT
BEGIN:VEVENT
UID:62313962-6437-4262-b165-316634373065
DTSTAMP:20260425T113418Z
DESCRIPTION:
DTSTART:20210621T091500Z
DTEND:20210621T104500Z
LOCATION:Zoom
SUMMARY:Icl: Office Hour
END:VEVENT
BEGIN:VEVENT
UID:36323661-3033-4965-a331-653765386233
DTSTAMP:20260425T113418Z
DESCRIPTION:
DTSTART:20210622T091500Z
DTEND:20210622T114500Z
SUMMARY:Icl: Office Hour
END:VEVENT
BEGIN:VEVENT
UID:31336130-3932-4566-a562-633164623431
DTSTAMP:20260425T113418Z
DESCRIPTION:
DTSTART:20210628T091500Z
DTEND:20210628T104500Z
LOCATION:Zoom
SUMMARY:Icl: Office Hour
END:VEVENT
BEGIN:VEVENT
UID:35333133-6330-4566-b938-393065313664
DTSTAMP:20260425T113418Z
DESCRIPTION:
DTSTART:20210629T091500Z
DTEND:20210629T114500Z
SUMMARY:Icl: Office Hour
END:VEVENT
BEGIN:VEVENT
UID:65316137-6538-4861-a636-643433363865
DTSTAMP:20260425T113418Z
DESCRIPTION:
DTSTART:20210705T091500Z
DTEND:20210705T104500Z
LOCATION:Zoom
SUMMARY:Icl: Office Hour
END:VEVENT
BEGIN:VEVENT
UID:30646261-3439-4334-b038-343861613561
DTSTAMP:20260425T113418Z
DESCRIPTION:
DTSTART:20210706T091500Z
DTEND:20210706T114500Z
SUMMARY:Icl: Office Hour
END:VEVENT
BEGIN:VEVENT
UID:65393139-6131-4837-a561-653666633830
DTSTAMP:20260425T113418Z
DESCRIPTION:
DTSTART:20210712T091500Z
DTEND:20210712T104500Z
LOCATION:Zoom
SUMMARY:Icl: Office Hour
END:VEVENT
BEGIN:VEVENT
UID:34323737-3638-4463-b766-623565373637
DTSTAMP:20260425T113418Z
DESCRIPTION:
DTSTART:20210713T091500Z
DTEND:20210713T114500Z
SUMMARY:Icl: Office Hour
END:VEVENT
BEGIN:VEVENT
UID:65643533-3163-4166-a337-333262326433
DTSTAMP:20260425T113418Z
DESCRIPTION:
DTSTART:20210719T091500Z
DTEND:20210719T104500Z
LOCATION:Zoom
SUMMARY:Icl: Office Hour
END:VEVENT
BEGIN:VEVENT
UID:32616263-6530-4136-b538-323665376434
DTSTAMP:20260425T113418Z
DESCRIPTION:
DTSTART:20210720T091500Z
DTEND:20210720T114500Z
SUMMARY:Icl: Office Hour
END:VEVENT
END:VCALENDAR
