BEGIN:VCALENDAR
VERSION:2.0
PRODID:-//134.96.226.213//NONSGML kigkonsult.se iCalcreator 2.41.92//
CALSCALE:GREGORIAN
METHOD:PUBLISH
UID:62346665-3334-4530-a638-623066646135
X-WR-CALNAME:Introduction to Computational Logic Calendar
X-WR-CALDESC:Events of the lecture Introduction to Computational Logic
X-WR-TIMEZONE:Europe/Berlin
BEGIN:VEVENT
UID:37653766-3763-4965-b230-316462383335
DTSTAMP:20260425T113418Z
DESCRIPTION:Session to demonstrate basic Coq/CoqIde features.
DTSTART:20210415T081500Z
DTEND:20210415T094500Z
SUMMARY:Icl: Coq WarmUp
END:VEVENT
BEGIN:VEVENT
UID:37323662-6134-4939-b438-366264326337
DTSTAMP:20260425T113418Z
DESCRIPTION:
DTSTART:20210422T063000Z
DTEND:20210422T080000Z
SUMMARY:Icl: Tutorial
END:VEVENT
BEGIN:VEVENT
UID:34306534-6662-4866-a636-373331373139
DTSTAMP:20260425T113418Z
DESCRIPTION:
DTSTART:20210422T081500Z
DTEND:20210422T094500Z
SUMMARY:Icl: Tutorial
END:VEVENT
BEGIN:VEVENT
UID:62306138-3332-4236-a362-323364336336
DTSTAMP:20260425T113418Z
DESCRIPTION:
DTSTART:20210422T101500Z
DTEND:20210422T114500Z
SUMMARY:Icl: Tutorial
END:VEVENT
BEGIN:VEVENT
UID:36663430-3136-4332-b562-383739613134
DTSTAMP:20260425T113418Z
DESCRIPTION:
DTSTART:20210429T063000Z
DTEND:20210429T080000Z
SUMMARY:Icl: Tutorial
END:VEVENT
BEGIN:VEVENT
UID:32666138-3961-4038-a434-333466383031
DTSTAMP:20260425T113418Z
DESCRIPTION:
DTSTART:20210429T081500Z
DTEND:20210429T094500Z
SUMMARY:Icl: Tutorial
END:VEVENT
BEGIN:VEVENT
UID:66376232-6630-4230-a332-323830663662
DTSTAMP:20260425T113418Z
DESCRIPTION:
DTSTART:20210429T101500Z
DTEND:20210429T114500Z
SUMMARY:Icl: Tutorial
END:VEVENT
BEGIN:VEVENT
UID:64303738-6233-4366-b762-316364303430
DTSTAMP:20260425T113418Z
DESCRIPTION:
DTSTART:20210506T063000Z
DTEND:20210506T080000Z
SUMMARY:Icl: Tutorial
END:VEVENT
BEGIN:VEVENT
UID:63343838-3935-4033-b265-326665396232
DTSTAMP:20260425T113418Z
DESCRIPTION:
DTSTART:20210506T081500Z
DTEND:20210506T094500Z
SUMMARY:Icl: Tutorial
END:VEVENT
BEGIN:VEVENT
UID:65373761-6366-4333-b364-303534333334
DTSTAMP:20260425T113418Z
DESCRIPTION:
DTSTART:20210506T101500Z
DTEND:20210506T114500Z
SUMMARY:Icl: Tutorial
END:VEVENT
BEGIN:VEVENT
UID:62393834-3036-4239-a263-643864623861
DTSTAMP:20260425T113418Z
DESCRIPTION:
DTSTART:20210520T063000Z
DTEND:20210520T080000Z
SUMMARY:Icl: Tutorial
END:VEVENT
BEGIN:VEVENT
UID:62666361-6532-4136-b861-376634393331
DTSTAMP:20260425T113418Z
DESCRIPTION:
DTSTART:20210520T081500Z
DTEND:20210520T094500Z
SUMMARY:Icl: Tutorial
END:VEVENT
BEGIN:VEVENT
UID:33323739-3863-4634-a437-626163333936
DTSTAMP:20260425T113418Z
DESCRIPTION:
DTSTART:20210520T101500Z
DTEND:20210520T114500Z
SUMMARY:Icl: Tutorial
END:VEVENT
BEGIN:VEVENT
UID:33333935-6462-4462-b330-363535396664
DTSTAMP:20260425T113418Z
DESCRIPTION:
DTSTART:20210527T063000Z
DTEND:20210527T080000Z
SUMMARY:Icl: Tutorial
END:VEVENT
BEGIN:VEVENT
UID:61376432-3837-4032-a635-643030666430
DTSTAMP:20260425T113418Z
DESCRIPTION:
DTSTART:20210527T081500Z
DTEND:20210527T094500Z
SUMMARY:Icl: Tutorial
END:VEVENT
BEGIN:VEVENT
UID:31656463-3763-4139-b534-663730333466
DTSTAMP:20260425T113418Z
DESCRIPTION:
DTSTART:20210527T101500Z
DTEND:20210527T114500Z
SUMMARY:Icl: Tutorial
END:VEVENT
BEGIN:VEVENT
UID:62613430-6565-4530-b732-363466386365
DTSTAMP:20260425T113418Z
DESCRIPTION:
DTSTART:20210610T063000Z
DTEND:20210610T080000Z
SUMMARY:Icl: Tutorial
END:VEVENT
BEGIN:VEVENT
UID:36373138-3961-4965-a430-303038353837
DTSTAMP:20260425T113418Z
DESCRIPTION:
DTSTART:20210610T081500Z
DTEND:20210610T094500Z
SUMMARY:Icl: Tutorial
END:VEVENT
BEGIN:VEVENT
UID:62333261-3338-4237-b731-623438313763
DTSTAMP:20260425T113418Z
DESCRIPTION:
DTSTART:20210610T101500Z
DTEND:20210610T114500Z
SUMMARY:Icl: Tutorial
END:VEVENT
BEGIN:VEVENT
UID:62356561-3831-4165-b338-336431376166
DTSTAMP:20260425T113418Z
DESCRIPTION:
DTSTART:20210617T063000Z
DTEND:20210617T080000Z
SUMMARY:Icl: Tutorial
END:VEVENT
BEGIN:VEVENT
UID:65336664-3263-4863-b635-656532323633
DTSTAMP:20260425T113418Z
DESCRIPTION:
DTSTART:20210617T081500Z
DTEND:20210617T094500Z
SUMMARY:Icl: Tutorial
END:VEVENT
BEGIN:VEVENT
UID:34386537-3433-4135-a139-346264633230
DTSTAMP:20260425T113418Z
DESCRIPTION:
DTSTART:20210617T101500Z
DTEND:20210617T114500Z
SUMMARY:Icl: Tutorial
END:VEVENT
BEGIN:VEVENT
UID:37353363-6139-4562-b463-623232393964
DTSTAMP:20260425T113418Z
DESCRIPTION:
DTSTART:20210624T063000Z
DTEND:20210624T080000Z
SUMMARY:Icl: Tutorial
END:VEVENT
BEGIN:VEVENT
UID:66386231-3666-4530-a130-613432626633
DTSTAMP:20260425T113418Z
DESCRIPTION:
DTSTART:20210624T081500Z
DTEND:20210624T094500Z
SUMMARY:Icl: Tutorial
END:VEVENT
BEGIN:VEVENT
UID:37643835-6133-4566-b134-663138313866
DTSTAMP:20260425T113418Z
DESCRIPTION:
DTSTART:20210624T101500Z
DTEND:20210624T114500Z
SUMMARY:Icl: Tutorial
END:VEVENT
BEGIN:VEVENT
UID:61356462-3365-4632-b034-333835303064
DTSTAMP:20260425T113418Z
DESCRIPTION:
DTSTART:20210701T063000Z
DTEND:20210701T080000Z
SUMMARY:Icl: Tutorial
END:VEVENT
BEGIN:VEVENT
UID:33623932-3933-4665-a463-383762346362
DTSTAMP:20260425T113418Z
DESCRIPTION:
DTSTART:20210701T081500Z
DTEND:20210701T094500Z
SUMMARY:Icl: Tutorial
END:VEVENT
BEGIN:VEVENT
UID:65623838-3939-4839-a662-396237653237
DTSTAMP:20260425T113418Z
DESCRIPTION:
DTSTART:20210701T101500Z
DTEND:20210701T114500Z
SUMMARY:Icl: Tutorial
END:VEVENT
BEGIN:VEVENT
UID:63633962-6563-4033-b066-623232303166
DTSTAMP:20260425T113418Z
DESCRIPTION:
DTSTART:20210708T063000Z
DTEND:20210708T080000Z
SUMMARY:Icl: Tutorial
END:VEVENT
BEGIN:VEVENT
UID:34316663-3439-4763-b564-373935386165
DTSTAMP:20260425T113418Z
DESCRIPTION:
DTSTART:20210708T081500Z
DTEND:20210708T094500Z
SUMMARY:Icl: Tutorial
END:VEVENT
BEGIN:VEVENT
UID:32303637-3932-4337-a638-356562333134
DTSTAMP:20260425T113418Z
DESCRIPTION:
DTSTART:20210708T101500Z
DTEND:20210708T114500Z
SUMMARY:Icl: Tutorial
END:VEVENT
BEGIN:VEVENT
UID:65376335-6135-4532-a433-653361363837
DTSTAMP:20260425T113418Z
DESCRIPTION:
DTSTART:20210715T063000Z
DTEND:20210715T080000Z
SUMMARY:Icl: Tutorial
END:VEVENT
BEGIN:VEVENT
UID:33313062-3932-4739-b563-633330306362
DTSTAMP:20260425T113418Z
DESCRIPTION:
DTSTART:20210715T081500Z
DTEND:20210715T094500Z
SUMMARY:Icl: Tutorial
END:VEVENT
BEGIN:VEVENT
UID:31363435-3365-4031-b561-383564363965
DTSTAMP:20260425T113418Z
DESCRIPTION:
DTSTART:20210715T101500Z
DTEND:20210715T114500Z
SUMMARY:Icl: Tutorial
END:VEVENT
BEGIN:VEVENT
UID:63616164-3534-4737-a265-663837633939
DTSTAMP:20260425T113418Z
DESCRIPTION:
DTSTART:20210722T063000Z
DTEND:20210722T080000Z
SUMMARY:Icl: Tutorial
END:VEVENT
BEGIN:VEVENT
UID:64326231-3537-4432-b035-653830323035
DTSTAMP:20260425T113418Z
DESCRIPTION:
DTSTART:20210722T081500Z
DTEND:20210722T094500Z
SUMMARY:Icl: Tutorial
END:VEVENT
BEGIN:VEVENT
UID:61626638-3139-4366-b137-366633363963
DTSTAMP:20260425T113418Z
DESCRIPTION:
DTSTART:20210722T101500Z
DTEND:20210722T114500Z
SUMMARY:Icl: Tutorial
END:VEVENT
END:VCALENDAR
