BEGIN:VCALENDAR
VERSION:2.0
PRODID:-//134.96.226.213//NONSGML kigkonsult.se iCalcreator 2.41.92//
CALSCALE:GREGORIAN
METHOD:PUBLISH
UID:65653231-3736-4166-b837-383038313136
X-WR-CALNAME:Introduction to Computational Logic Calendar
X-WR-CALDESC:Events of the lecture Introduction to Computational Logic
X-WR-TIMEZONE:Europe/Berlin
BEGIN:VEVENT
UID:61353231-3030-4635-a662-336332373166
DTSTAMP:20260425T113419Z
DESCRIPTION:
DTSTART:20210412T091500Z
DTEND:20210412T104500Z
LOCATION:Zoom
SUMMARY:Office Hour
END:VEVENT
BEGIN:VEVENT
UID:32393832-3131-4035-a334-306439303930
DTSTAMP:20260425T113419Z
DESCRIPTION:
DTSTART:20210413T091500Z
DTEND:20210413T114500Z
SUMMARY:Office Hour
END:VEVENT
BEGIN:VEVENT
UID:31326635-3561-4835-a435-653039376163
DTSTAMP:20260425T113419Z
DESCRIPTION:
DTSTART:20210414T101500Z
DTEND:20210414T114500Z
LOCATION:Zoom
SUMMARY:Lecture
END:VEVENT
BEGIN:VEVENT
UID:32303561-6338-4830-b930-383439306561
DTSTAMP:20260425T113419Z
DESCRIPTION:Session to demonstrate basic Coq/CoqIde features.
DTSTART:20210415T081500Z
DTEND:20210415T094500Z
SUMMARY:Coq WarmUp
END:VEVENT
BEGIN:VEVENT
UID:37393364-6436-4831-b934-373262633334
DTSTAMP:20260425T113419Z
DESCRIPTION:
DTSTART:20210416T121500Z
DTEND:20210416T134500Z
LOCATION:Zoom
SUMMARY:Lecture
END:VEVENT
BEGIN:VEVENT
UID:30623831-3532-4039-a564-343433383838
DTSTAMP:20260425T113419Z
DESCRIPTION:
DTSTART:20210419T091500Z
DTEND:20210419T104500Z
LOCATION:Zoom
SUMMARY:Office Hour
END:VEVENT
BEGIN:VEVENT
UID:31623264-3666-4865-b131-643363313563
DTSTAMP:20260425T113419Z
DESCRIPTION:
DTSTART:20210420T091500Z
DTEND:20210420T114500Z
SUMMARY:Office Hour
END:VEVENT
BEGIN:VEVENT
UID:30643330-3265-4133-b636-633436356366
DTSTAMP:20260425T113419Z
DESCRIPTION:
DTSTART:20210420T140000Z
DTEND:20210420T215959Z
SUMMARY:Test
END:VEVENT
BEGIN:VEVENT
UID:66663336-6538-4865-b139-653531306138
DTSTAMP:20260425T113419Z
DESCRIPTION:
DTSTART:20210421T101500Z
DTEND:20210421T114500Z
LOCATION:Zoom
SUMMARY:Lecture
END:VEVENT
BEGIN:VEVENT
UID:63353363-3339-4561-a161-393061343937
DTSTAMP:20260425T113419Z
DESCRIPTION:
DTSTART:20210422T063000Z
DTEND:20210422T080000Z
SUMMARY:Tutorial
END:VEVENT
BEGIN:VEVENT
UID:36646365-3537-4165-a439-613866623630
DTSTAMP:20260425T113419Z
DESCRIPTION:
DTSTART:20210422T081500Z
DTEND:20210422T094500Z
SUMMARY:Tutorial
END:VEVENT
BEGIN:VEVENT
UID:37373534-3230-4266-b061-666466643132
DTSTAMP:20260425T113419Z
DESCRIPTION:
DTSTART:20210422T101500Z
DTEND:20210422T114500Z
SUMMARY:Tutorial
END:VEVENT
BEGIN:VEVENT
UID:32636537-6331-4431-a363-643861376564
DTSTAMP:20260425T113419Z
DESCRIPTION:
DTSTART:20210423T121500Z
DTEND:20210423T134500Z
LOCATION:Zoom
SUMMARY:Lecture
END:VEVENT
BEGIN:VEVENT
UID:30356336-3563-4038-a232-316261613933
DTSTAMP:20260425T113419Z
DESCRIPTION:
DTSTART:20210426T091500Z
DTEND:20210426T104500Z
LOCATION:Zoom
SUMMARY:Office Hour
END:VEVENT
BEGIN:VEVENT
UID:31653735-6636-4436-a232-613262336162
DTSTAMP:20260425T113419Z
DESCRIPTION:
DTSTART:20210427T091500Z
DTEND:20210427T114500Z
SUMMARY:Office Hour
END:VEVENT
BEGIN:VEVENT
UID:63353935-6366-4162-b866-353133303034
DTSTAMP:20260425T113419Z
DESCRIPTION:
DTSTART:20210427T140000Z
DTEND:20210427T215959Z
SUMMARY:Test
END:VEVENT
BEGIN:VEVENT
UID:33613333-6333-4333-b866-656437643231
DTSTAMP:20260425T113419Z
DESCRIPTION:
DTSTART:20210428T101500Z
DTEND:20210428T114500Z
LOCATION:Zoom
SUMMARY:Lecture
END:VEVENT
BEGIN:VEVENT
UID:66356166-3534-4730-a238-383366653632
DTSTAMP:20260425T113419Z
DESCRIPTION:
DTSTART:20210429T063000Z
DTEND:20210429T080000Z
SUMMARY:Tutorial
END:VEVENT
BEGIN:VEVENT
UID:33383034-6439-4436-a435-383236323962
DTSTAMP:20260425T113419Z
DESCRIPTION:
DTSTART:20210429T081500Z
DTEND:20210429T094500Z
SUMMARY:Tutorial
END:VEVENT
BEGIN:VEVENT
UID:37383366-6537-4263-b035-393331316465
DTSTAMP:20260425T113419Z
DESCRIPTION:
DTSTART:20210429T101500Z
DTEND:20210429T114500Z
SUMMARY:Tutorial
END:VEVENT
BEGIN:VEVENT
UID:33323230-3039-4333-b664-373433386337
DTSTAMP:20260425T113419Z
DESCRIPTION:
DTSTART:20210430T121500Z
DTEND:20210430T134500Z
LOCATION:Zoom
SUMMARY:Lecture
END:VEVENT
BEGIN:VEVENT
UID:64386663-3035-4033-b837-386530633064
DTSTAMP:20260425T113419Z
DESCRIPTION:
DTSTART:20210503T091500Z
DTEND:20210503T104500Z
LOCATION:Zoom
SUMMARY:Office Hour
END:VEVENT
BEGIN:VEVENT
UID:34353037-6336-4538-a631-376535626162
DTSTAMP:20260425T113419Z
DESCRIPTION:
DTSTART:20210504T091500Z
DTEND:20210504T114500Z
SUMMARY:Office Hour
END:VEVENT
BEGIN:VEVENT
UID:61646436-3832-4133-a235-306139336161
DTSTAMP:20260425T113419Z
DESCRIPTION:
DTSTART:20210504T140000Z
DTEND:20210504T215959Z
SUMMARY:Test
END:VEVENT
BEGIN:VEVENT
UID:38653835-6231-4761-b837-316235336662
DTSTAMP:20260425T113419Z
DESCRIPTION:
DTSTART:20210505T101500Z
DTEND:20210505T114500Z
LOCATION:Zoom
SUMMARY:Lecture
END:VEVENT
BEGIN:VEVENT
UID:31363633-6561-4366-b239-366366326237
DTSTAMP:20260425T113419Z
DESCRIPTION:
DTSTART:20210506T063000Z
DTEND:20210506T080000Z
SUMMARY:Tutorial
END:VEVENT
BEGIN:VEVENT
UID:38316130-6536-4163-a232-386139313134
DTSTAMP:20260425T113419Z
DESCRIPTION:
DTSTART:20210506T081500Z
DTEND:20210506T094500Z
SUMMARY:Tutorial
END:VEVENT
BEGIN:VEVENT
UID:39623335-3661-4035-a135-643932626364
DTSTAMP:20260425T113419Z
DESCRIPTION:
DTSTART:20210506T101500Z
DTEND:20210506T114500Z
SUMMARY:Tutorial
END:VEVENT
BEGIN:VEVENT
UID:66343364-3338-4735-b630-393539666331
DTSTAMP:20260425T113419Z
DESCRIPTION:
DTSTART:20210507T121500Z
DTEND:20210507T134500Z
LOCATION:Zoom
SUMMARY:Lecture
END:VEVENT
BEGIN:VEVENT
UID:34376363-6534-4166-b133-346437393532
DTSTAMP:20260425T113419Z
DESCRIPTION:
DTSTART:20210510T091500Z
DTEND:20210510T104500Z
LOCATION:Zoom
SUMMARY:Office Hour
END:VEVENT
BEGIN:VEVENT
UID:65623137-3839-4739-b066-383164653663
DTSTAMP:20260425T113419Z
DESCRIPTION:
DTSTART:20210511T091500Z
DTEND:20210511T114500Z
SUMMARY:Office Hour
END:VEVENT
BEGIN:VEVENT
UID:39396666-6363-4934-a637-646262333538
DTSTAMP:20260425T113419Z
DESCRIPTION:
DTSTART:20210511T140000Z
DTEND:20210511T215959Z
SUMMARY:Test
END:VEVENT
BEGIN:VEVENT
UID:37336239-6138-4030-b364-643762383439
DTSTAMP:20260425T113419Z
DESCRIPTION:
DTSTART:20210512T101500Z
DTEND:20210512T114500Z
LOCATION:Zoom
SUMMARY:Lecture
END:VEVENT
BEGIN:VEVENT
UID:66363831-3837-4566-b937-643866633964
DTSTAMP:20260425T113419Z
DESCRIPTION:
DTSTART:20210514T121500Z
DTEND:20210514T134500Z
LOCATION:Zoom
SUMMARY:Lecture
END:VEVENT
BEGIN:VEVENT
UID:32653363-3234-4365-b966-343936393134
DTSTAMP:20260425T113419Z
DESCRIPTION:
DTSTART:20210517T091500Z
DTEND:20210517T104500Z
LOCATION:Zoom
SUMMARY:Office Hour
END:VEVENT
BEGIN:VEVENT
UID:39623261-3234-4162-a434-313763643361
DTSTAMP:20260425T113419Z
DESCRIPTION:
DTSTART:20210518T091500Z
DTEND:20210518T114500Z
SUMMARY:Office Hour
END:VEVENT
BEGIN:VEVENT
UID:61336234-3331-4933-b134-356332303435
DTSTAMP:20260425T113419Z
DESCRIPTION:
DTSTART:20210518T140000Z
DTEND:20210518T215959Z
SUMMARY:Test
END:VEVENT
BEGIN:VEVENT
UID:33643261-6463-4438-a630-383632616232
DTSTAMP:20260425T113419Z
DESCRIPTION:
DTSTART:20210519T101500Z
DTEND:20210519T114500Z
LOCATION:Zoom
SUMMARY:Lecture
END:VEVENT
BEGIN:VEVENT
UID:61396363-6339-4363-b731-346539313465
DTSTAMP:20260425T113419Z
DESCRIPTION:
DTSTART:20210520T063000Z
DTEND:20210520T080000Z
SUMMARY:Tutorial
END:VEVENT
BEGIN:VEVENT
UID:36333463-3232-4138-a631-656332313738
DTSTAMP:20260425T113419Z
DESCRIPTION:
DTSTART:20210520T081500Z
DTEND:20210520T094500Z
SUMMARY:Tutorial
END:VEVENT
BEGIN:VEVENT
UID:35306663-6661-4533-a462-373730316434
DTSTAMP:20260425T113419Z
DESCRIPTION:
DTSTART:20210520T101500Z
DTEND:20210520T114500Z
SUMMARY:Tutorial
END:VEVENT
BEGIN:VEVENT
UID:63346164-3365-4665-b665-333831656333
DTSTAMP:20260425T113419Z
DESCRIPTION:
DTSTART:20210521T121500Z
DTEND:20210521T134500Z
LOCATION:Zoom
SUMMARY:Lecture
END:VEVENT
BEGIN:VEVENT
UID:64346462-6235-4161-a137-633065633064
DTSTAMP:20260425T113419Z
DESCRIPTION:
DTSTART:20210525T091500Z
DTEND:20210525T114500Z
SUMMARY:Office Hour
END:VEVENT
BEGIN:VEVENT
UID:31393466-3534-4861-b332-383438633133
DTSTAMP:20260425T113419Z
DESCRIPTION:
DTSTART:20210525T140000Z
DTEND:20210525T215959Z
SUMMARY:Test
END:VEVENT
BEGIN:VEVENT
UID:37376266-3730-4634-b436-623433356633
DTSTAMP:20260425T113419Z
DESCRIPTION:
DTSTART:20210526T101500Z
DTEND:20210526T114500Z
LOCATION:Zoom
SUMMARY:Lecture
END:VEVENT
BEGIN:VEVENT
UID:66353236-6537-4133-b738-343866636563
DTSTAMP:20260425T113419Z
DESCRIPTION:
DTSTART:20210527T063000Z
DTEND:20210527T080000Z
SUMMARY:Tutorial
END:VEVENT
BEGIN:VEVENT
UID:66343535-3165-4638-b336-626134303163
DTSTAMP:20260425T113419Z
DESCRIPTION:
DTSTART:20210527T081500Z
DTEND:20210527T094500Z
SUMMARY:Tutorial
END:VEVENT
BEGIN:VEVENT
UID:63643636-3666-4439-b061-343631333036
DTSTAMP:20260425T113419Z
DESCRIPTION:
DTSTART:20210527T101500Z
DTEND:20210527T114500Z
SUMMARY:Tutorial
END:VEVENT
BEGIN:VEVENT
UID:39346162-6437-4232-a439-643038373532
DTSTAMP:20260425T113419Z
DESCRIPTION:
DTSTART:20210528T121500Z
DTEND:20210528T134500Z
LOCATION:Zoom
SUMMARY:Lecture
END:VEVENT
BEGIN:VEVENT
UID:35613131-6233-4233-b834-313735306164
DTSTAMP:20260425T113419Z
DESCRIPTION:
DTSTART:20210531T091500Z
DTEND:20210531T104500Z
LOCATION:Zoom
SUMMARY:Office Hour
END:VEVENT
BEGIN:VEVENT
UID:36313634-3131-4833-b238-666236343935
DTSTAMP:20260425T113419Z
DESCRIPTION:
DTSTART:20210601T091500Z
DTEND:20210601T114500Z
SUMMARY:Office Hour
END:VEVENT
BEGIN:VEVENT
UID:63653361-6136-4461-b634-313665386431
DTSTAMP:20260425T113419Z
DESCRIPTION:
DTSTART:20210601T140000Z
DTEND:20210601T215959Z
SUMMARY:Test
END:VEVENT
BEGIN:VEVENT
UID:39613066-3330-4637-b533-613662373234
DTSTAMP:20260425T113419Z
DESCRIPTION:
DTSTART:20210602T101500Z
DTEND:20210602T114500Z
LOCATION:Zoom
SUMMARY:Lecture
END:VEVENT
BEGIN:VEVENT
UID:64316533-6438-4165-b630-653435633164
DTSTAMP:20260425T113419Z
DESCRIPTION:
DTSTART:20210604T121500Z
DTEND:20210604T134500Z
LOCATION:Zoom
SUMMARY:Lecture
END:VEVENT
BEGIN:VEVENT
UID:30663538-3636-4165-a139-303639386232
DTSTAMP:20260425T113419Z
DESCRIPTION:
DTSTART:20210607T091500Z
DTEND:20210607T104500Z
LOCATION:Zoom
SUMMARY:Office Hour
END:VEVENT
BEGIN:VEVENT
UID:37613863-6435-4966-a265-363531303834
DTSTAMP:20260425T113419Z
DESCRIPTION:
DTSTART:20210608T091500Z
DTEND:20210608T114500Z
SUMMARY:Office Hour
END:VEVENT
BEGIN:VEVENT
UID:39316464-3436-4735-b034-643931643337
DTSTAMP:20260425T113419Z
DESCRIPTION:
DTSTART:20210608T140000Z
DTEND:20210608T215959Z
SUMMARY:Test
END:VEVENT
BEGIN:VEVENT
UID:33373062-6565-4863-b065-356366373764
DTSTAMP:20260425T113419Z
DESCRIPTION:
DTSTART:20210609T101500Z
DTEND:20210609T114500Z
LOCATION:Zoom
SUMMARY:Lecture
END:VEVENT
BEGIN:VEVENT
UID:64323835-6336-4035-b331-356137623365
DTSTAMP:20260425T113419Z
DESCRIPTION:
DTSTART:20210610T063000Z
DTEND:20210610T080000Z
SUMMARY:Tutorial
END:VEVENT
BEGIN:VEVENT
UID:30393736-3830-4133-a338-666161656331
DTSTAMP:20260425T113419Z
DESCRIPTION:
DTSTART:20210610T081500Z
DTEND:20210610T094500Z
SUMMARY:Tutorial
END:VEVENT
BEGIN:VEVENT
UID:33306139-3937-4964-a338-643264613331
DTSTAMP:20260425T113419Z
DESCRIPTION:
DTSTART:20210610T101500Z
DTEND:20210610T114500Z
SUMMARY:Tutorial
END:VEVENT
BEGIN:VEVENT
UID:66646639-3566-4762-b430-653233346562
DTSTAMP:20260425T113419Z
DESCRIPTION:
DTSTART:20210611T121500Z
DTEND:20210611T134500Z
LOCATION:Zoom
SUMMARY:Lecture
END:VEVENT
BEGIN:VEVENT
UID:63666532-3934-4662-b935-613837333437
DTSTAMP:20260425T113419Z
DESCRIPTION:
DTSTART:20210614T091500Z
DTEND:20210614T104500Z
LOCATION:Zoom
SUMMARY:Office Hour
END:VEVENT
BEGIN:VEVENT
UID:62343939-6639-4463-b239-363331393738
DTSTAMP:20260425T113419Z
DESCRIPTION:
DTSTART:20210615T091500Z
DTEND:20210615T114500Z
SUMMARY:Office Hour
END:VEVENT
BEGIN:VEVENT
UID:63366465-3937-4835-b633-336137346132
DTSTAMP:20260425T113419Z
DESCRIPTION:
DTSTART:20210615T140000Z
DTEND:20210615T215959Z
SUMMARY:Test
END:VEVENT
BEGIN:VEVENT
UID:34386138-6430-4237-a466-346462653037
DTSTAMP:20260425T113419Z
DESCRIPTION:
DTSTART:20210616T101500Z
DTEND:20210616T114500Z
LOCATION:Zoom
SUMMARY:Lecture
END:VEVENT
BEGIN:VEVENT
UID:35643864-3134-4530-b434-366566326435
DTSTAMP:20260425T113419Z
DESCRIPTION:
DTSTART:20210617T063000Z
DTEND:20210617T080000Z
SUMMARY:Tutorial
END:VEVENT
BEGIN:VEVENT
UID:39653263-3231-4536-a137-646563623038
DTSTAMP:20260425T113419Z
DESCRIPTION:
DTSTART:20210617T081500Z
DTEND:20210617T094500Z
SUMMARY:Tutorial
END:VEVENT
BEGIN:VEVENT
UID:31396233-3237-4032-a165-663862656461
DTSTAMP:20260425T113419Z
DESCRIPTION:
DTSTART:20210617T101500Z
DTEND:20210617T114500Z
SUMMARY:Tutorial
END:VEVENT
BEGIN:VEVENT
UID:34396633-6465-4861-b265-646666646463
DTSTAMP:20260425T113419Z
DESCRIPTION:
DTSTART:20210618T121500Z
DTEND:20210618T134500Z
LOCATION:Zoom
SUMMARY:Lecture
END:VEVENT
BEGIN:VEVENT
UID:39373261-6331-4563-b033-343862623664
DTSTAMP:20260425T113419Z
DESCRIPTION:
DTSTART:20210621T091500Z
DTEND:20210621T104500Z
LOCATION:Zoom
SUMMARY:Office Hour
END:VEVENT
BEGIN:VEVENT
UID:35656264-3437-4564-b966-306238623966
DTSTAMP:20260425T113419Z
DESCRIPTION:
DTSTART:20210622T091500Z
DTEND:20210622T114500Z
SUMMARY:Office Hour
END:VEVENT
BEGIN:VEVENT
UID:33363637-6434-4536-b366-323932353563
DTSTAMP:20260425T113419Z
DESCRIPTION:
DTSTART:20210622T140000Z
DTEND:20210622T215959Z
SUMMARY:Test
END:VEVENT
BEGIN:VEVENT
UID:30626261-3132-4066-a435-626536303838
DTSTAMP:20260425T113419Z
DESCRIPTION:
DTSTART:20210623T101500Z
DTEND:20210623T114500Z
LOCATION:Zoom
SUMMARY:Lecture
END:VEVENT
BEGIN:VEVENT
UID:64623864-6337-4330-b762-653730343462
DTSTAMP:20260425T113419Z
DESCRIPTION:
DTSTART:20210624T063000Z
DTEND:20210624T080000Z
SUMMARY:Tutorial
END:VEVENT
BEGIN:VEVENT
UID:65373764-3364-4564-a263-656163326138
DTSTAMP:20260425T113419Z
DESCRIPTION:
DTSTART:20210624T081500Z
DTEND:20210624T094500Z
SUMMARY:Tutorial
END:VEVENT
BEGIN:VEVENT
UID:62346236-3561-4530-b035-346231383965
DTSTAMP:20260425T113419Z
DESCRIPTION:
DTSTART:20210624T101500Z
DTEND:20210624T114500Z
SUMMARY:Tutorial
END:VEVENT
BEGIN:VEVENT
UID:62633330-6636-4338-b563-353633613666
DTSTAMP:20260425T113419Z
DESCRIPTION:
DTSTART:20210625T121500Z
DTEND:20210625T134500Z
LOCATION:Zoom
SUMMARY:Lecture
END:VEVENT
BEGIN:VEVENT
UID:34353639-6330-4561-a462-653933313066
DTSTAMP:20260425T113419Z
DESCRIPTION:
DTSTART:20210628T091500Z
DTEND:20210628T104500Z
LOCATION:Zoom
SUMMARY:Office Hour
END:VEVENT
BEGIN:VEVENT
UID:64663230-6637-4032-b963-356430633564
DTSTAMP:20260425T113419Z
DESCRIPTION:
DTSTART:20210629T091500Z
DTEND:20210629T114500Z
SUMMARY:Office Hour
END:VEVENT
BEGIN:VEVENT
UID:61313635-3839-4430-b263-613464343466
DTSTAMP:20260425T113419Z
DESCRIPTION:
DTSTART:20210629T140000Z
DTEND:20210629T215959Z
SUMMARY:Test
END:VEVENT
BEGIN:VEVENT
UID:61646130-3237-4631-b837-373934363634
DTSTAMP:20260425T113419Z
DESCRIPTION:
DTSTART:20210630T101500Z
DTEND:20210630T114500Z
LOCATION:Zoom
SUMMARY:Lecture
END:VEVENT
BEGIN:VEVENT
UID:36653664-3135-4865-b234-366430386533
DTSTAMP:20260425T113419Z
DESCRIPTION:
DTSTART:20210701T063000Z
DTEND:20210701T080000Z
SUMMARY:Tutorial
END:VEVENT
BEGIN:VEVENT
UID:33666461-6631-4565-a532-396237353231
DTSTAMP:20260425T113419Z
DESCRIPTION:
DTSTART:20210701T081500Z
DTEND:20210701T094500Z
SUMMARY:Tutorial
END:VEVENT
BEGIN:VEVENT
UID:32313334-6565-4434-a136-656437663634
DTSTAMP:20260425T113419Z
DESCRIPTION:
DTSTART:20210701T101500Z
DTEND:20210701T114500Z
SUMMARY:Tutorial
END:VEVENT
BEGIN:VEVENT
UID:61333633-6264-4331-b863-626161393237
DTSTAMP:20260425T113419Z
DESCRIPTION:
DTSTART:20210702T121500Z
DTEND:20210702T134500Z
LOCATION:Zoom
SUMMARY:Lecture
END:VEVENT
BEGIN:VEVENT
UID:34663334-3434-4563-b639-323633393932
DTSTAMP:20260425T113419Z
DESCRIPTION:
DTSTART:20210705T091500Z
DTEND:20210705T104500Z
LOCATION:Zoom
SUMMARY:Office Hour
END:VEVENT
BEGIN:VEVENT
UID:62313933-6432-4764-a131-343563653764
DTSTAMP:20260425T113419Z
DESCRIPTION:
DTSTART:20210706T091500Z
DTEND:20210706T114500Z
SUMMARY:Office Hour
END:VEVENT
BEGIN:VEVENT
UID:66653435-3964-4334-a161-366131653931
DTSTAMP:20260425T113419Z
DESCRIPTION:
DTSTART:20210706T140000Z
DTEND:20210706T215959Z
SUMMARY:Test
END:VEVENT
BEGIN:VEVENT
UID:30376161-3337-4866-a164-653165376635
DTSTAMP:20260425T113419Z
DESCRIPTION:
DTSTART:20210707T101500Z
DTEND:20210707T114500Z
LOCATION:Zoom
SUMMARY:Lecture
END:VEVENT
BEGIN:VEVENT
UID:35313634-3364-4733-a238-623836626130
DTSTAMP:20260425T113419Z
DESCRIPTION:
DTSTART:20210708T063000Z
DTEND:20210708T080000Z
SUMMARY:Tutorial
END:VEVENT
BEGIN:VEVENT
UID:66323233-6565-4939-a638-353539633835
DTSTAMP:20260425T113419Z
DESCRIPTION:
DTSTART:20210708T081500Z
DTEND:20210708T094500Z
SUMMARY:Tutorial
END:VEVENT
BEGIN:VEVENT
UID:36653336-3433-4839-b731-343336633865
DTSTAMP:20260425T113419Z
DESCRIPTION:
DTSTART:20210708T101500Z
DTEND:20210708T114500Z
SUMMARY:Tutorial
END:VEVENT
BEGIN:VEVENT
UID:33313766-6363-4263-b562-376565373065
DTSTAMP:20260425T113419Z
DESCRIPTION:
DTSTART:20210709T121500Z
DTEND:20210709T134500Z
LOCATION:Zoom
SUMMARY:Lecture
END:VEVENT
BEGIN:VEVENT
UID:37373137-6261-4133-b461-323533356261
DTSTAMP:20260425T113419Z
DESCRIPTION:
DTSTART:20210712T091500Z
DTEND:20210712T104500Z
LOCATION:Zoom
SUMMARY:Office Hour
END:VEVENT
BEGIN:VEVENT
UID:36323234-3237-4539-b565-343764363339
DTSTAMP:20260425T113419Z
DESCRIPTION:
DTSTART:20210713T091500Z
DTEND:20210713T114500Z
SUMMARY:Office Hour
END:VEVENT
BEGIN:VEVENT
UID:38313462-6135-4131-a137-646236383537
DTSTAMP:20260425T113419Z
DESCRIPTION:
DTSTART:20210713T140000Z
DTEND:20210713T215959Z
SUMMARY:Test
END:VEVENT
BEGIN:VEVENT
UID:36623861-3035-4532-b334-323635373734
DTSTAMP:20260425T113419Z
DESCRIPTION:
DTSTART:20210714T101500Z
DTEND:20210714T114500Z
LOCATION:Zoom
SUMMARY:Lecture
END:VEVENT
BEGIN:VEVENT
UID:66383639-6638-4331-a563-666431363364
DTSTAMP:20260425T113419Z
DESCRIPTION:
DTSTART:20210715T063000Z
DTEND:20210715T080000Z
SUMMARY:Tutorial
END:VEVENT
BEGIN:VEVENT
UID:37666230-6538-4437-b066-396163653263
DTSTAMP:20260425T113419Z
DESCRIPTION:
DTSTART:20210715T081500Z
DTEND:20210715T094500Z
SUMMARY:Tutorial
END:VEVENT
BEGIN:VEVENT
UID:33326434-6432-4731-b864-343830616136
DTSTAMP:20260425T113419Z
DESCRIPTION:
DTSTART:20210715T101500Z
DTEND:20210715T114500Z
SUMMARY:Tutorial
END:VEVENT
BEGIN:VEVENT
UID:32336632-3562-4266-b833-303065363535
DTSTAMP:20260425T113419Z
DESCRIPTION:
DTSTART:20210716T121500Z
DTEND:20210716T134500Z
LOCATION:Zoom
SUMMARY:Lecture
END:VEVENT
BEGIN:VEVENT
UID:36396464-3265-4061-b264-613466383834
DTSTAMP:20260425T113419Z
DESCRIPTION:
DTSTART:20210719T091500Z
DTEND:20210719T104500Z
LOCATION:Zoom
SUMMARY:Office Hour
END:VEVENT
BEGIN:VEVENT
UID:66343937-3365-4764-b736-653631386338
DTSTAMP:20260425T113419Z
DESCRIPTION:
DTSTART:20210720T091500Z
DTEND:20210720T114500Z
SUMMARY:Office Hour
END:VEVENT
BEGIN:VEVENT
UID:32646533-3865-4631-b037-633434666162
DTSTAMP:20260425T113419Z
DESCRIPTION:
DTSTART:20210720T140000Z
DTEND:20210720T215959Z
SUMMARY:Test
END:VEVENT
BEGIN:VEVENT
UID:39386262-3338-4366-b636-333933633935
DTSTAMP:20260425T113419Z
DESCRIPTION:
DTSTART:20210721T101500Z
DTEND:20210721T114500Z
LOCATION:Zoom
SUMMARY:Lecture
END:VEVENT
BEGIN:VEVENT
UID:35376463-3835-4830-b065-383432386630
DTSTAMP:20260425T113419Z
DESCRIPTION:
DTSTART:20210722T063000Z
DTEND:20210722T080000Z
SUMMARY:Tutorial
END:VEVENT
BEGIN:VEVENT
UID:33616539-3464-4437-a138-323162326436
DTSTAMP:20260425T113419Z
DESCRIPTION:
DTSTART:20210722T081500Z
DTEND:20210722T094500Z
SUMMARY:Tutorial
END:VEVENT
BEGIN:VEVENT
UID:62343964-6133-4364-b263-656435636234
DTSTAMP:20260425T113419Z
DESCRIPTION:
DTSTART:20210722T101500Z
DTEND:20210722T114500Z
SUMMARY:Tutorial
END:VEVENT
BEGIN:VEVENT
UID:33326231-3763-4135-b130-393431623266
DTSTAMP:20260425T113419Z
DESCRIPTION:
DTSTART;VALUE=DATE:20210812
DTEND;VALUE=DATE:20210813
SUMMARY:Endterm Exam
END:VEVENT
BEGIN:VEVENT
UID:63313365-6263-4631-a165-356362616164
DTSTAMP:20260425T113419Z
DESCRIPTION:
DTSTART;VALUE=DATE:20210813
DTEND;VALUE=DATE:20210814
SUMMARY:Endterm Exam
END:VEVENT
BEGIN:VEVENT
UID:32626631-6435-4633-b535-666563663462
DTSTAMP:20260425T113419Z
DESCRIPTION:
DTSTART;VALUE=DATE:20210916
DTEND;VALUE=DATE:20210917
SUMMARY:Final Exam
END:VEVENT
END:VCALENDAR
