BEGIN:VCALENDAR
VERSION:2.0
PRODID:-//134.96.226.213//NONSGML kigkonsult.se iCalcreator 2.41.92//
CALSCALE:GREGORIAN
METHOD:PUBLISH
UID:39373638-6230-4438-b039-616366623561
X-WR-CALNAME:Accelerating Applications with Specialized Hardware Calendar
X-WR-CALDESC:Events of the lecture Accelerating Applications with Specializ
 ed Hardware
X-WR-TIMEZONE:Europe/Berlin
BEGIN:VEVENT
UID:33646533-3264-4138-b435-613832366632
DTSTAMP:20260425T194023Z
DESCRIPTION:
DTSTART:20231030T120000Z
DTEND:20231030T130000Z
LOCATION:E1 5 Room 029 MPI-SWS Building
SUMMARY:Hwaccel: Kick-Off Meeting (preliminary)
END:VEVENT
BEGIN:VEVENT
UID:33373833-6235-4462-b238-613766356262
DTSTAMP:20260425T194023Z
DESCRIPTION:
DTSTART:20231110T121500Z
DTEND:20231110T140000Z
LOCATION:E1 5 Room 105 MPI-SWS Building
SUMMARY:Hwaccel: Weekly Meeting
END:VEVENT
BEGIN:VEVENT
UID:63373834-6365-4462-b337-323966663161
DTSTAMP:20260425T194023Z
DESCRIPTION:
DTSTART:20231117T121500Z
DTEND:20231117T140000Z
LOCATION:E1 5 Room 105 MPI-SWS Building
SUMMARY:Hwaccel: Weekly Meeting
END:VEVENT
BEGIN:VEVENT
UID:61633834-3535-4265-b465-666535373161
DTSTAMP:20260425T194023Z
DESCRIPTION:
DTSTART;VALUE=DATE:20231120
DTEND;VALUE=DATE:20231121
SUMMARY:Hwaccel: Project: Milestone 2 Released
END:VEVENT
BEGIN:VEVENT
UID:61613262-3662-4965-a232-386562383134
DTSTAMP:20260425T194023Z
DESCRIPTION:
DTSTART:20231120T225900Z
DTEND:20231120T225900Z
SUMMARY:Hwaccel: Project: Milestone 1 Due
END:VEVENT
BEGIN:VEVENT
UID:38343035-6366-4431-a463-633066326163
DTSTAMP:20260425T194023Z
DESCRIPTION:
DTSTART:20231124T121500Z
DTEND:20231124T140000Z
LOCATION:E1 5 Room 105 MPI-SWS Building
SUMMARY:Hwaccel: Weekly Meeting
END:VEVENT
BEGIN:VEVENT
UID:35323439-6431-4738-a234-376532313963
DTSTAMP:20260425T194023Z
DESCRIPTION:
DTSTART:20231201T121500Z
DTEND:20231201T140000Z
LOCATION:E1 5 Room 105 MPI-SWS Building
SUMMARY:Hwaccel: Weekly Meeting
END:VEVENT
BEGIN:VEVENT
UID:38663237-3563-4339-a561-613531613164
DTSTAMP:20260425T194023Z
DESCRIPTION:
DTSTART:20231208T121500Z
DTEND:20231208T140000Z
LOCATION:E1 5 Room 105 MPI-SWS Building
SUMMARY:Hwaccel: Weekly Meeting
END:VEVENT
BEGIN:VEVENT
UID:39663764-3439-4334-b764-666265666466
DTSTAMP:20260425T194023Z
DESCRIPTION:
DTSTART:20231211T225900Z
DTEND:20231211T225900Z
SUMMARY:Hwaccel: Project: Milestone 2 Due
END:VEVENT
BEGIN:VEVENT
UID:30376337-3062-4737-b965-393737353739
DTSTAMP:20260425T194023Z
DESCRIPTION:
DTSTART;VALUE=DATE:20231215
DTEND;VALUE=DATE:20231216
SUMMARY:Hwaccel: Project: Milestone 3 Released
END:VEVENT
BEGIN:VEVENT
UID:61356662-3835-4235-a666-343438346332
DTSTAMP:20260425T194023Z
DESCRIPTION:
DTSTART:20231215T121500Z
DTEND:20231215T140000Z
LOCATION:E1 5 Room 105 MPI-SWS Building
SUMMARY:Hwaccel: Weekly Meeting
END:VEVENT
BEGIN:VEVENT
UID:30663035-3661-4766-b462-383732633033
DTSTAMP:20260425T194023Z
DESCRIPTION:
DTSTART:20231222T121500Z
DTEND:20231222T140000Z
LOCATION:E1 5 Room 105 MPI-SWS Building
SUMMARY:Hwaccel: Weekly Meeting
END:VEVENT
BEGIN:VEVENT
UID:37336233-3462-4864-b839-366134333163
DTSTAMP:20260425T194023Z
DESCRIPTION:
DTSTART:20240105T121500Z
DTEND:20240105T140000Z
LOCATION:E1 5 Room 105 MPI-SWS Building
SUMMARY:Hwaccel: Weekly Meeting
END:VEVENT
BEGIN:VEVENT
UID:30383333-6637-4664-a661-626631396666
DTSTAMP:20260425T194023Z
DESCRIPTION:
DTSTART;VALUE=DATE:20240108
DTEND;VALUE=DATE:20240109
SUMMARY:Hwaccel: Project: Milestone 3 Due
END:VEVENT
BEGIN:VEVENT
UID:36373764-3032-4239-b932-353438353930
DTSTAMP:20260425T194023Z
DESCRIPTION:
DTSTART:20240112T121500Z
DTEND:20240112T140000Z
LOCATION:E1 5 Room 105 MPI-SWS Building
SUMMARY:Hwaccel: Weekly Meeting
END:VEVENT
BEGIN:VEVENT
UID:37346532-3138-4033-a137-343431353130
DTSTAMP:20260425T194023Z
DESCRIPTION:
DTSTART:20240119T121500Z
DTEND:20240119T140000Z
LOCATION:E1 5 Room 105 MPI-SWS Building
SUMMARY:Hwaccel: Weekly Meeting
END:VEVENT
BEGIN:VEVENT
UID:31313530-3632-4832-b332-363132383466
DTSTAMP:20260425T194023Z
DESCRIPTION:
DTSTART:20240126T121500Z
DTEND:20240126T140000Z
LOCATION:E1 5 Room 105 MPI-SWS Building
SUMMARY:Hwaccel: Weekly Meeting
END:VEVENT
BEGIN:VEVENT
UID:32313331-3739-4532-a366-613062306235
DTSTAMP:20260425T194023Z
DESCRIPTION:
DTSTART:20240202T121500Z
DTEND:20240202T140000Z
LOCATION:Zoom (see link in forum)
SUMMARY:Hwaccel: Weekly Meeting (virtual)
END:VEVENT
BEGIN:VEVENT
UID:32356637-3030-4135-b836-376230633530
DTSTAMP:20260425T194023Z
DESCRIPTION:
DTSTART;VALUE=DATE:20240209
DTEND;VALUE=DATE:20240210
SUMMARY:Hwaccel: Final Report & Project Presentation
END:VEVENT
BEGIN:VEVENT
UID:36613766-3137-4136-a530-343730613461
DTSTAMP:20260425T194023Z
DESCRIPTION:
DTSTART:20240209T121500Z
DTEND:20240209T140000Z
LOCATION:E1 5 Room 105 MPI-SWS Building
SUMMARY:Hwaccel: Final Meeting
END:VEVENT
END:VCALENDAR
