BEGIN:VCALENDAR
VERSION:2.0
PRODID:-//134.96.226.213//NONSGML kigkonsult.se iCalcreator 2.41.92//
CALSCALE:GREGORIAN
METHOD:PUBLISH
UID:32386339-3336-4365-a532-663663373639
X-WR-CALNAME:Accelerating Applications with Specialized Hardware Calendar
X-WR-CALDESC:Events of the lecture Accelerating Applications with Specializ
 ed Hardware
X-WR-TIMEZONE:Europe/Berlin
BEGIN:VEVENT
UID:61653035-3761-4335-b036-336539356338
DTSTAMP:20260425T194023Z
DESCRIPTION:
DTSTART;VALUE=DATE:20231120
DTEND;VALUE=DATE:20231121
SUMMARY:Project: Milestone 2 Released
END:VEVENT
BEGIN:VEVENT
UID:38306138-3533-4632-a236-616364656531
DTSTAMP:20260425T194023Z
DESCRIPTION:
DTSTART:20231120T225900Z
DTEND:20231120T225900Z
SUMMARY:Project: Milestone 1 Due
END:VEVENT
BEGIN:VEVENT
UID:64383564-3734-4537-a130-636461656264
DTSTAMP:20260425T194023Z
DESCRIPTION:
DTSTART:20231211T225900Z
DTEND:20231211T225900Z
SUMMARY:Project: Milestone 2 Due
END:VEVENT
BEGIN:VEVENT
UID:38363534-3564-4736-a462-303363373864
DTSTAMP:20260425T194023Z
DESCRIPTION:
DTSTART;VALUE=DATE:20231215
DTEND;VALUE=DATE:20231216
SUMMARY:Project: Milestone 3 Released
END:VEVENT
BEGIN:VEVENT
UID:38306639-6663-4465-b937-663130313733
DTSTAMP:20260425T194023Z
DESCRIPTION:
DTSTART;VALUE=DATE:20240108
DTEND;VALUE=DATE:20240109
SUMMARY:Project: Milestone 3 Due
END:VEVENT
BEGIN:VEVENT
UID:34613631-3534-4164-b531-646161303238
DTSTAMP:20260425T194023Z
DESCRIPTION:
DTSTART;VALUE=DATE:20240209
DTEND;VALUE=DATE:20240210
SUMMARY:Final Report & Project Presentation
END:VEVENT
END:VCALENDAR
