BEGIN:VCALENDAR
VERSION:2.0
PRODID:-//134.96.226.213//NONSGML kigkonsult.se iCalcreator 2.41.92//
CALSCALE:GREGORIAN
METHOD:PUBLISH
UID:33313730-3938-4939-a131-376261613066
X-WR-CALNAME:Accelerating Applications with Specialized Hardware Calendar
X-WR-CALDESC:Events of the lecture Accelerating Applications with Specializ
 ed Hardware
X-WR-TIMEZONE:Europe/Berlin
BEGIN:VEVENT
UID:36616335-6633-4130-a130-313665653732
DTSTAMP:20260425T181237Z
DESCRIPTION:
DTSTART:20231030T120000Z
DTEND:20231030T130000Z
LOCATION:E1 5 Room 029 MPI-SWS Building
SUMMARY:Kick-Off Meeting (preliminary)
END:VEVENT
BEGIN:VEVENT
UID:39396439-6332-4566-a534-616639616261
DTSTAMP:20260425T181237Z
DESCRIPTION:
DTSTART:20231110T121500Z
DTEND:20231110T140000Z
LOCATION:E1 5 Room 105 MPI-SWS Building
SUMMARY:Weekly Meeting
END:VEVENT
BEGIN:VEVENT
UID:32356266-3230-4066-a161-306539323961
DTSTAMP:20260425T181237Z
DESCRIPTION:
DTSTART:20231117T121500Z
DTEND:20231117T140000Z
LOCATION:E1 5 Room 105 MPI-SWS Building
SUMMARY:Weekly Meeting
END:VEVENT
BEGIN:VEVENT
UID:65326133-3734-4337-a330-646263393366
DTSTAMP:20260425T181237Z
DESCRIPTION:
DTSTART:20231124T121500Z
DTEND:20231124T140000Z
LOCATION:E1 5 Room 105 MPI-SWS Building
SUMMARY:Weekly Meeting
END:VEVENT
BEGIN:VEVENT
UID:65613335-3035-4836-b733-313866366534
DTSTAMP:20260425T181237Z
DESCRIPTION:
DTSTART:20231201T121500Z
DTEND:20231201T140000Z
LOCATION:E1 5 Room 105 MPI-SWS Building
SUMMARY:Weekly Meeting
END:VEVENT
BEGIN:VEVENT
UID:31353665-3166-4333-a563-643733343362
DTSTAMP:20260425T181237Z
DESCRIPTION:
DTSTART:20231208T121500Z
DTEND:20231208T140000Z
LOCATION:E1 5 Room 105 MPI-SWS Building
SUMMARY:Weekly Meeting
END:VEVENT
BEGIN:VEVENT
UID:34653862-6565-4236-b535-323434366265
DTSTAMP:20260425T181237Z
DESCRIPTION:
DTSTART:20231215T121500Z
DTEND:20231215T140000Z
LOCATION:E1 5 Room 105 MPI-SWS Building
SUMMARY:Weekly Meeting
END:VEVENT
BEGIN:VEVENT
UID:62633435-3934-4363-b939-373131613439
DTSTAMP:20260425T181237Z
DESCRIPTION:
DTSTART:20231222T121500Z
DTEND:20231222T140000Z
LOCATION:E1 5 Room 105 MPI-SWS Building
SUMMARY:Weekly Meeting
END:VEVENT
BEGIN:VEVENT
UID:38313232-3938-4836-b466-653631336437
DTSTAMP:20260425T181237Z
DESCRIPTION:
DTSTART:20240105T121500Z
DTEND:20240105T140000Z
LOCATION:E1 5 Room 105 MPI-SWS Building
SUMMARY:Weekly Meeting
END:VEVENT
BEGIN:VEVENT
UID:63353639-6439-4638-a337-326534373631
DTSTAMP:20260425T181237Z
DESCRIPTION:
DTSTART:20240112T121500Z
DTEND:20240112T140000Z
LOCATION:E1 5 Room 105 MPI-SWS Building
SUMMARY:Weekly Meeting
END:VEVENT
BEGIN:VEVENT
UID:62366137-3132-4061-b139-613965313938
DTSTAMP:20260425T181237Z
DESCRIPTION:
DTSTART:20240119T121500Z
DTEND:20240119T140000Z
LOCATION:E1 5 Room 105 MPI-SWS Building
SUMMARY:Weekly Meeting
END:VEVENT
BEGIN:VEVENT
UID:39636563-6133-4636-b038-376431666338
DTSTAMP:20260425T181237Z
DESCRIPTION:
DTSTART:20240126T121500Z
DTEND:20240126T140000Z
LOCATION:E1 5 Room 105 MPI-SWS Building
SUMMARY:Weekly Meeting
END:VEVENT
BEGIN:VEVENT
UID:66663534-6539-4138-a662-353163643232
DTSTAMP:20260425T181237Z
DESCRIPTION:
DTSTART:20240202T121500Z
DTEND:20240202T140000Z
LOCATION:Zoom (see link in forum)
SUMMARY:Weekly Meeting (virtual)
END:VEVENT
BEGIN:VEVENT
UID:30646339-3634-4330-b233-646535343066
DTSTAMP:20260425T181237Z
DESCRIPTION:
DTSTART:20240209T121500Z
DTEND:20240209T140000Z
LOCATION:E1 5 Room 105 MPI-SWS Building
SUMMARY:Final Meeting
END:VEVENT
END:VCALENDAR
