BEGIN:VCALENDAR
VERSION:2.0
PRODID:-//134.96.226.213//NONSGML kigkonsult.se iCalcreator 2.41.92//
CALSCALE:GREGORIAN
METHOD:PUBLISH
UID:66663135-6264-4533-a431-336530353135
X-WR-CALNAME:Höhere Mathematik für Ingenieure I Calendar
X-WR-CALDESC:Termine der Vorlesung Höhere Mathematik für Ingenieure I
X-WR-TIMEZONE:Europe/Berlin
BEGIN:VEVENT
UID:30396332-3064-4033-b139-323464333162
DTSTAMP:20260425T170140Z
DESCRIPTION:
DTSTART:20260213T080000Z
DTEND:20260213T110000Z
LOCATION:HS1+ HS2 + HS3\, E2.5 und Günter Hotz HS\, E2.2
SUMMARY:Hmi12526: Hauptklausur
END:VEVENT
BEGIN:VEVENT
UID:31336438-3965-4634-a164-666231643465
DTSTAMP:20260425T170140Z
DESCRIPTION:
DTSTART:20260321T080000Z
DTEND:20260321T110000Z
LOCATION:HS1+ HS2 + HS3\, E2.5 und Günter Hotz HS\, E2.2
SUMMARY:Hmi12526: Nachklausur
END:VEVENT
END:VCALENDAR
