BEGIN:VCALENDAR
VERSION:2.0
PRODID:-//134.96.226.213//NONSGML kigkonsult.se iCalcreator 2.41.92//
CALSCALE:GREGORIAN
METHOD:PUBLISH
UID:33663065-6462-4732-a331-393264326561
X-WR-CALNAME:Höhere Mathematik für Ingenieure I Calendar
X-WR-CALDESC:Termine der Vorlesung Höhere Mathematik für Ingenieure I
X-WR-TIMEZONE:Europe/Berlin
BEGIN:VEVENT
UID:38333362-3434-4363-b263-306537343538
DTSTAMP:20260425T153131Z
DESCRIPTION:
DTSTART:20260213T080000Z
DTEND:20260213T110000Z
LOCATION:HS1+ HS2 + HS3\, E2.5 und Günter Hotz HS\, E2.2
SUMMARY:Hauptklausur
END:VEVENT
BEGIN:VEVENT
UID:35303561-3466-4232-b931-376232376365
DTSTAMP:20260425T153131Z
DESCRIPTION:
DTSTART:20260321T080000Z
DTEND:20260321T110000Z
LOCATION:HS1+ HS2 + HS3\, E2.5 und Günter Hotz HS\, E2.2
SUMMARY:Nachklausur
END:VEVENT
END:VCALENDAR
