BEGIN:VCALENDAR
VERSION:2.0
PRODID:-//134.96.226.213//NONSGML kigkonsult.se iCalcreator 2.41.92//
CALSCALE:GREGORIAN
METHOD:PUBLISH
UID:61376164-3631-4332-b532-333237333637
X-WR-CALNAME:Höhere Mathematik für Ingenieure I Calendar
X-WR-CALDESC:Termine der Vorlesung Höhere Mathematik für Ingenieure I
X-WR-TIMEZONE:Europe/Berlin
BEGIN:VEVENT
UID:32363431-3438-4533-a438-343932366466
DTSTAMP:20260425T153202Z
DESCRIPTION:
DTSTART:20251016T121500Z
DTEND:20251016T134500Z
LOCATION:Günter Hotz HS\, Geb. E 2.2
SUMMARY:Hmi12526: Vorlesung
END:VEVENT
BEGIN:VEVENT
UID:64396463-3636-4830-b533-303962616564
DTSTAMP:20260425T153202Z
DESCRIPTION:
DTSTART:20251020T081500Z
DTEND:20251020T094500Z
LOCATION:Günter Hotz HS\, Geb. E 2.2
SUMMARY:Hmi12526: Vorlesung
END:VEVENT
BEGIN:VEVENT
UID:63333565-3633-4365-b434-316364643932
DTSTAMP:20260425T153202Z
DESCRIPTION:
DTSTART:20251023T121500Z
DTEND:20251023T134500Z
LOCATION:Günter Hotz HS\, Geb. E 2.2
SUMMARY:Hmi12526: Vorlesung
END:VEVENT
BEGIN:VEVENT
UID:33336162-3639-4435-a135-306566356338
DTSTAMP:20260425T153202Z
DESCRIPTION:
DTSTART:20251027T091500Z
DTEND:20251027T104500Z
LOCATION:Günter Hotz HS\, Geb. E 2.2
SUMMARY:Hmi12526: Vorlesung
END:VEVENT
BEGIN:VEVENT
UID:38663461-3731-4539-b763-663265346365
DTSTAMP:20260425T153202Z
DESCRIPTION:
DTSTART:20251030T131500Z
DTEND:20251030T144500Z
LOCATION:Günter Hotz HS\, Geb. E 2.2
SUMMARY:Hmi12526: Vorlesung
END:VEVENT
BEGIN:VEVENT
UID:35356535-3166-4366-a665-343238396639
DTSTAMP:20260425T153202Z
DESCRIPTION:
DTSTART:20251103T091500Z
DTEND:20251103T104500Z
LOCATION:Günter Hotz HS\, Geb. E 2.2
SUMMARY:Hmi12526: Vorlesung
END:VEVENT
BEGIN:VEVENT
UID:39633439-3365-4562-b439-653163366337
DTSTAMP:20260425T153202Z
DESCRIPTION:
DTSTART:20251106T131500Z
DTEND:20251106T144500Z
LOCATION:Günter Hotz HS\, Geb. E 2.2
SUMMARY:Hmi12526: Vorlesung
END:VEVENT
BEGIN:VEVENT
UID:33656437-3134-4465-a162-303237663431
DTSTAMP:20260425T153202Z
DESCRIPTION:
DTSTART:20251110T091500Z
DTEND:20251110T104500Z
LOCATION:Günter Hotz HS\, Geb. E 2.2
SUMMARY:Hmi12526: Vorlesung
END:VEVENT
BEGIN:VEVENT
UID:61346265-6161-4238-b236-623365306436
DTSTAMP:20260425T153202Z
DESCRIPTION:
DTSTART:20251113T131500Z
DTEND:20251113T144500Z
LOCATION:Günter Hotz HS\, Geb. E 2.2
SUMMARY:Hmi12526: Vorlesung
END:VEVENT
BEGIN:VEVENT
UID:36306630-6338-4432-a531-313462653931
DTSTAMP:20260425T153202Z
DESCRIPTION:
DTSTART:20251117T091500Z
DTEND:20251117T104500Z
LOCATION:Günter Hotz HS\, Geb. E 2.2
SUMMARY:Hmi12526: Vorlesung
END:VEVENT
BEGIN:VEVENT
UID:34306437-6365-4438-b330-383130313537
DTSTAMP:20260425T153202Z
DESCRIPTION:
DTSTART:20251120T131500Z
DTEND:20251120T144500Z
LOCATION:Günter Hotz HS\, Geb. E 2.2
SUMMARY:Hmi12526: Vorlesung
END:VEVENT
BEGIN:VEVENT
UID:35633538-3333-4334-b539-316335363131
DTSTAMP:20260425T153202Z
DESCRIPTION:
DTSTART:20251124T091500Z
DTEND:20251124T104500Z
LOCATION:Günter Hotz HS\, Geb. E 2.2
SUMMARY:Hmi12526: Vorlesung
END:VEVENT
BEGIN:VEVENT
UID:39356137-3937-4439-b839-653533623034
DTSTAMP:20260425T153202Z
DESCRIPTION:
DTSTART:20251127T131500Z
DTEND:20251127T144500Z
LOCATION:Günter Hotz HS\, Geb. E 2.2
SUMMARY:Hmi12526: Vorlesung
END:VEVENT
BEGIN:VEVENT
UID:66373735-3539-4165-a432-393366636633
DTSTAMP:20260425T153202Z
DESCRIPTION:
DTSTART:20251201T091500Z
DTEND:20251201T104500Z
LOCATION:Günter Hotz HS\, Geb. E 2.2
SUMMARY:Hmi12526: Vorlesung
END:VEVENT
BEGIN:VEVENT
UID:31346231-3663-4665-b831-663338643432
DTSTAMP:20260425T153202Z
DESCRIPTION:
DTSTART:20251204T131500Z
DTEND:20251204T144500Z
LOCATION:Günter Hotz HS\, Geb. E 2.2
SUMMARY:Hmi12526: Vorlesung
END:VEVENT
BEGIN:VEVENT
UID:35393933-3433-4430-b639-373437333537
DTSTAMP:20260425T153202Z
DESCRIPTION:
DTSTART:20251208T091500Z
DTEND:20251208T104500Z
LOCATION:Günter Hotz HS\, Geb. E 2.2
SUMMARY:Hmi12526: Vorlesung
END:VEVENT
BEGIN:VEVENT
UID:37383333-3064-4636-b630-396538343638
DTSTAMP:20260425T153202Z
DESCRIPTION:
DTSTART:20251211T131500Z
DTEND:20251211T144500Z
LOCATION:Günter Hotz HS\, Geb. E 2.2
SUMMARY:Hmi12526: Vorlesung
END:VEVENT
BEGIN:VEVENT
UID:30336261-3963-4439-b634-343366643264
DTSTAMP:20260425T153202Z
DESCRIPTION:
DTSTART:20251215T091500Z
DTEND:20251215T104500Z
LOCATION:Günter Hotz HS\, Geb. E 2.2
SUMMARY:Hmi12526: Vorlesung
END:VEVENT
BEGIN:VEVENT
UID:34356533-6433-4831-b232-313261666631
DTSTAMP:20260425T153202Z
DESCRIPTION:
DTSTART:20251218T131500Z
DTEND:20251218T144500Z
LOCATION:Günter Hotz HS\, Geb. E 2.2
SUMMARY:Hmi12526: Vorlesung
END:VEVENT
BEGIN:VEVENT
UID:38663066-3864-4438-a430-656466316161
DTSTAMP:20260425T153202Z
DESCRIPTION:
DTSTART:20251222T091500Z
DTEND:20251222T104500Z
LOCATION:Günter Hotz HS\, Geb. E 2.2
SUMMARY:Hmi12526: Vorlesung
END:VEVENT
BEGIN:VEVENT
UID:61396437-3462-4039-a366-383565383864
DTSTAMP:20260425T153202Z
DESCRIPTION:
DTSTART:20251225T131500Z
DTEND:20251225T144500Z
LOCATION:Günter Hotz HS\, Geb. E 2.2
SUMMARY:Hmi12526: Vorlesung
END:VEVENT
BEGIN:VEVENT
UID:62646465-3636-4236-b663-613234393830
DTSTAMP:20260425T153202Z
DESCRIPTION:
DTSTART:20251229T091500Z
DTEND:20251229T104500Z
LOCATION:Günter Hotz HS\, Geb. E 2.2
SUMMARY:Hmi12526: Vorlesung
END:VEVENT
BEGIN:VEVENT
UID:32356431-3065-4238-a438-613866653364
DTSTAMP:20260425T153202Z
DESCRIPTION:
DTSTART:20260101T131500Z
DTEND:20260101T144500Z
LOCATION:Günter Hotz HS\, Geb. E 2.2
SUMMARY:Hmi12526: Vorlesung
END:VEVENT
BEGIN:VEVENT
UID:37663165-3666-4563-a664-313165393161
DTSTAMP:20260425T153202Z
DESCRIPTION:
DTSTART:20260105T091500Z
DTEND:20260105T104500Z
LOCATION:Günter Hotz HS\, Geb. E 2.2
SUMMARY:Hmi12526: Vorlesung
END:VEVENT
BEGIN:VEVENT
UID:31623137-6661-4732-a564-326164376139
DTSTAMP:20260425T153202Z
DESCRIPTION:
DTSTART:20260108T131500Z
DTEND:20260108T144500Z
LOCATION:Günter Hotz HS\, Geb. E 2.2
SUMMARY:Hmi12526: Vorlesung
END:VEVENT
BEGIN:VEVENT
UID:33373030-6631-4335-a132-633764306631
DTSTAMP:20260425T153202Z
DESCRIPTION:
DTSTART:20260112T091500Z
DTEND:20260112T104500Z
LOCATION:Günter Hotz HS\, Geb. E 2.2
SUMMARY:Hmi12526: Vorlesung
END:VEVENT
BEGIN:VEVENT
UID:34613962-6565-4965-a662-643665353433
DTSTAMP:20260425T153202Z
DESCRIPTION:
DTSTART:20260115T131500Z
DTEND:20260115T144500Z
LOCATION:Günter Hotz HS\, Geb. E 2.2
SUMMARY:Hmi12526: Vorlesung
END:VEVENT
BEGIN:VEVENT
UID:66363931-3838-4466-a538-653131656361
DTSTAMP:20260425T153202Z
DESCRIPTION:
DTSTART:20260119T091500Z
DTEND:20260119T104500Z
LOCATION:Günter Hotz HS\, Geb. E 2.2
SUMMARY:Hmi12526: Vorlesung
END:VEVENT
BEGIN:VEVENT
UID:63303233-6163-4561-b763-633362346233
DTSTAMP:20260425T153202Z
DESCRIPTION:
DTSTART:20260122T131500Z
DTEND:20260122T144500Z
LOCATION:Günter Hotz HS\, Geb. E 2.2
SUMMARY:Hmi12526: Vorlesung
END:VEVENT
BEGIN:VEVENT
UID:62633234-6566-4066-b862-633839663438
DTSTAMP:20260425T153202Z
DESCRIPTION:
DTSTART:20260126T091500Z
DTEND:20260126T104500Z
LOCATION:Günter Hotz HS\, Geb. E 2.2
SUMMARY:Hmi12526: Vorlesung
END:VEVENT
BEGIN:VEVENT
UID:63323838-3364-4735-a362-636237303062
DTSTAMP:20260425T153202Z
DESCRIPTION:
DTSTART:20260129T131500Z
DTEND:20260129T144500Z
LOCATION:Günter Hotz HS\, Geb. E 2.2
SUMMARY:Hmi12526: Vorlesung
END:VEVENT
BEGIN:VEVENT
UID:66643363-3034-4332-b334-366164636237
DTSTAMP:20260425T153202Z
DESCRIPTION:
DTSTART:20260202T091500Z
DTEND:20260202T104500Z
LOCATION:Günter Hotz HS\, Geb. E 2.2
SUMMARY:Hmi12526: Vorlesung
END:VEVENT
BEGIN:VEVENT
UID:63666539-3333-4666-b038-353461386435
DTSTAMP:20260425T153202Z
DESCRIPTION:
DTSTART:20260205T131500Z
DTEND:20260205T144500Z
LOCATION:Günter Hotz HS\, Geb. E 2.2
SUMMARY:Hmi12526: Vorlesung
END:VEVENT
END:VCALENDAR
