BEGIN:VCALENDAR
VERSION:2.0
PRODID:-//134.96.226.213//NONSGML kigkonsult.se iCalcreator 2.41.92//
CALSCALE:GREGORIAN
METHOD:PUBLISH
UID:32373537-6539-4639-a437-316134613931
X-WR-CALNAME:Höhere Mathematik für Ingenieure I Calendar
X-WR-CALDESC:Termine der Vorlesung Höhere Mathematik für Ingenieure I
X-WR-TIMEZONE:Europe/Berlin
BEGIN:VEVENT
UID:31373137-3534-4434-a239-306132316166
DTSTAMP:20260425T153115Z
DESCRIPTION:
DTSTART:20251016T121500Z
DTEND:20251016T134500Z
LOCATION:Günter Hotz HS\, Geb. E 2.2
SUMMARY:Vorlesung
END:VEVENT
BEGIN:VEVENT
UID:66393833-3438-4563-b130-383631343931
DTSTAMP:20260425T153115Z
DESCRIPTION:
DTSTART:20251020T081500Z
DTEND:20251020T094500Z
LOCATION:Günter Hotz HS\, Geb. E 2.2
SUMMARY:Vorlesung
END:VEVENT
BEGIN:VEVENT
UID:62373538-3065-4439-b438-633261613462
DTSTAMP:20260425T153115Z
DESCRIPTION:
DTSTART:20251023T121500Z
DTEND:20251023T134500Z
LOCATION:Günter Hotz HS\, Geb. E 2.2
SUMMARY:Vorlesung
END:VEVENT
BEGIN:VEVENT
UID:32636634-3837-4966-a139-656534663839
DTSTAMP:20260425T153115Z
DESCRIPTION:
DTSTART:20251027T091500Z
DTEND:20251027T104500Z
LOCATION:Günter Hotz HS\, Geb. E 2.2
SUMMARY:Vorlesung
END:VEVENT
BEGIN:VEVENT
UID:38393637-3765-4437-b337-396534643736
DTSTAMP:20260425T153115Z
DESCRIPTION:
DTSTART:20251030T131500Z
DTEND:20251030T144500Z
LOCATION:Günter Hotz HS\, Geb. E 2.2
SUMMARY:Vorlesung
END:VEVENT
BEGIN:VEVENT
UID:32356236-3730-4234-b734-366331313237
DTSTAMP:20260425T153115Z
DESCRIPTION:
DTSTART:20251103T091500Z
DTEND:20251103T104500Z
LOCATION:Günter Hotz HS\, Geb. E 2.2
SUMMARY:Vorlesung
END:VEVENT
BEGIN:VEVENT
UID:62363264-3164-4839-a436-316236373364
DTSTAMP:20260425T153115Z
DESCRIPTION:
DTSTART:20251106T131500Z
DTEND:20251106T144500Z
LOCATION:Günter Hotz HS\, Geb. E 2.2
SUMMARY:Vorlesung
END:VEVENT
BEGIN:VEVENT
UID:32346437-6264-4563-a538-643530346566
DTSTAMP:20260425T153115Z
DESCRIPTION:
DTSTART:20251110T091500Z
DTEND:20251110T104500Z
LOCATION:Günter Hotz HS\, Geb. E 2.2
SUMMARY:Vorlesung
END:VEVENT
BEGIN:VEVENT
UID:66373132-6566-4835-b066-313330363135
DTSTAMP:20260425T153115Z
DESCRIPTION:
DTSTART:20251113T131500Z
DTEND:20251113T144500Z
LOCATION:Günter Hotz HS\, Geb. E 2.2
SUMMARY:Vorlesung
END:VEVENT
BEGIN:VEVENT
UID:37626539-6430-4663-a536-373330653532
DTSTAMP:20260425T153115Z
DESCRIPTION:
DTSTART:20251117T091500Z
DTEND:20251117T104500Z
LOCATION:Günter Hotz HS\, Geb. E 2.2
SUMMARY:Vorlesung
END:VEVENT
BEGIN:VEVENT
UID:66326439-3864-4062-b131-623164333834
DTSTAMP:20260425T153115Z
DESCRIPTION:
DTSTART:20251120T131500Z
DTEND:20251120T144500Z
LOCATION:Günter Hotz HS\, Geb. E 2.2
SUMMARY:Vorlesung
END:VEVENT
BEGIN:VEVENT
UID:63653662-3662-4462-b165-623332616231
DTSTAMP:20260425T153115Z
DESCRIPTION:
DTSTART:20251124T091500Z
DTEND:20251124T104500Z
LOCATION:Günter Hotz HS\, Geb. E 2.2
SUMMARY:Vorlesung
END:VEVENT
BEGIN:VEVENT
UID:61613464-3832-4739-b639-653562643835
DTSTAMP:20260425T153115Z
DESCRIPTION:
DTSTART:20251127T131500Z
DTEND:20251127T144500Z
LOCATION:Günter Hotz HS\, Geb. E 2.2
SUMMARY:Vorlesung
END:VEVENT
BEGIN:VEVENT
UID:35323030-3138-4637-b965-373633386538
DTSTAMP:20260425T153115Z
DESCRIPTION:
DTSTART:20251201T091500Z
DTEND:20251201T104500Z
LOCATION:Günter Hotz HS\, Geb. E 2.2
SUMMARY:Vorlesung
END:VEVENT
BEGIN:VEVENT
UID:39326561-3063-4461-a661-306663303833
DTSTAMP:20260425T153115Z
DESCRIPTION:
DTSTART:20251204T131500Z
DTEND:20251204T144500Z
LOCATION:Günter Hotz HS\, Geb. E 2.2
SUMMARY:Vorlesung
END:VEVENT
BEGIN:VEVENT
UID:38373531-6265-4136-a137-333563333362
DTSTAMP:20260425T153115Z
DESCRIPTION:
DTSTART:20251208T091500Z
DTEND:20251208T104500Z
LOCATION:Günter Hotz HS\, Geb. E 2.2
SUMMARY:Vorlesung
END:VEVENT
BEGIN:VEVENT
UID:39346161-3837-4639-a337-316161386463
DTSTAMP:20260425T153115Z
DESCRIPTION:
DTSTART:20251211T131500Z
DTEND:20251211T144500Z
LOCATION:Günter Hotz HS\, Geb. E 2.2
SUMMARY:Vorlesung
END:VEVENT
BEGIN:VEVENT
UID:35383062-3536-4466-b663-356361653365
DTSTAMP:20260425T153115Z
DESCRIPTION:
DTSTART:20251215T091500Z
DTEND:20251215T104500Z
LOCATION:Günter Hotz HS\, Geb. E 2.2
SUMMARY:Vorlesung
END:VEVENT
BEGIN:VEVENT
UID:38343238-6535-4538-a536-313030336434
DTSTAMP:20260425T153115Z
DESCRIPTION:
DTSTART:20251218T131500Z
DTEND:20251218T144500Z
LOCATION:Günter Hotz HS\, Geb. E 2.2
SUMMARY:Vorlesung
END:VEVENT
BEGIN:VEVENT
UID:34623363-6134-4337-a665-356437633663
DTSTAMP:20260425T153115Z
DESCRIPTION:
DTSTART:20251222T091500Z
DTEND:20251222T104500Z
LOCATION:Günter Hotz HS\, Geb. E 2.2
SUMMARY:Vorlesung
END:VEVENT
BEGIN:VEVENT
UID:62373666-6538-4363-a135-666437393134
DTSTAMP:20260425T153115Z
DESCRIPTION:
DTSTART:20251225T131500Z
DTEND:20251225T144500Z
LOCATION:Günter Hotz HS\, Geb. E 2.2
SUMMARY:Vorlesung
END:VEVENT
BEGIN:VEVENT
UID:30643836-6134-4533-b137-363034666331
DTSTAMP:20260425T153115Z
DESCRIPTION:
DTSTART:20251229T091500Z
DTEND:20251229T104500Z
LOCATION:Günter Hotz HS\, Geb. E 2.2
SUMMARY:Vorlesung
END:VEVENT
BEGIN:VEVENT
UID:62346432-3165-4436-b538-343261643833
DTSTAMP:20260425T153115Z
DESCRIPTION:
DTSTART:20260101T131500Z
DTEND:20260101T144500Z
LOCATION:Günter Hotz HS\, Geb. E 2.2
SUMMARY:Vorlesung
END:VEVENT
BEGIN:VEVENT
UID:64343833-3530-4538-a431-623830343734
DTSTAMP:20260425T153115Z
DESCRIPTION:
DTSTART:20260105T091500Z
DTEND:20260105T104500Z
LOCATION:Günter Hotz HS\, Geb. E 2.2
SUMMARY:Vorlesung
END:VEVENT
BEGIN:VEVENT
UID:66626561-3665-4333-a637-366366646139
DTSTAMP:20260425T153115Z
DESCRIPTION:
DTSTART:20260108T131500Z
DTEND:20260108T144500Z
LOCATION:Günter Hotz HS\, Geb. E 2.2
SUMMARY:Vorlesung
END:VEVENT
BEGIN:VEVENT
UID:35346362-3734-4039-a665-303733343338
DTSTAMP:20260425T153115Z
DESCRIPTION:
DTSTART:20260112T091500Z
DTEND:20260112T104500Z
LOCATION:Günter Hotz HS\, Geb. E 2.2
SUMMARY:Vorlesung
END:VEVENT
BEGIN:VEVENT
UID:62656231-6363-4434-a165-386334633363
DTSTAMP:20260425T153115Z
DESCRIPTION:
DTSTART:20260115T131500Z
DTEND:20260115T144500Z
LOCATION:Günter Hotz HS\, Geb. E 2.2
SUMMARY:Vorlesung
END:VEVENT
BEGIN:VEVENT
UID:37306335-6363-4862-b731-656566373533
DTSTAMP:20260425T153115Z
DESCRIPTION:
DTSTART:20260119T091500Z
DTEND:20260119T104500Z
LOCATION:Günter Hotz HS\, Geb. E 2.2
SUMMARY:Vorlesung
END:VEVENT
BEGIN:VEVENT
UID:61383533-3165-4231-b831-653366383062
DTSTAMP:20260425T153115Z
DESCRIPTION:
DTSTART:20260122T131500Z
DTEND:20260122T144500Z
LOCATION:Günter Hotz HS\, Geb. E 2.2
SUMMARY:Vorlesung
END:VEVENT
BEGIN:VEVENT
UID:36666663-6332-4561-b238-396466363663
DTSTAMP:20260425T153115Z
DESCRIPTION:
DTSTART:20260126T091500Z
DTEND:20260126T104500Z
LOCATION:Günter Hotz HS\, Geb. E 2.2
SUMMARY:Vorlesung
END:VEVENT
BEGIN:VEVENT
UID:64663339-3236-4533-a166-313765306439
DTSTAMP:20260425T153115Z
DESCRIPTION:
DTSTART:20260129T131500Z
DTEND:20260129T144500Z
LOCATION:Günter Hotz HS\, Geb. E 2.2
SUMMARY:Vorlesung
END:VEVENT
BEGIN:VEVENT
UID:38626431-3063-4361-b130-376531343236
DTSTAMP:20260425T153115Z
DESCRIPTION:
DTSTART:20260202T091500Z
DTEND:20260202T104500Z
LOCATION:Günter Hotz HS\, Geb. E 2.2
SUMMARY:Vorlesung
END:VEVENT
BEGIN:VEVENT
UID:31353130-3635-4430-a539-633032346363
DTSTAMP:20260425T153115Z
DESCRIPTION:
DTSTART:20260205T131500Z
DTEND:20260205T144500Z
LOCATION:Günter Hotz HS\, Geb. E 2.2
SUMMARY:Vorlesung
END:VEVENT
END:VCALENDAR
