BEGIN:VCALENDAR
VERSION:2.0
PRODID:-//134.96.226.213//NONSGML kigkonsult.se iCalcreator 2.41.92//
CALSCALE:GREGORIAN
METHOD:PUBLISH
UID:39666534-3835-4165-b637-333632633639
X-WR-CALNAME:Höhere Mathematik für Ingenieure I Calendar
X-WR-CALDESC:Termine der Vorlesung Höhere Mathematik für Ingenieure I
X-WR-TIMEZONE:Europe/Berlin
BEGIN:VEVENT
UID:30376432-3462-4264-a334-626337313065
DTSTAMP:20260425T153131Z
DESCRIPTION:
DTSTART:20251028T091500Z
DTEND:20251028T104500Z
LOCATION:Zeichensaal\, E2.5
SUMMARY:Hmi12526: Präsenzübungs Gruppe 2 Termin 1
END:VEVENT
BEGIN:VEVENT
UID:35363031-6432-4939-b364-613466343138
DTSTAMP:20260425T153131Z
DESCRIPTION:
DTSTART:20251031T091500Z
DTEND:20251031T104500Z
LOCATION:Zeichensaal\, E2.5
SUMMARY:Hmi12526: Präsenzübungs Gruppe 2 Termin 2
END:VEVENT
BEGIN:VEVENT
UID:31613738-3933-4965-a338-313438313730
DTSTAMP:20260425T153131Z
DESCRIPTION:
DTSTART:20251104T091500Z
DTEND:20251104T104500Z
LOCATION:Zeichensaal\, E2.5
SUMMARY:Hmi12526: Präsenzübungs Gruppe 2 Termin 1
END:VEVENT
BEGIN:VEVENT
UID:66363865-3465-4463-a438-663265363433
DTSTAMP:20260425T153131Z
DESCRIPTION:
DTSTART:20251107T091500Z
DTEND:20251107T104500Z
LOCATION:Zeichensaal\, E2.5
SUMMARY:Hmi12526: Präsenzübungs Gruppe 2 Termin 2
END:VEVENT
BEGIN:VEVENT
UID:38656630-3336-4936-b535-393830346137
DTSTAMP:20260425T153131Z
DESCRIPTION:
DTSTART:20251111T091500Z
DTEND:20251111T104500Z
LOCATION:Zeichensaal\, E2.5
SUMMARY:Hmi12526: Präsenzübungs Gruppe 2 Termin 1
END:VEVENT
BEGIN:VEVENT
UID:39383266-6631-4431-b239-633731656234
DTSTAMP:20260425T153131Z
DESCRIPTION:
DTSTART:20251114T091500Z
DTEND:20251114T104500Z
LOCATION:Zeichensaal\, E2.5
SUMMARY:Hmi12526: Präsenzübungs Gruppe 2 Termin 2
END:VEVENT
BEGIN:VEVENT
UID:66353861-6435-4335-b166-366633633864
DTSTAMP:20260425T153131Z
DESCRIPTION:
DTSTART:20251118T091500Z
DTEND:20251118T104500Z
LOCATION:Zeichensaal\, E2.5
SUMMARY:Hmi12526: Präsenzübungs Gruppe 2 Termin 1
END:VEVENT
BEGIN:VEVENT
UID:66336431-6638-4435-a464-633434353939
DTSTAMP:20260425T153131Z
DESCRIPTION:
DTSTART:20251121T091500Z
DTEND:20251121T104500Z
LOCATION:Zeichensaal\, E2.5
SUMMARY:Hmi12526: Präsenzübungs Gruppe 2 Termin 2
END:VEVENT
BEGIN:VEVENT
UID:33633761-6364-4766-b764-326264353732
DTSTAMP:20260425T153131Z
DESCRIPTION:
DTSTART:20251125T091500Z
DTEND:20251125T104500Z
LOCATION:Zeichensaal\, E2.5
SUMMARY:Hmi12526: Präsenzübungs Gruppe 2 Termin 1
END:VEVENT
BEGIN:VEVENT
UID:37316230-6262-4331-b266-623362623739
DTSTAMP:20260425T153131Z
DESCRIPTION:
DTSTART:20251128T091500Z
DTEND:20251128T104500Z
LOCATION:Zeichensaal\, E2.5
SUMMARY:Hmi12526: Präsenzübungs Gruppe 2 Termin 2
END:VEVENT
BEGIN:VEVENT
UID:65663437-3639-4564-b136-623432396636
DTSTAMP:20260425T153131Z
DESCRIPTION:
DTSTART:20251202T091500Z
DTEND:20251202T104500Z
LOCATION:Zeichensaal\, E2.5
SUMMARY:Hmi12526: Präsenzübungs Gruppe 2 Termin 1
END:VEVENT
BEGIN:VEVENT
UID:65333332-3036-4538-b065-353863393037
DTSTAMP:20260425T153131Z
DESCRIPTION:
DTSTART:20251205T091500Z
DTEND:20251205T104500Z
LOCATION:Zeichensaal\, E2.5
SUMMARY:Hmi12526: Präsenzübungs Gruppe 2 Termin 2
END:VEVENT
BEGIN:VEVENT
UID:62343636-3261-4337-b834-633463623262
DTSTAMP:20260425T153131Z
DESCRIPTION:
DTSTART:20251209T091500Z
DTEND:20251209T104500Z
LOCATION:Zeichensaal\, E2.5
SUMMARY:Hmi12526: Präsenzübungs Gruppe 2 Termin 1
END:VEVENT
BEGIN:VEVENT
UID:63333837-6439-4231-b331-636662653231
DTSTAMP:20260425T153131Z
DESCRIPTION:
DTSTART:20251212T091500Z
DTEND:20251212T104500Z
LOCATION:Zeichensaal\, E2.5
SUMMARY:Hmi12526: Präsenzübungs Gruppe 2 Termin 2
END:VEVENT
BEGIN:VEVENT
UID:63653232-6233-4530-b864-653937346238
DTSTAMP:20260425T153131Z
DESCRIPTION:
DTSTART:20251216T091500Z
DTEND:20251216T104500Z
LOCATION:Zeichensaal\, E2.5
SUMMARY:Hmi12526: Präsenzübungs Gruppe 2 Termin 1
END:VEVENT
BEGIN:VEVENT
UID:32326561-3766-4531-b334-633362323762
DTSTAMP:20260425T153131Z
DESCRIPTION:
DTSTART:20251219T091500Z
DTEND:20251219T104500Z
LOCATION:Zeichensaal\, E2.5
SUMMARY:Hmi12526: Präsenzübungs Gruppe 2 Termin 2
END:VEVENT
BEGIN:VEVENT
UID:65393137-6562-4561-a331-313538323263
DTSTAMP:20260425T153131Z
DESCRIPTION:
DTSTART:20251223T091500Z
DTEND:20251223T104500Z
LOCATION:Zeichensaal\, E2.5
SUMMARY:Hmi12526: Präsenzübungs Gruppe 2 Termin 1
END:VEVENT
BEGIN:VEVENT
UID:65326665-6264-4431-b366-303530623534
DTSTAMP:20260425T153131Z
DESCRIPTION:
DTSTART:20251226T091500Z
DTEND:20251226T104500Z
LOCATION:Zeichensaal\, E2.5
SUMMARY:Hmi12526: Präsenzübungs Gruppe 2 Termin 2
END:VEVENT
BEGIN:VEVENT
UID:31623261-3334-4065-b161-643063383365
DTSTAMP:20260425T153131Z
DESCRIPTION:
DTSTART:20251230T091500Z
DTEND:20251230T104500Z
LOCATION:Zeichensaal\, E2.5
SUMMARY:Hmi12526: Präsenzübungs Gruppe 2 Termin 1
END:VEVENT
BEGIN:VEVENT
UID:66313030-3835-4430-b231-363932356534
DTSTAMP:20260425T153131Z
DESCRIPTION:
DTSTART:20260102T091500Z
DTEND:20260102T104500Z
LOCATION:Zeichensaal\, E2.5
SUMMARY:Hmi12526: Präsenzübungs Gruppe 2 Termin 2
END:VEVENT
BEGIN:VEVENT
UID:37373930-3330-4365-b863-386437373334
DTSTAMP:20260425T153131Z
DESCRIPTION:
DTSTART:20260106T091500Z
DTEND:20260106T104500Z
LOCATION:Zeichensaal\, E2.5
SUMMARY:Hmi12526: Präsenzübungs Gruppe 2 Termin 1
END:VEVENT
BEGIN:VEVENT
UID:38353831-3865-4361-b236-636431356231
DTSTAMP:20260425T153131Z
DESCRIPTION:
DTSTART:20260109T091500Z
DTEND:20260109T104500Z
LOCATION:Zeichensaal\, E2.5
SUMMARY:Hmi12526: Präsenzübungs Gruppe 2 Termin 2
END:VEVENT
BEGIN:VEVENT
UID:36363262-3539-4035-a331-303265643239
DTSTAMP:20260425T153131Z
DESCRIPTION:
DTSTART:20260113T091500Z
DTEND:20260113T104500Z
LOCATION:Zeichensaal\, E2.5
SUMMARY:Hmi12526: Präsenzübungs Gruppe 2 Termin 1
END:VEVENT
BEGIN:VEVENT
UID:64393935-3537-4630-b330-643734326534
DTSTAMP:20260425T153131Z
DESCRIPTION:
DTSTART:20260116T091500Z
DTEND:20260116T104500Z
LOCATION:Zeichensaal\, E2.5
SUMMARY:Hmi12526: Präsenzübungs Gruppe 2 Termin 2
END:VEVENT
BEGIN:VEVENT
UID:31313537-3731-4463-a237-353465333331
DTSTAMP:20260425T153131Z
DESCRIPTION:
DTSTART:20260120T091500Z
DTEND:20260120T104500Z
LOCATION:Zeichensaal\, E2.5
SUMMARY:Hmi12526: Präsenzübungs Gruppe 2 Termin 1
END:VEVENT
BEGIN:VEVENT
UID:62323438-6432-4234-b764-326131316435
DTSTAMP:20260425T153131Z
DESCRIPTION:
DTSTART:20260123T091500Z
DTEND:20260123T104500Z
LOCATION:Zeichensaal\, E2.5
SUMMARY:Hmi12526: Präsenzübungs Gruppe 2 Termin 2
END:VEVENT
BEGIN:VEVENT
UID:38663332-3232-4533-b066-366533616562
DTSTAMP:20260425T153131Z
DESCRIPTION:
DTSTART:20260127T091500Z
DTEND:20260127T104500Z
LOCATION:Zeichensaal\, E2.5
SUMMARY:Hmi12526: Präsenzübungs Gruppe 2 Termin 1
END:VEVENT
BEGIN:VEVENT
UID:64313330-6230-4162-b165-663063636437
DTSTAMP:20260425T153131Z
DESCRIPTION:
DTSTART:20260130T091500Z
DTEND:20260130T104500Z
LOCATION:Zeichensaal\, E2.5
SUMMARY:Hmi12526: Präsenzübungs Gruppe 2 Termin 2
END:VEVENT
BEGIN:VEVENT
UID:66643736-6162-4230-b762-643638313831
DTSTAMP:20260425T153131Z
DESCRIPTION:
DTSTART:20260203T091500Z
DTEND:20260203T104500Z
LOCATION:Zeichensaal\, E2.5
SUMMARY:Hmi12526: Präsenzübungs Gruppe 2 Termin 1
END:VEVENT
BEGIN:VEVENT
UID:66393331-3135-4734-b637-646333376231
DTSTAMP:20260425T153131Z
DESCRIPTION:
DTSTART:20260206T091500Z
DTEND:20260206T104500Z
LOCATION:Zeichensaal\, E2.5
SUMMARY:Hmi12526: Präsenzübungs Gruppe 2 Termin 2
END:VEVENT
END:VCALENDAR
