BEGIN:VCALENDAR
VERSION:2.0
PRODID:-//134.96.226.213//NONSGML kigkonsult.se iCalcreator 2.41.92//
CALSCALE:GREGORIAN
METHOD:PUBLISH
UID:66396430-3830-4434-b864-633662663730
X-WR-CALNAME:Höhere Mathematik für Ingenieure I Calendar
X-WR-CALDESC:Termine der Vorlesung Höhere Mathematik für Ingenieure I
X-WR-TIMEZONE:Europe/Berlin
BEGIN:VEVENT
UID:39343339-3031-4636-b566-613865613836
DTSTAMP:20260425T170015Z
DESCRIPTION:
DTSTART:20251028T091500Z
DTEND:20251028T104500Z
LOCATION:Zeichensaal\, E2.5
SUMMARY:Präsenzübungs Gruppe 2 Termin 1
END:VEVENT
BEGIN:VEVENT
UID:65353465-3161-4831-b331-313463393835
DTSTAMP:20260425T170015Z
DESCRIPTION:
DTSTART:20251031T091500Z
DTEND:20251031T104500Z
LOCATION:Zeichensaal\, E2.5
SUMMARY:Präsenzübungs Gruppe 2 Termin 2
END:VEVENT
BEGIN:VEVENT
UID:36636363-3837-4834-b933-386533663863
DTSTAMP:20260425T170015Z
DESCRIPTION:
DTSTART:20251104T091500Z
DTEND:20251104T104500Z
LOCATION:Zeichensaal\, E2.5
SUMMARY:Präsenzübungs Gruppe 2 Termin 1
END:VEVENT
BEGIN:VEVENT
UID:31643832-6535-4134-b739-346664386537
DTSTAMP:20260425T170015Z
DESCRIPTION:
DTSTART:20251107T091500Z
DTEND:20251107T104500Z
LOCATION:Zeichensaal\, E2.5
SUMMARY:Präsenzübungs Gruppe 2 Termin 2
END:VEVENT
BEGIN:VEVENT
UID:33336336-3434-4539-a561-363234636238
DTSTAMP:20260425T170015Z
DESCRIPTION:
DTSTART:20251111T091500Z
DTEND:20251111T104500Z
LOCATION:Zeichensaal\, E2.5
SUMMARY:Präsenzübungs Gruppe 2 Termin 1
END:VEVENT
BEGIN:VEVENT
UID:63306162-6362-4236-b639-383865333933
DTSTAMP:20260425T170015Z
DESCRIPTION:
DTSTART:20251114T091500Z
DTEND:20251114T104500Z
LOCATION:Zeichensaal\, E2.5
SUMMARY:Präsenzübungs Gruppe 2 Termin 2
END:VEVENT
BEGIN:VEVENT
UID:37373830-3834-4631-b535-336562303331
DTSTAMP:20260425T170015Z
DESCRIPTION:
DTSTART:20251118T091500Z
DTEND:20251118T104500Z
LOCATION:Zeichensaal\, E2.5
SUMMARY:Präsenzübungs Gruppe 2 Termin 1
END:VEVENT
BEGIN:VEVENT
UID:65316230-6663-4938-b636-393163656537
DTSTAMP:20260425T170015Z
DESCRIPTION:
DTSTART:20251121T091500Z
DTEND:20251121T104500Z
LOCATION:Zeichensaal\, E2.5
SUMMARY:Präsenzübungs Gruppe 2 Termin 2
END:VEVENT
BEGIN:VEVENT
UID:65353736-6162-4235-b263-623830626163
DTSTAMP:20260425T170015Z
DESCRIPTION:
DTSTART:20251125T091500Z
DTEND:20251125T104500Z
LOCATION:Zeichensaal\, E2.5
SUMMARY:Präsenzübungs Gruppe 2 Termin 1
END:VEVENT
BEGIN:VEVENT
UID:31633566-3765-4130-b737-323064373031
DTSTAMP:20260425T170015Z
DESCRIPTION:
DTSTART:20251128T091500Z
DTEND:20251128T104500Z
LOCATION:Zeichensaal\, E2.5
SUMMARY:Präsenzübungs Gruppe 2 Termin 2
END:VEVENT
BEGIN:VEVENT
UID:35313638-3431-4237-b334-393539393963
DTSTAMP:20260425T170015Z
DESCRIPTION:
DTSTART:20251202T091500Z
DTEND:20251202T104500Z
LOCATION:Zeichensaal\, E2.5
SUMMARY:Präsenzübungs Gruppe 2 Termin 1
END:VEVENT
BEGIN:VEVENT
UID:66666230-3661-4330-b563-373236626561
DTSTAMP:20260425T170015Z
DESCRIPTION:
DTSTART:20251205T091500Z
DTEND:20251205T104500Z
LOCATION:Zeichensaal\, E2.5
SUMMARY:Präsenzübungs Gruppe 2 Termin 2
END:VEVENT
BEGIN:VEVENT
UID:66363138-3231-4437-a635-316664663230
DTSTAMP:20260425T170015Z
DESCRIPTION:
DTSTART:20251209T091500Z
DTEND:20251209T104500Z
LOCATION:Zeichensaal\, E2.5
SUMMARY:Präsenzübungs Gruppe 2 Termin 1
END:VEVENT
BEGIN:VEVENT
UID:38393137-3839-4232-a230-643132613632
DTSTAMP:20260425T170015Z
DESCRIPTION:
DTSTART:20251212T091500Z
DTEND:20251212T104500Z
LOCATION:Zeichensaal\, E2.5
SUMMARY:Präsenzübungs Gruppe 2 Termin 2
END:VEVENT
BEGIN:VEVENT
UID:62326262-3335-4434-b664-633363626664
DTSTAMP:20260425T170015Z
DESCRIPTION:
DTSTART:20251216T091500Z
DTEND:20251216T104500Z
LOCATION:Zeichensaal\, E2.5
SUMMARY:Präsenzübungs Gruppe 2 Termin 1
END:VEVENT
BEGIN:VEVENT
UID:36383130-6535-4232-b636-333865326461
DTSTAMP:20260425T170015Z
DESCRIPTION:
DTSTART:20251219T091500Z
DTEND:20251219T104500Z
LOCATION:Zeichensaal\, E2.5
SUMMARY:Präsenzübungs Gruppe 2 Termin 2
END:VEVENT
BEGIN:VEVENT
UID:31643838-3439-4265-b937-376664386435
DTSTAMP:20260425T170015Z
DESCRIPTION:
DTSTART:20251223T091500Z
DTEND:20251223T104500Z
LOCATION:Zeichensaal\, E2.5
SUMMARY:Präsenzübungs Gruppe 2 Termin 1
END:VEVENT
BEGIN:VEVENT
UID:35363666-3466-4663-b131-343330316136
DTSTAMP:20260425T170015Z
DESCRIPTION:
DTSTART:20251226T091500Z
DTEND:20251226T104500Z
LOCATION:Zeichensaal\, E2.5
SUMMARY:Präsenzübungs Gruppe 2 Termin 2
END:VEVENT
BEGIN:VEVENT
UID:39316239-3934-4631-b839-353438383834
DTSTAMP:20260425T170015Z
DESCRIPTION:
DTSTART:20251230T091500Z
DTEND:20251230T104500Z
LOCATION:Zeichensaal\, E2.5
SUMMARY:Präsenzübungs Gruppe 2 Termin 1
END:VEVENT
BEGIN:VEVENT
UID:38663134-6632-4835-b334-316136653834
DTSTAMP:20260425T170015Z
DESCRIPTION:
DTSTART:20260102T091500Z
DTEND:20260102T104500Z
LOCATION:Zeichensaal\, E2.5
SUMMARY:Präsenzübungs Gruppe 2 Termin 2
END:VEVENT
BEGIN:VEVENT
UID:66383639-6665-4761-b539-306264636332
DTSTAMP:20260425T170015Z
DESCRIPTION:
DTSTART:20260106T091500Z
DTEND:20260106T104500Z
LOCATION:Zeichensaal\, E2.5
SUMMARY:Präsenzübungs Gruppe 2 Termin 1
END:VEVENT
BEGIN:VEVENT
UID:66386663-6263-4938-b538-356235623334
DTSTAMP:20260425T170015Z
DESCRIPTION:
DTSTART:20260109T091500Z
DTEND:20260109T104500Z
LOCATION:Zeichensaal\, E2.5
SUMMARY:Präsenzübungs Gruppe 2 Termin 2
END:VEVENT
BEGIN:VEVENT
UID:30643462-3435-4332-b961-313539613938
DTSTAMP:20260425T170015Z
DESCRIPTION:
DTSTART:20260113T091500Z
DTEND:20260113T104500Z
LOCATION:Zeichensaal\, E2.5
SUMMARY:Präsenzübungs Gruppe 2 Termin 1
END:VEVENT
BEGIN:VEVENT
UID:61656666-6633-4766-b833-646231356435
DTSTAMP:20260425T170015Z
DESCRIPTION:
DTSTART:20260116T091500Z
DTEND:20260116T104500Z
LOCATION:Zeichensaal\, E2.5
SUMMARY:Präsenzübungs Gruppe 2 Termin 2
END:VEVENT
BEGIN:VEVENT
UID:64616665-3139-4262-b466-353861643836
DTSTAMP:20260425T170015Z
DESCRIPTION:
DTSTART:20260120T091500Z
DTEND:20260120T104500Z
LOCATION:Zeichensaal\, E2.5
SUMMARY:Präsenzübungs Gruppe 2 Termin 1
END:VEVENT
BEGIN:VEVENT
UID:30313663-3765-4663-a263-656664616133
DTSTAMP:20260425T170015Z
DESCRIPTION:
DTSTART:20260123T091500Z
DTEND:20260123T104500Z
LOCATION:Zeichensaal\, E2.5
SUMMARY:Präsenzübungs Gruppe 2 Termin 2
END:VEVENT
BEGIN:VEVENT
UID:31643464-3961-4339-b335-373830366338
DTSTAMP:20260425T170015Z
DESCRIPTION:
DTSTART:20260127T091500Z
DTEND:20260127T104500Z
LOCATION:Zeichensaal\, E2.5
SUMMARY:Präsenzübungs Gruppe 2 Termin 1
END:VEVENT
BEGIN:VEVENT
UID:62663862-6630-4633-a230-313733393530
DTSTAMP:20260425T170015Z
DESCRIPTION:
DTSTART:20260130T091500Z
DTEND:20260130T104500Z
LOCATION:Zeichensaal\, E2.5
SUMMARY:Präsenzübungs Gruppe 2 Termin 2
END:VEVENT
BEGIN:VEVENT
UID:35383139-3832-4035-a232-366162616564
DTSTAMP:20260425T170015Z
DESCRIPTION:
DTSTART:20260203T091500Z
DTEND:20260203T104500Z
LOCATION:Zeichensaal\, E2.5
SUMMARY:Präsenzübungs Gruppe 2 Termin 1
END:VEVENT
BEGIN:VEVENT
UID:32313334-3134-4333-b530-303261363739
DTSTAMP:20260425T170015Z
DESCRIPTION:
DTSTART:20260206T091500Z
DTEND:20260206T104500Z
LOCATION:Zeichensaal\, E2.5
SUMMARY:Präsenzübungs Gruppe 2 Termin 2
END:VEVENT
END:VCALENDAR
