BEGIN:VCALENDAR
VERSION:2.0
PRODID:-//134.96.226.213//NONSGML kigkonsult.se iCalcreator 2.41.92//
CALSCALE:GREGORIAN
METHOD:PUBLISH
UID:66313734-3364-4132-b164-323030613230
X-WR-CALNAME:Höhere Mathematik für Ingenieure I Calendar
X-WR-CALDESC:Termine der Vorlesung Höhere Mathematik für Ingenieure I
X-WR-TIMEZONE:Europe/Berlin
BEGIN:VEVENT
UID:62356139-3435-4965-b734-623765383130
DTSTAMP:20260425T153246Z
DESCRIPTION:
DTSTART:20251027T073000Z
DTEND:20251027T090000Z
LOCATION:Zeichensaal\, E2.5
SUMMARY:Hmi12526: Präsenzübungs Gruppe 1 Termin 1
END:VEVENT
BEGIN:VEVENT
UID:64323265-3539-4635-a261-323466303061
DTSTAMP:20260425T153246Z
DESCRIPTION:
DTSTART:20251030T091500Z
DTEND:20251030T104500Z
LOCATION:SR10\, E2.4
SUMMARY:Hmi12526: Präsenzübungs Gruppe 1 Termin 2
END:VEVENT
BEGIN:VEVENT
UID:63653637-3231-4134-b566-656134306537
DTSTAMP:20260425T153246Z
DESCRIPTION:
DTSTART:20251103T073000Z
DTEND:20251103T090000Z
LOCATION:Zeichensaal\, E2.5
SUMMARY:Hmi12526: Präsenzübungs Gruppe 1 Termin 1
END:VEVENT
BEGIN:VEVENT
UID:63613265-3830-4931-a635-356636306538
DTSTAMP:20260425T153246Z
DESCRIPTION:
DTSTART:20251106T091500Z
DTEND:20251106T104500Z
LOCATION:SR10\, E2.4
SUMMARY:Hmi12526: Präsenzübungs Gruppe 1 Termin 2
END:VEVENT
BEGIN:VEVENT
UID:61323238-6534-4831-b664-666634613932
DTSTAMP:20260425T153246Z
DESCRIPTION:
DTSTART:20251110T073000Z
DTEND:20251110T090000Z
LOCATION:Zeichensaal\, E2.5
SUMMARY:Hmi12526: Präsenzübungs Gruppe 1 Termin 1
END:VEVENT
BEGIN:VEVENT
UID:39613435-6338-4137-a561-623963343839
DTSTAMP:20260425T153246Z
DESCRIPTION:
DTSTART:20251113T091500Z
DTEND:20251113T104500Z
LOCATION:SR10\, E2.4
SUMMARY:Hmi12526: Präsenzübungs Gruppe 1 Termin 2
END:VEVENT
BEGIN:VEVENT
UID:35353964-3362-4630-b762-386231333635
DTSTAMP:20260425T153246Z
DESCRIPTION:
DTSTART:20251117T073000Z
DTEND:20251117T090000Z
LOCATION:Zeichensaal\, E2.5
SUMMARY:Hmi12526: Präsenzübungs Gruppe 1 Termin 1
END:VEVENT
BEGIN:VEVENT
UID:64343961-3764-4336-b235-323563623965
DTSTAMP:20260425T153246Z
DESCRIPTION:
DTSTART:20251120T091500Z
DTEND:20251120T104500Z
LOCATION:SR10\, E2.4
SUMMARY:Hmi12526: Präsenzübungs Gruppe 1 Termin 2
END:VEVENT
BEGIN:VEVENT
UID:62303637-3530-4138-a531-313961643338
DTSTAMP:20260425T153246Z
DESCRIPTION:
DTSTART:20251124T073000Z
DTEND:20251124T090000Z
LOCATION:Zeichensaal\, E2.5
SUMMARY:Hmi12526: Präsenzübungs Gruppe 1 Termin 1
END:VEVENT
BEGIN:VEVENT
UID:38363932-6437-4236-b234-386530613565
DTSTAMP:20260425T153246Z
DESCRIPTION:
DTSTART:20251127T091500Z
DTEND:20251127T104500Z
LOCATION:SR10\, E2.4
SUMMARY:Hmi12526: Präsenzübungs Gruppe 1 Termin 2
END:VEVENT
BEGIN:VEVENT
UID:35356566-3037-4566-a131-356364353132
DTSTAMP:20260425T153246Z
DESCRIPTION:
DTSTART:20251201T073000Z
DTEND:20251201T090000Z
LOCATION:Zeichensaal\, E2.5
SUMMARY:Hmi12526: Präsenzübungs Gruppe 1 Termin 1
END:VEVENT
BEGIN:VEVENT
UID:37383834-3537-4665-b265-656635633262
DTSTAMP:20260425T153246Z
DESCRIPTION:
DTSTART:20251204T091500Z
DTEND:20251204T104500Z
LOCATION:SR10\, E2.4
SUMMARY:Hmi12526: Präsenzübungs Gruppe 1 Termin 2
END:VEVENT
BEGIN:VEVENT
UID:31643938-3464-4634-a130-663533346634
DTSTAMP:20260425T153246Z
DESCRIPTION:
DTSTART:20251208T073000Z
DTEND:20251208T090000Z
LOCATION:Zeichensaal\, E2.5
SUMMARY:Hmi12526: Präsenzübungs Gruppe 1 Termin 1
END:VEVENT
BEGIN:VEVENT
UID:38336663-6135-4330-b662-643133366239
DTSTAMP:20260425T153246Z
DESCRIPTION:
DTSTART:20251211T091500Z
DTEND:20251211T104500Z
LOCATION:SR10\, E2.4
SUMMARY:Hmi12526: Präsenzübungs Gruppe 1 Termin 2
END:VEVENT
BEGIN:VEVENT
UID:61616438-6662-4434-a236-326632613964
DTSTAMP:20260425T153246Z
DESCRIPTION:
DTSTART:20251215T073000Z
DTEND:20251215T090000Z
LOCATION:Zeichensaal\, E2.5
SUMMARY:Hmi12526: Präsenzübungs Gruppe 1 Termin 1
END:VEVENT
BEGIN:VEVENT
UID:61396438-3333-4462-b463-363039393762
DTSTAMP:20260425T153246Z
DESCRIPTION:
DTSTART:20251218T091500Z
DTEND:20251218T104500Z
LOCATION:SR10\, E2.4
SUMMARY:Hmi12526: Präsenzübungs Gruppe 1 Termin 2
END:VEVENT
BEGIN:VEVENT
UID:64386462-3836-4166-a661-326239633866
DTSTAMP:20260425T153246Z
DESCRIPTION:
DTSTART:20251222T073000Z
DTEND:20251222T090000Z
LOCATION:Zeichensaal\, E2.5
SUMMARY:Hmi12526: Präsenzübungs Gruppe 1 Termin 1
END:VEVENT
BEGIN:VEVENT
UID:32336361-6233-4339-b831-366562366464
DTSTAMP:20260425T153246Z
DESCRIPTION:
DTSTART:20251225T091500Z
DTEND:20251225T104500Z
LOCATION:SR10\, E2.4
SUMMARY:Hmi12526: Präsenzübungs Gruppe 1 Termin 2
END:VEVENT
BEGIN:VEVENT
UID:63353565-6165-4532-b261-633934376463
DTSTAMP:20260425T153246Z
DESCRIPTION:
DTSTART:20251229T073000Z
DTEND:20251229T090000Z
LOCATION:Zeichensaal\, E2.5
SUMMARY:Hmi12526: Präsenzübungs Gruppe 1 Termin 1
END:VEVENT
BEGIN:VEVENT
UID:30376564-3733-4862-b165-313236343331
DTSTAMP:20260425T153246Z
DESCRIPTION:
DTSTART:20260101T091500Z
DTEND:20260101T104500Z
LOCATION:SR10\, E2.4
SUMMARY:Hmi12526: Präsenzübungs Gruppe 1 Termin 2
END:VEVENT
BEGIN:VEVENT
UID:37663038-6262-4630-a161-663735353463
DTSTAMP:20260425T153246Z
DESCRIPTION:
DTSTART:20260105T073000Z
DTEND:20260105T090000Z
LOCATION:Zeichensaal\, E2.5
SUMMARY:Hmi12526: Präsenzübungs Gruppe 1 Termin 1
END:VEVENT
BEGIN:VEVENT
UID:36333362-3565-4332-a436-336133343634
DTSTAMP:20260425T153246Z
DESCRIPTION:
DTSTART:20260108T091500Z
DTEND:20260108T104500Z
LOCATION:SR10\, E2.4
SUMMARY:Hmi12526: Präsenzübungs Gruppe 1 Termin 2
END:VEVENT
BEGIN:VEVENT
UID:63373036-3738-4163-a331-323437613865
DTSTAMP:20260425T153246Z
DESCRIPTION:
DTSTART:20260112T073000Z
DTEND:20260112T090000Z
LOCATION:Zeichensaal\, E2.5
SUMMARY:Hmi12526: Präsenzübungs Gruppe 1 Termin 1
END:VEVENT
BEGIN:VEVENT
UID:65383763-3134-4438-b938-333732343265
DTSTAMP:20260425T153246Z
DESCRIPTION:
DTSTART:20260115T091500Z
DTEND:20260115T104500Z
LOCATION:SR10\, E2.4
SUMMARY:Hmi12526: Präsenzübungs Gruppe 1 Termin 2
END:VEVENT
BEGIN:VEVENT
UID:65643337-3231-4730-b964-653565646362
DTSTAMP:20260425T153246Z
DESCRIPTION:
DTSTART:20260119T073000Z
DTEND:20260119T090000Z
LOCATION:Zeichensaal\, E2.5
SUMMARY:Hmi12526: Präsenzübungs Gruppe 1 Termin 1
END:VEVENT
BEGIN:VEVENT
UID:31393333-6337-4430-b131-336662376263
DTSTAMP:20260425T153246Z
DESCRIPTION:
DTSTART:20260122T091500Z
DTEND:20260122T104500Z
LOCATION:SR10\, E2.4
SUMMARY:Hmi12526: Präsenzübungs Gruppe 1 Termin 2
END:VEVENT
BEGIN:VEVENT
UID:36313362-3064-4932-a466-353830623765
DTSTAMP:20260425T153246Z
DESCRIPTION:
DTSTART:20260126T073000Z
DTEND:20260126T090000Z
LOCATION:Zeichensaal\, E2.5
SUMMARY:Hmi12526: Präsenzübungs Gruppe 1 Termin 1
END:VEVENT
BEGIN:VEVENT
UID:61336236-3663-4236-b839-353730313132
DTSTAMP:20260425T153246Z
DESCRIPTION:
DTSTART:20260129T091500Z
DTEND:20260129T104500Z
LOCATION:SR10\, E2.4
SUMMARY:Hmi12526: Präsenzübungs Gruppe 1 Termin 2
END:VEVENT
BEGIN:VEVENT
UID:39393233-6664-4562-b865-326463666262
DTSTAMP:20260425T153246Z
DESCRIPTION:
DTSTART:20260202T073000Z
DTEND:20260202T090000Z
LOCATION:Zeichensaal\, E2.5
SUMMARY:Hmi12526: Präsenzübungs Gruppe 1 Termin 1
END:VEVENT
BEGIN:VEVENT
UID:64306538-3035-4439-a464-396233663266
DTSTAMP:20260425T153246Z
DESCRIPTION:
DTSTART:20260205T091500Z
DTEND:20260205T104500Z
LOCATION:SR10\, E2.4
SUMMARY:Hmi12526: Präsenzübungs Gruppe 1 Termin 2
END:VEVENT
END:VCALENDAR
