BEGIN:VCALENDAR
VERSION:2.0
PRODID:-//134.96.226.213//NONSGML kigkonsult.se iCalcreator 2.41.92//
CALSCALE:GREGORIAN
METHOD:PUBLISH
UID:31653136-3538-4262-b737-396234666363
X-WR-CALNAME:Höhere Mathematik für Ingenieure I Calendar
X-WR-CALDESC:Termine der Vorlesung Höhere Mathematik für Ingenieure I
X-WR-TIMEZONE:Europe/Berlin
BEGIN:VEVENT
UID:33373364-3537-4432-a535-383364346631
DTSTAMP:20260425T153202Z
DESCRIPTION:
DTSTART:20251027T073000Z
DTEND:20251027T090000Z
LOCATION:Zeichensaal\, E2.5
SUMMARY:Präsenzübungs Gruppe 1 Termin 1
END:VEVENT
BEGIN:VEVENT
UID:32346132-6363-4465-a565-343063656665
DTSTAMP:20260425T153202Z
DESCRIPTION:
DTSTART:20251030T091500Z
DTEND:20251030T104500Z
LOCATION:SR10\, E2.4
SUMMARY:Präsenzübungs Gruppe 1 Termin 2
END:VEVENT
BEGIN:VEVENT
UID:65333731-3566-4661-a363-366264366437
DTSTAMP:20260425T153202Z
DESCRIPTION:
DTSTART:20251103T073000Z
DTEND:20251103T090000Z
LOCATION:Zeichensaal\, E2.5
SUMMARY:Präsenzübungs Gruppe 1 Termin 1
END:VEVENT
BEGIN:VEVENT
UID:31386531-6536-4731-a364-663131363233
DTSTAMP:20260425T153202Z
DESCRIPTION:
DTSTART:20251106T091500Z
DTEND:20251106T104500Z
LOCATION:SR10\, E2.4
SUMMARY:Präsenzübungs Gruppe 1 Termin 2
END:VEVENT
BEGIN:VEVENT
UID:64353635-3638-4234-b365-613631366535
DTSTAMP:20260425T153202Z
DESCRIPTION:
DTSTART:20251110T073000Z
DTEND:20251110T090000Z
LOCATION:Zeichensaal\, E2.5
SUMMARY:Präsenzübungs Gruppe 1 Termin 1
END:VEVENT
BEGIN:VEVENT
UID:64613737-6331-4361-b234-663262373633
DTSTAMP:20260425T153202Z
DESCRIPTION:
DTSTART:20251113T091500Z
DTEND:20251113T104500Z
LOCATION:SR10\, E2.4
SUMMARY:Präsenzübungs Gruppe 1 Termin 2
END:VEVENT
BEGIN:VEVENT
UID:32303064-3537-4965-a464-306463643562
DTSTAMP:20260425T153202Z
DESCRIPTION:
DTSTART:20251117T073000Z
DTEND:20251117T090000Z
LOCATION:Zeichensaal\, E2.5
SUMMARY:Präsenzübungs Gruppe 1 Termin 1
END:VEVENT
BEGIN:VEVENT
UID:62623761-6330-4134-b764-666165383533
DTSTAMP:20260425T153202Z
DESCRIPTION:
DTSTART:20251120T091500Z
DTEND:20251120T104500Z
LOCATION:SR10\, E2.4
SUMMARY:Präsenzübungs Gruppe 1 Termin 2
END:VEVENT
BEGIN:VEVENT
UID:36643962-3466-4236-b132-376162636439
DTSTAMP:20260425T153202Z
DESCRIPTION:
DTSTART:20251124T073000Z
DTEND:20251124T090000Z
LOCATION:Zeichensaal\, E2.5
SUMMARY:Präsenzübungs Gruppe 1 Termin 1
END:VEVENT
BEGIN:VEVENT
UID:31623365-6130-4134-b833-376537383164
DTSTAMP:20260425T153202Z
DESCRIPTION:
DTSTART:20251127T091500Z
DTEND:20251127T104500Z
LOCATION:SR10\, E2.4
SUMMARY:Präsenzübungs Gruppe 1 Termin 2
END:VEVENT
BEGIN:VEVENT
UID:32643739-3637-4235-b061-316436613166
DTSTAMP:20260425T153202Z
DESCRIPTION:
DTSTART:20251201T073000Z
DTEND:20251201T090000Z
LOCATION:Zeichensaal\, E2.5
SUMMARY:Präsenzübungs Gruppe 1 Termin 1
END:VEVENT
BEGIN:VEVENT
UID:35376464-6563-4235-b432-363066373731
DTSTAMP:20260425T153202Z
DESCRIPTION:
DTSTART:20251204T091500Z
DTEND:20251204T104500Z
LOCATION:SR10\, E2.4
SUMMARY:Präsenzübungs Gruppe 1 Termin 2
END:VEVENT
BEGIN:VEVENT
UID:66653239-6461-4432-b131-323866323635
DTSTAMP:20260425T153202Z
DESCRIPTION:
DTSTART:20251208T073000Z
DTEND:20251208T090000Z
LOCATION:Zeichensaal\, E2.5
SUMMARY:Präsenzübungs Gruppe 1 Termin 1
END:VEVENT
BEGIN:VEVENT
UID:33333935-6464-4337-a536-353330653137
DTSTAMP:20260425T153202Z
DESCRIPTION:
DTSTART:20251211T091500Z
DTEND:20251211T104500Z
LOCATION:SR10\, E2.4
SUMMARY:Präsenzübungs Gruppe 1 Termin 2
END:VEVENT
BEGIN:VEVENT
UID:34343764-6134-4632-a237-353461663035
DTSTAMP:20260425T153202Z
DESCRIPTION:
DTSTART:20251215T073000Z
DTEND:20251215T090000Z
LOCATION:Zeichensaal\, E2.5
SUMMARY:Präsenzübungs Gruppe 1 Termin 1
END:VEVENT
BEGIN:VEVENT
UID:30306163-3639-4765-b638-613962356338
DTSTAMP:20260425T153202Z
DESCRIPTION:
DTSTART:20251218T091500Z
DTEND:20251218T104500Z
LOCATION:SR10\, E2.4
SUMMARY:Präsenzübungs Gruppe 1 Termin 2
END:VEVENT
BEGIN:VEVENT
UID:61373237-3339-4462-b231-613839343261
DTSTAMP:20260425T153202Z
DESCRIPTION:
DTSTART:20251222T073000Z
DTEND:20251222T090000Z
LOCATION:Zeichensaal\, E2.5
SUMMARY:Präsenzübungs Gruppe 1 Termin 1
END:VEVENT
BEGIN:VEVENT
UID:62333465-6436-4139-b239-373463386261
DTSTAMP:20260425T153202Z
DESCRIPTION:
DTSTART:20251225T091500Z
DTEND:20251225T104500Z
LOCATION:SR10\, E2.4
SUMMARY:Präsenzübungs Gruppe 1 Termin 2
END:VEVENT
BEGIN:VEVENT
UID:32616565-3263-4430-b564-353162343563
DTSTAMP:20260425T153202Z
DESCRIPTION:
DTSTART:20251229T073000Z
DTEND:20251229T090000Z
LOCATION:Zeichensaal\, E2.5
SUMMARY:Präsenzübungs Gruppe 1 Termin 1
END:VEVENT
BEGIN:VEVENT
UID:30356139-3632-4935-b435-646231623238
DTSTAMP:20260425T153202Z
DESCRIPTION:
DTSTART:20260101T091500Z
DTEND:20260101T104500Z
LOCATION:SR10\, E2.4
SUMMARY:Präsenzübungs Gruppe 1 Termin 2
END:VEVENT
BEGIN:VEVENT
UID:63626633-3964-4431-b437-646263373662
DTSTAMP:20260425T153202Z
DESCRIPTION:
DTSTART:20260105T073000Z
DTEND:20260105T090000Z
LOCATION:Zeichensaal\, E2.5
SUMMARY:Präsenzübungs Gruppe 1 Termin 1
END:VEVENT
BEGIN:VEVENT
UID:39613837-3265-4431-a136-613264643635
DTSTAMP:20260425T153202Z
DESCRIPTION:
DTSTART:20260108T091500Z
DTEND:20260108T104500Z
LOCATION:SR10\, E2.4
SUMMARY:Präsenzübungs Gruppe 1 Termin 2
END:VEVENT
BEGIN:VEVENT
UID:62666663-3864-4533-a331-336433316164
DTSTAMP:20260425T153202Z
DESCRIPTION:
DTSTART:20260112T073000Z
DTEND:20260112T090000Z
LOCATION:Zeichensaal\, E2.5
SUMMARY:Präsenzübungs Gruppe 1 Termin 1
END:VEVENT
BEGIN:VEVENT
UID:61613865-3762-4461-b339-636131383238
DTSTAMP:20260425T153202Z
DESCRIPTION:
DTSTART:20260115T091500Z
DTEND:20260115T104500Z
LOCATION:SR10\, E2.4
SUMMARY:Präsenzübungs Gruppe 1 Termin 2
END:VEVENT
BEGIN:VEVENT
UID:33613432-6164-4638-a231-383831383334
DTSTAMP:20260425T153202Z
DESCRIPTION:
DTSTART:20260119T073000Z
DTEND:20260119T090000Z
LOCATION:Zeichensaal\, E2.5
SUMMARY:Präsenzübungs Gruppe 1 Termin 1
END:VEVENT
BEGIN:VEVENT
UID:65643761-3731-4664-b330-356533626433
DTSTAMP:20260425T153202Z
DESCRIPTION:
DTSTART:20260122T091500Z
DTEND:20260122T104500Z
LOCATION:SR10\, E2.4
SUMMARY:Präsenzübungs Gruppe 1 Termin 2
END:VEVENT
BEGIN:VEVENT
UID:63386239-3762-4462-b030-396263363537
DTSTAMP:20260425T153202Z
DESCRIPTION:
DTSTART:20260126T073000Z
DTEND:20260126T090000Z
LOCATION:Zeichensaal\, E2.5
SUMMARY:Präsenzübungs Gruppe 1 Termin 1
END:VEVENT
BEGIN:VEVENT
UID:62313737-3038-4564-b663-386338383233
DTSTAMP:20260425T153202Z
DESCRIPTION:
DTSTART:20260129T091500Z
DTEND:20260129T104500Z
LOCATION:SR10\, E2.4
SUMMARY:Präsenzübungs Gruppe 1 Termin 2
END:VEVENT
BEGIN:VEVENT
UID:66643165-3963-4234-b334-643135313561
DTSTAMP:20260425T153202Z
DESCRIPTION:
DTSTART:20260202T073000Z
DTEND:20260202T090000Z
LOCATION:Zeichensaal\, E2.5
SUMMARY:Präsenzübungs Gruppe 1 Termin 1
END:VEVENT
BEGIN:VEVENT
UID:33363932-3632-4334-b966-393063336332
DTSTAMP:20260425T153202Z
DESCRIPTION:
DTSTART:20260205T091500Z
DTEND:20260205T104500Z
LOCATION:SR10\, E2.4
SUMMARY:Präsenzübungs Gruppe 1 Termin 2
END:VEVENT
END:VCALENDAR
