BEGIN:VCALENDAR
VERSION:2.0
PRODID:-//134.96.226.213//NONSGML kigkonsult.se iCalcreator 2.41.71//
CALSCALE:GREGORIAN
METHOD:PUBLISH
UID:38373936-3636-4136-b565-346565373530
X-WR-CALNAME:High Level Computer Vision Calendar
X-WR-CALDESC:Events of the lecture High Level Computer Vision
X-WR-TIMEZONE:Europe/Berlin
BEGIN:VEVENT
UID:38353034-3335-4139-b435-376633633663
DTSTAMP:20260419T125813Z
DESCRIPTION:
DTSTART:20210414T080000Z
DTEND:20210414T100000Z
SUMMARY:Hlcvss21: Lectures
END:VEVENT
BEGIN:VEVENT
UID:39353535-3763-4338-b033-316362306330
DTSTAMP:20260419T125813Z
DESCRIPTION:
DTSTART:20210419T080000Z
DTEND:20210419T100000Z
SUMMARY:Hlcvss21: Tutorials
END:VEVENT
BEGIN:VEVENT
UID:39343963-6234-4237-b035-646336376536
DTSTAMP:20260419T125813Z
DESCRIPTION:
DTSTART:20210421T080000Z
DTEND:20210421T100000Z
SUMMARY:Hlcvss21: Lectures
END:VEVENT
BEGIN:VEVENT
UID:62663933-3261-4635-a361-653866333435
DTSTAMP:20260419T125813Z
DESCRIPTION:
DTSTART:20210428T080000Z
DTEND:20210428T100000Z
SUMMARY:Hlcvss21: Lectures
END:VEVENT
BEGIN:VEVENT
UID:34363031-6636-4336-a136-663536666236
DTSTAMP:20260419T125813Z
DESCRIPTION:
DTSTART:20210503T080000Z
DTEND:20210503T100000Z
SUMMARY:Hlcvss21: Tutorials
END:VEVENT
BEGIN:VEVENT
UID:39333035-6263-4238-a366-626438373138
DTSTAMP:20260419T125813Z
DESCRIPTION:
DTSTART:20210505T080000Z
DTEND:20210505T100000Z
SUMMARY:Hlcvss21: Lectures
END:VEVENT
BEGIN:VEVENT
UID:32623664-3866-4761-a235-303534643332
DTSTAMP:20260419T125813Z
DESCRIPTION:
DTSTART:20210512T080000Z
DTEND:20210512T100000Z
SUMMARY:Hlcvss21: Lectures
END:VEVENT
BEGIN:VEVENT
UID:62613632-6639-4266-b739-663336323339
DTSTAMP:20260419T125813Z
DESCRIPTION:
DTSTART:20210517T080000Z
DTEND:20210517T100000Z
SUMMARY:Hlcvss21: Tutorials
END:VEVENT
BEGIN:VEVENT
UID:34333131-3963-4261-b664-666335663637
DTSTAMP:20260419T125813Z
DESCRIPTION:
DTSTART:20210519T080000Z
DTEND:20210519T100000Z
SUMMARY:Hlcvss21: Lectures
END:VEVENT
BEGIN:VEVENT
UID:31393564-6532-4135-b961-383233616536
DTSTAMP:20260419T125813Z
DESCRIPTION:
DTSTART:20210526T080000Z
DTEND:20210526T100000Z
SUMMARY:Hlcvss21: Lectures
END:VEVENT
BEGIN:VEVENT
UID:34666364-6631-4534-b631-663134346538
DTSTAMP:20260419T125813Z
DESCRIPTION:
DTSTART:20210531T080000Z
DTEND:20210531T100000Z
SUMMARY:Hlcvss21: Tutorials
END:VEVENT
BEGIN:VEVENT
UID:31336166-6162-4437-b435-646530326664
DTSTAMP:20260419T125813Z
DESCRIPTION:
DTSTART:20210602T080000Z
DTEND:20210602T100000Z
SUMMARY:Hlcvss21: Lectures
END:VEVENT
BEGIN:VEVENT
UID:35376564-6631-4230-b136-303933376161
DTSTAMP:20260419T125813Z
DESCRIPTION:
DTSTART:20210607T080000Z
DTEND:20210607T100000Z
SUMMARY:Hlcvss21: Tutorials
END:VEVENT
BEGIN:VEVENT
UID:34396362-6633-4630-b838-636666393232
DTSTAMP:20260419T125813Z
DESCRIPTION:
DTSTART:20210609T080000Z
DTEND:20210609T100000Z
SUMMARY:Hlcvss21: Lectures
END:VEVENT
BEGIN:VEVENT
UID:39383863-3533-4261-b666-323338346631
DTSTAMP:20260419T125813Z
DESCRIPTION:
DTSTART:20210614T080000Z
DTEND:20210614T100000Z
SUMMARY:Hlcvss21: Tutorials
END:VEVENT
BEGIN:VEVENT
UID:32323330-3063-4432-b439-366462333533
DTSTAMP:20260419T125813Z
DESCRIPTION:
DTSTART:20210616T080000Z
DTEND:20210616T100000Z
SUMMARY:Hlcvss21: Lectures
END:VEVENT
BEGIN:VEVENT
UID:33313734-6638-4133-b362-633833616163
DTSTAMP:20260419T125813Z
DESCRIPTION:
DTSTART:20210621T080000Z
DTEND:20210621T100000Z
SUMMARY:Hlcvss21: Tutorials
END:VEVENT
BEGIN:VEVENT
UID:30363862-6134-4738-b562-303630383330
DTSTAMP:20260419T125813Z
DESCRIPTION:
DTSTART:20210623T080000Z
DTEND:20210623T100000Z
SUMMARY:Hlcvss21: Lectures
END:VEVENT
BEGIN:VEVENT
UID:36646462-3837-4865-b762-346339316165
DTSTAMP:20260419T125813Z
DESCRIPTION:
DTSTART:20210628T080000Z
DTEND:20210628T100000Z
SUMMARY:Hlcvss21: Tutorials
END:VEVENT
BEGIN:VEVENT
UID:37643863-3561-4661-b338-373034313166
DTSTAMP:20260419T125813Z
DESCRIPTION:
DTSTART:20210630T080000Z
DTEND:20210630T100000Z
SUMMARY:Hlcvss21: Lectures
END:VEVENT
BEGIN:VEVENT
UID:61393033-3237-4039-b364-616239373536
DTSTAMP:20260419T125813Z
DESCRIPTION:
DTSTART:20210705T080000Z
DTEND:20210705T100000Z
SUMMARY:Hlcvss21: Tutorials
END:VEVENT
BEGIN:VEVENT
UID:34313561-3564-4536-a333-383933376630
DTSTAMP:20260419T125813Z
DESCRIPTION:
DTSTART:20210707T080000Z
DTEND:20210707T100000Z
SUMMARY:Hlcvss21: Lectures
END:VEVENT
BEGIN:VEVENT
UID:37363339-6665-4135-b362-303235346234
DTSTAMP:20260419T125813Z
DESCRIPTION:
DTSTART:20210712T080000Z
DTEND:20210712T100000Z
SUMMARY:Hlcvss21: Tutorials
END:VEVENT
BEGIN:VEVENT
UID:61353830-3362-4832-b563-633863386632
DTSTAMP:20260419T125813Z
DESCRIPTION:
DTSTART:20210714T080000Z
DTEND:20210714T100000Z
SUMMARY:Hlcvss21: Lectures
END:VEVENT
END:VCALENDAR
