BEGIN:VCALENDAR
VERSION:2.0
PRODID:-//134.96.226.213//NONSGML kigkonsult.se iCalcreator 2.41.71//
CALSCALE:GREGORIAN
METHOD:PUBLISH
UID:31633836-6636-4166-a461-316133303462
X-WR-CALNAME:High Level Computer Vision Calendar
X-WR-CALDESC:Events of the lecture High Level Computer Vision
X-WR-TIMEZONE:Europe/Berlin
BEGIN:VEVENT
UID:30343830-6137-4161-b539-663738643063
DTSTAMP:20260419T125824Z
DESCRIPTION:
DTSTART:20210414T080000Z
DTEND:20210414T100000Z
SUMMARY:Lectures
END:VEVENT
BEGIN:VEVENT
UID:38643863-3334-4466-b539-353961306635
DTSTAMP:20260419T125824Z
DESCRIPTION:
DTSTART:20210421T080000Z
DTEND:20210421T100000Z
SUMMARY:Lectures
END:VEVENT
BEGIN:VEVENT
UID:33623030-6332-4162-a632-636166663736
DTSTAMP:20260419T125824Z
DESCRIPTION:
DTSTART:20210428T080000Z
DTEND:20210428T100000Z
SUMMARY:Lectures
END:VEVENT
BEGIN:VEVENT
UID:36663466-3461-4235-b266-306338353931
DTSTAMP:20260419T125824Z
DESCRIPTION:
DTSTART:20210505T080000Z
DTEND:20210505T100000Z
SUMMARY:Lectures
END:VEVENT
BEGIN:VEVENT
UID:61346234-3338-4864-b438-373465393338
DTSTAMP:20260419T125824Z
DESCRIPTION:
DTSTART:20210512T080000Z
DTEND:20210512T100000Z
SUMMARY:Lectures
END:VEVENT
BEGIN:VEVENT
UID:31356632-6661-4431-b833-373561303134
DTSTAMP:20260419T125824Z
DESCRIPTION:
DTSTART:20210519T080000Z
DTEND:20210519T100000Z
SUMMARY:Lectures
END:VEVENT
BEGIN:VEVENT
UID:63646332-3134-4234-a434-373061663337
DTSTAMP:20260419T125824Z
DESCRIPTION:
DTSTART:20210526T080000Z
DTEND:20210526T100000Z
SUMMARY:Lectures
END:VEVENT
BEGIN:VEVENT
UID:62386638-6265-4630-b762-346639626264
DTSTAMP:20260419T125824Z
DESCRIPTION:
DTSTART:20210602T080000Z
DTEND:20210602T100000Z
SUMMARY:Lectures
END:VEVENT
BEGIN:VEVENT
UID:36643932-6362-4339-b330-633939656566
DTSTAMP:20260419T125824Z
DESCRIPTION:
DTSTART:20210609T080000Z
DTEND:20210609T100000Z
SUMMARY:Lectures
END:VEVENT
BEGIN:VEVENT
UID:65306237-6161-4731-b664-643037643566
DTSTAMP:20260419T125824Z
DESCRIPTION:
DTSTART:20210616T080000Z
DTEND:20210616T100000Z
SUMMARY:Lectures
END:VEVENT
BEGIN:VEVENT
UID:35333235-3265-4537-a562-363036373639
DTSTAMP:20260419T125824Z
DESCRIPTION:
DTSTART:20210623T080000Z
DTEND:20210623T100000Z
SUMMARY:Lectures
END:VEVENT
BEGIN:VEVENT
UID:61633431-6635-4631-b264-396163313765
DTSTAMP:20260419T125824Z
DESCRIPTION:
DTSTART:20210630T080000Z
DTEND:20210630T100000Z
SUMMARY:Lectures
END:VEVENT
BEGIN:VEVENT
UID:34336366-6161-4336-a238-643030666261
DTSTAMP:20260419T125824Z
DESCRIPTION:
DTSTART:20210707T080000Z
DTEND:20210707T100000Z
SUMMARY:Lectures
END:VEVENT
BEGIN:VEVENT
UID:33336464-3131-4638-b361-616464346333
DTSTAMP:20260419T125824Z
DESCRIPTION:
DTSTART:20210714T080000Z
DTEND:20210714T100000Z
SUMMARY:Lectures
END:VEVENT
END:VCALENDAR
